BEGIN:VCALENDAR
VERSION:2.0
PRODID:-//First United Church of Christ in Milford - ECPv6.15.17.1//NONSGML v1.0//EN
CALSCALE:GREGORIAN
METHOD:PUBLISH
X-ORIGINAL-URL:https://firstchurchofmilford.org
X-WR-CALDESC:Events for First United Church of Christ in Milford
REFRESH-INTERVAL;VALUE=DURATION:PT1H
X-Robots-Tag:noindex
X-PUBLISHED-TTL:PT1H
BEGIN:VTIMEZONE
TZID:America/New_York
BEGIN:DAYLIGHT
TZOFFSETFROM:-0500
TZOFFSETTO:-0400
TZNAME:EDT
DTSTART:20240310T070000
END:DAYLIGHT
BEGIN:STANDARD
TZOFFSETFROM:-0400
TZOFFSETTO:-0500
TZNAME:EST
DTSTART:20241103T060000
END:STANDARD
BEGIN:DAYLIGHT
TZOFFSETFROM:-0500
TZOFFSETTO:-0400
TZNAME:EDT
DTSTART:20250309T070000
END:DAYLIGHT
BEGIN:STANDARD
TZOFFSETFROM:-0400
TZOFFSETTO:-0500
TZNAME:EST
DTSTART:20251102T060000
END:STANDARD
BEGIN:DAYLIGHT
TZOFFSETFROM:-0500
TZOFFSETTO:-0400
TZNAME:EDT
DTSTART:20260308T070000
END:DAYLIGHT
BEGIN:STANDARD
TZOFFSETFROM:-0400
TZOFFSETTO:-0500
TZNAME:EST
DTSTART:20261101T060000
END:STANDARD
BEGIN:DAYLIGHT
TZOFFSETFROM:-0500
TZOFFSETTO:-0400
TZNAME:EDT
DTSTART:20270314T070000
END:DAYLIGHT
BEGIN:STANDARD
TZOFFSETFROM:-0400
TZOFFSETTO:-0500
TZNAME:EST
DTSTART:20271107T060000
END:STANDARD
END:VTIMEZONE
BEGIN:VEVENT
DTSTART;TZID=America/New_York:20260303T190000
DTEND;TZID=America/New_York:20260303T200000
DTSTAMP:20260419T091216
CREATED:20260226T162526Z
LAST-MODIFIED:20260226T162526Z
UID:10004305-1772564400-1772568000@firstchurchofmilford.org
SUMMARY:Strategic Planning Committee Meeting
DESCRIPTION:
URL:https://firstchurchofmilford.org/event/strategic-planning-committee-meeting/
LOCATION:Church Library\, 34 West Main St\, Milford\, CT\, 06460\, United States
END:VEVENT
BEGIN:VEVENT
DTSTART;TZID=America/New_York:20260105T190000
DTEND;TZID=America/New_York:20260105T200000
DTSTAMP:20260419T091216
CREATED:20251008T133456Z
LAST-MODIFIED:20251218T183648Z
UID:10004271-1767639600-1767643200@firstchurchofmilford.org
SUMMARY:Strategic Planning Committee Meeting
DESCRIPTION:
URL:https://firstchurchofmilford.org/event/strategic-planning-committee-meeting-zoom/2026-01-05/
LOCATION:Fellowship Hall\, 34 West Main St\, Milford\, CT\, 06460\, United States
END:VEVENT
BEGIN:VEVENT
DTSTART;TZID=America/New_York:20251110T190000
DTEND;TZID=America/New_York:20251110T200000
DTSTAMP:20260419T091216
CREATED:20251008T133456Z
LAST-MODIFIED:20251218T183648Z
UID:10003967-1762801200-1762804800@firstchurchofmilford.org
SUMMARY:Strategic Planning Committee Meeting
DESCRIPTION:
URL:https://firstchurchofmilford.org/event/strategic-planning-committee-meeting-zoom/2025-11-10/
LOCATION:Fellowship Hall\, 34 West Main St\, Milford\, CT\, 06460\, United States
END:VEVENT
END:VCALENDAR