BEGIN:VCALENDAR
VERSION:2.0
PRODID:-//First United Church of Christ in Milford - ECPv6.15.17.1//NONSGML v1.0//EN
CALSCALE:GREGORIAN
METHOD:PUBLISH
X-ORIGINAL-URL:https://firstchurchofmilford.org
X-WR-CALDESC:Events for First United Church of Christ in Milford
REFRESH-INTERVAL;VALUE=DURATION:PT1H
X-Robots-Tag:noindex
X-PUBLISHED-TTL:PT1H
BEGIN:VTIMEZONE
TZID:America/New_York
BEGIN:DAYLIGHT
TZOFFSETFROM:-0500
TZOFFSETTO:-0400
TZNAME:EDT
DTSTART:20290311T070000
END:DAYLIGHT
BEGIN:STANDARD
TZOFFSETFROM:-0400
TZOFFSETTO:-0500
TZNAME:EST
DTSTART:20291104T060000
END:STANDARD
BEGIN:DAYLIGHT
TZOFFSETFROM:-0500
TZOFFSETTO:-0400
TZNAME:EDT
DTSTART:20300310T070000
END:DAYLIGHT
BEGIN:STANDARD
TZOFFSETFROM:-0400
TZOFFSETTO:-0500
TZNAME:EST
DTSTART:20301103T060000
END:STANDARD
BEGIN:DAYLIGHT
TZOFFSETFROM:-0500
TZOFFSETTO:-0400
TZNAME:EDT
DTSTART:20310309T070000
END:DAYLIGHT
BEGIN:STANDARD
TZOFFSETFROM:-0400
TZOFFSETTO:-0500
TZNAME:EST
DTSTART:20311102T060000
END:STANDARD
END:VTIMEZONE
BEGIN:VEVENT
DTSTART;TZID=America/New_York:20300307T180000
DTEND;TZID=America/New_York:20300307T193000
DTSTAMP:20260421T101328
CREATED:20251206T191046Z
LAST-MODIFIED:20260226T163425Z
UID:10004054-1899136800-1899142200@firstchurchofmilford.org
SUMMARY:Knit Night at First United Church\, Milford
DESCRIPTION:Knit Night meets the First Thursday of each month.  Bring your knitting\, sewing\, crocheting\, scrapbooking\, journaling\, planner…anything that helps you feel creative!  Contact Kelsey DeCarlo with any questions at kgambleucc@gmail.com.
URL:https://firstchurchofmilford.org/event/knit-night-canceled-for-tonight-2/2030-03-07/
LOCATION:Fellowship Hall\, 34 West Main St\, Milford\, CT\, 06460\, United States
ATTACH;FMTTYPE=image/jpeg:https://firstchurchofmilford.org/wp-content/uploads/2025/10/Knit-night.jpeg
END:VEVENT
BEGIN:VEVENT
DTSTART;TZID=America/New_York:20300311T190000
DTEND;TZID=America/New_York:20300311T200000
DTSTAMP:20260421T101328
CREATED:20260226T163901Z
LAST-MODIFIED:20260226T164001Z
UID:10004487-1899486000-1899489600@firstchurchofmilford.org
SUMMARY:Diaconate Ministry Meeting
DESCRIPTION:
URL:https://firstchurchofmilford.org/event/diaconate-ministry-meeting-2/2030-03-11/
LOCATION:Fellowship Hall\, 34 West Main St\, Milford\, CT\, 06460\, United States
END:VEVENT
BEGIN:VEVENT
DTSTART;TZID=America/New_York:20300314T191500
DTEND;TZID=America/New_York:20300314T200000
DTSTAMP:20260421T101328
CREATED:20260226T172143Z
LAST-MODIFIED:20260226T172144Z
UID:10004114-1899746100-1899748800@firstchurchofmilford.org
SUMMARY:Faith Formation Ministry Meeting
DESCRIPTION:
URL:https://firstchurchofmilford.org/event/faith-formation-ministry-meeting-3/2030-03-14/
LOCATION:Fellowship Hall\, 34 West Main St\, Milford\, CT\, 06460\, United States
END:VEVENT
BEGIN:VEVENT
DTSTART;TZID=America/New_York:20300404T180000
DTEND;TZID=America/New_York:20300404T193000
DTSTAMP:20260421T101328
CREATED:20251206T191046Z
LAST-MODIFIED:20260226T163425Z
UID:10004055-1901556000-1901561400@firstchurchofmilford.org
SUMMARY:Knit Night at First United Church\, Milford
DESCRIPTION:Knit Night meets the First Thursday of each month.  Bring your knitting\, sewing\, crocheting\, scrapbooking\, journaling\, planner…anything that helps you feel creative!  Contact Kelsey DeCarlo with any questions at kgambleucc@gmail.com.
URL:https://firstchurchofmilford.org/event/knit-night-canceled-for-tonight-2/2030-04-04/
LOCATION:Fellowship Hall\, 34 West Main St\, Milford\, CT\, 06460\, United States
ATTACH;FMTTYPE=image/jpeg:https://firstchurchofmilford.org/wp-content/uploads/2025/10/Knit-night.jpeg
END:VEVENT
BEGIN:VEVENT
DTSTART;TZID=America/New_York:20300408T190000
DTEND;TZID=America/New_York:20300408T200000
DTSTAMP:20260421T101328
CREATED:20260226T163901Z
LAST-MODIFIED:20260226T164001Z
UID:10004488-1901905200-1901908800@firstchurchofmilford.org
SUMMARY:Diaconate Ministry Meeting
DESCRIPTION:
URL:https://firstchurchofmilford.org/event/diaconate-ministry-meeting-2/2030-04-08/
LOCATION:Fellowship Hall\, 34 West Main St\, Milford\, CT\, 06460\, United States
END:VEVENT
BEGIN:VEVENT
DTSTART;TZID=America/New_York:20300411T191500
DTEND;TZID=America/New_York:20300411T200000
DTSTAMP:20260421T101328
CREATED:20260226T172143Z
LAST-MODIFIED:20260226T172144Z
UID:10004115-1902165300-1902168000@firstchurchofmilford.org
SUMMARY:Faith Formation Ministry Meeting
DESCRIPTION:
URL:https://firstchurchofmilford.org/event/faith-formation-ministry-meeting-3/2030-04-11/
LOCATION:Fellowship Hall\, 34 West Main St\, Milford\, CT\, 06460\, United States
END:VEVENT
BEGIN:VEVENT
DTSTART;TZID=America/New_York:20300502T180000
DTEND;TZID=America/New_York:20300502T193000
DTSTAMP:20260421T101328
CREATED:20251206T191046Z
LAST-MODIFIED:20260226T163425Z
UID:10004056-1903975200-1903980600@firstchurchofmilford.org
SUMMARY:Knit Night at First United Church\, Milford
DESCRIPTION:Knit Night meets the First Thursday of each month.  Bring your knitting\, sewing\, crocheting\, scrapbooking\, journaling\, planner…anything that helps you feel creative!  Contact Kelsey DeCarlo with any questions at kgambleucc@gmail.com.
URL:https://firstchurchofmilford.org/event/knit-night-canceled-for-tonight-2/2030-05-02/
LOCATION:Fellowship Hall\, 34 West Main St\, Milford\, CT\, 06460\, United States
ATTACH;FMTTYPE=image/jpeg:https://firstchurchofmilford.org/wp-content/uploads/2025/10/Knit-night.jpeg
END:VEVENT
BEGIN:VEVENT
DTSTART;TZID=America/New_York:20300509T191500
DTEND;TZID=America/New_York:20300509T200000
DTSTAMP:20260421T101328
CREATED:20260226T172143Z
LAST-MODIFIED:20260226T172144Z
UID:10004116-1904584500-1904587200@firstchurchofmilford.org
SUMMARY:Faith Formation Ministry Meeting
DESCRIPTION:
URL:https://firstchurchofmilford.org/event/faith-formation-ministry-meeting-3/2030-05-09/
LOCATION:Fellowship Hall\, 34 West Main St\, Milford\, CT\, 06460\, United States
END:VEVENT
BEGIN:VEVENT
DTSTART;TZID=America/New_York:20300513T190000
DTEND;TZID=America/New_York:20300513T200000
DTSTAMP:20260421T101328
CREATED:20260226T163901Z
LAST-MODIFIED:20260226T164001Z
UID:10004489-1904929200-1904932800@firstchurchofmilford.org
SUMMARY:Diaconate Ministry Meeting
DESCRIPTION:
URL:https://firstchurchofmilford.org/event/diaconate-ministry-meeting-2/2030-05-13/
LOCATION:Fellowship Hall\, 34 West Main St\, Milford\, CT\, 06460\, United States
END:VEVENT
BEGIN:VEVENT
DTSTART;TZID=America/New_York:20300606T180000
DTEND;TZID=America/New_York:20300606T193000
DTSTAMP:20260421T101328
CREATED:20251206T191046Z
LAST-MODIFIED:20260226T163425Z
UID:10004057-1906999200-1907004600@firstchurchofmilford.org
SUMMARY:Knit Night at First United Church\, Milford
DESCRIPTION:Knit Night meets the First Thursday of each month.  Bring your knitting\, sewing\, crocheting\, scrapbooking\, journaling\, planner…anything that helps you feel creative!  Contact Kelsey DeCarlo with any questions at kgambleucc@gmail.com.
URL:https://firstchurchofmilford.org/event/knit-night-canceled-for-tonight-2/2030-06-06/
LOCATION:Fellowship Hall\, 34 West Main St\, Milford\, CT\, 06460\, United States
ATTACH;FMTTYPE=image/jpeg:https://firstchurchofmilford.org/wp-content/uploads/2025/10/Knit-night.jpeg
END:VEVENT
BEGIN:VEVENT
DTSTART;TZID=America/New_York:20300610T190000
DTEND;TZID=America/New_York:20300610T200000
DTSTAMP:20260421T101328
CREATED:20260226T163901Z
LAST-MODIFIED:20260226T164001Z
UID:10004490-1907348400-1907352000@firstchurchofmilford.org
SUMMARY:Diaconate Ministry Meeting
DESCRIPTION:
URL:https://firstchurchofmilford.org/event/diaconate-ministry-meeting-2/2030-06-10/
LOCATION:Fellowship Hall\, 34 West Main St\, Milford\, CT\, 06460\, United States
END:VEVENT
BEGIN:VEVENT
DTSTART;TZID=America/New_York:20300613T191500
DTEND;TZID=America/New_York:20300613T200000
DTSTAMP:20260421T101328
CREATED:20260226T172143Z
LAST-MODIFIED:20260226T172144Z
UID:10004117-1907608500-1907611200@firstchurchofmilford.org
SUMMARY:Faith Formation Ministry Meeting
DESCRIPTION:
URL:https://firstchurchofmilford.org/event/faith-formation-ministry-meeting-3/2030-06-13/
LOCATION:Fellowship Hall\, 34 West Main St\, Milford\, CT\, 06460\, United States
END:VEVENT
BEGIN:VEVENT
DTSTART;TZID=America/New_York:20300704T180000
DTEND;TZID=America/New_York:20300704T193000
DTSTAMP:20260421T101328
CREATED:20251206T191046Z
LAST-MODIFIED:20260226T163425Z
UID:10004058-1909418400-1909423800@firstchurchofmilford.org
SUMMARY:Knit Night at First United Church\, Milford
DESCRIPTION:Knit Night meets the First Thursday of each month.  Bring your knitting\, sewing\, crocheting\, scrapbooking\, journaling\, planner…anything that helps you feel creative!  Contact Kelsey DeCarlo with any questions at kgambleucc@gmail.com.
URL:https://firstchurchofmilford.org/event/knit-night-canceled-for-tonight-2/2030-07-04/
LOCATION:Fellowship Hall\, 34 West Main St\, Milford\, CT\, 06460\, United States
ATTACH;FMTTYPE=image/jpeg:https://firstchurchofmilford.org/wp-content/uploads/2025/10/Knit-night.jpeg
END:VEVENT
BEGIN:VEVENT
DTSTART;TZID=America/New_York:20300708T190000
DTEND;TZID=America/New_York:20300708T200000
DTSTAMP:20260421T101328
CREATED:20260226T163901Z
LAST-MODIFIED:20260226T164001Z
UID:10004491-1909767600-1909771200@firstchurchofmilford.org
SUMMARY:Diaconate Ministry Meeting
DESCRIPTION:
URL:https://firstchurchofmilford.org/event/diaconate-ministry-meeting-2/2030-07-08/
LOCATION:Fellowship Hall\, 34 West Main St\, Milford\, CT\, 06460\, United States
END:VEVENT
BEGIN:VEVENT
DTSTART;TZID=America/New_York:20300711T191500
DTEND;TZID=America/New_York:20300711T200000
DTSTAMP:20260421T101328
CREATED:20260226T172143Z
LAST-MODIFIED:20260226T172144Z
UID:10004118-1910027700-1910030400@firstchurchofmilford.org
SUMMARY:Faith Formation Ministry Meeting
DESCRIPTION:
URL:https://firstchurchofmilford.org/event/faith-formation-ministry-meeting-3/2030-07-11/
LOCATION:Fellowship Hall\, 34 West Main St\, Milford\, CT\, 06460\, United States
END:VEVENT
BEGIN:VEVENT
DTSTART;TZID=America/New_York:20300801T180000
DTEND;TZID=America/New_York:20300801T193000
DTSTAMP:20260421T101328
CREATED:20251206T191046Z
LAST-MODIFIED:20260226T163425Z
UID:10004059-1911837600-1911843000@firstchurchofmilford.org
SUMMARY:Knit Night at First United Church\, Milford
DESCRIPTION:Knit Night meets the First Thursday of each month.  Bring your knitting\, sewing\, crocheting\, scrapbooking\, journaling\, planner…anything that helps you feel creative!  Contact Kelsey DeCarlo with any questions at kgambleucc@gmail.com.
URL:https://firstchurchofmilford.org/event/knit-night-canceled-for-tonight-2/2030-08-01/
LOCATION:Fellowship Hall\, 34 West Main St\, Milford\, CT\, 06460\, United States
ATTACH;FMTTYPE=image/jpeg:https://firstchurchofmilford.org/wp-content/uploads/2025/10/Knit-night.jpeg
END:VEVENT
BEGIN:VEVENT
DTSTART;TZID=America/New_York:20300808T191500
DTEND;TZID=America/New_York:20300808T200000
DTSTAMP:20260421T101328
CREATED:20260226T172143Z
LAST-MODIFIED:20260226T172144Z
UID:10004119-1912446900-1912449600@firstchurchofmilford.org
SUMMARY:Faith Formation Ministry Meeting
DESCRIPTION:
URL:https://firstchurchofmilford.org/event/faith-formation-ministry-meeting-3/2030-08-08/
LOCATION:Fellowship Hall\, 34 West Main St\, Milford\, CT\, 06460\, United States
END:VEVENT
BEGIN:VEVENT
DTSTART;TZID=America/New_York:20300812T190000
DTEND;TZID=America/New_York:20300812T200000
DTSTAMP:20260421T101328
CREATED:20260226T163901Z
LAST-MODIFIED:20260226T164001Z
UID:10004492-1912791600-1912795200@firstchurchofmilford.org
SUMMARY:Diaconate Ministry Meeting
DESCRIPTION:
URL:https://firstchurchofmilford.org/event/diaconate-ministry-meeting-2/2030-08-12/
LOCATION:Fellowship Hall\, 34 West Main St\, Milford\, CT\, 06460\, United States
END:VEVENT
BEGIN:VEVENT
DTSTART;TZID=America/New_York:20300905T180000
DTEND;TZID=America/New_York:20300905T193000
DTSTAMP:20260421T101328
CREATED:20251206T191046Z
LAST-MODIFIED:20260226T163425Z
UID:10004060-1914861600-1914867000@firstchurchofmilford.org
SUMMARY:Knit Night at First United Church\, Milford
DESCRIPTION:Knit Night meets the First Thursday of each month.  Bring your knitting\, sewing\, crocheting\, scrapbooking\, journaling\, planner…anything that helps you feel creative!  Contact Kelsey DeCarlo with any questions at kgambleucc@gmail.com.
URL:https://firstchurchofmilford.org/event/knit-night-canceled-for-tonight-2/2030-09-05/
LOCATION:Fellowship Hall\, 34 West Main St\, Milford\, CT\, 06460\, United States
ATTACH;FMTTYPE=image/jpeg:https://firstchurchofmilford.org/wp-content/uploads/2025/10/Knit-night.jpeg
END:VEVENT
BEGIN:VEVENT
DTSTART;TZID=America/New_York:20300909T190000
DTEND;TZID=America/New_York:20300909T200000
DTSTAMP:20260421T101328
CREATED:20260226T163901Z
LAST-MODIFIED:20260226T164001Z
UID:10004493-1915210800-1915214400@firstchurchofmilford.org
SUMMARY:Diaconate Ministry Meeting
DESCRIPTION:
URL:https://firstchurchofmilford.org/event/diaconate-ministry-meeting-2/2030-09-09/
LOCATION:Fellowship Hall\, 34 West Main St\, Milford\, CT\, 06460\, United States
END:VEVENT
BEGIN:VEVENT
DTSTART;TZID=America/New_York:20300912T191500
DTEND;TZID=America/New_York:20300912T200000
DTSTAMP:20260421T101328
CREATED:20260226T172143Z
LAST-MODIFIED:20260226T172144Z
UID:10004120-1915470900-1915473600@firstchurchofmilford.org
SUMMARY:Faith Formation Ministry Meeting
DESCRIPTION:
URL:https://firstchurchofmilford.org/event/faith-formation-ministry-meeting-3/2030-09-12/
LOCATION:Fellowship Hall\, 34 West Main St\, Milford\, CT\, 06460\, United States
END:VEVENT
BEGIN:VEVENT
DTSTART;TZID=America/New_York:20301003T180000
DTEND;TZID=America/New_York:20301003T193000
DTSTAMP:20260421T101328
CREATED:20251206T191046Z
LAST-MODIFIED:20260226T163425Z
UID:10004061-1917280800-1917286200@firstchurchofmilford.org
SUMMARY:Knit Night at First United Church\, Milford
DESCRIPTION:Knit Night meets the First Thursday of each month.  Bring your knitting\, sewing\, crocheting\, scrapbooking\, journaling\, planner…anything that helps you feel creative!  Contact Kelsey DeCarlo with any questions at kgambleucc@gmail.com.
URL:https://firstchurchofmilford.org/event/knit-night-canceled-for-tonight-2/2030-10-03/
LOCATION:Fellowship Hall\, 34 West Main St\, Milford\, CT\, 06460\, United States
ATTACH;FMTTYPE=image/jpeg:https://firstchurchofmilford.org/wp-content/uploads/2025/10/Knit-night.jpeg
END:VEVENT
BEGIN:VEVENT
DTSTART;TZID=America/New_York:20301010T191500
DTEND;TZID=America/New_York:20301010T200000
DTSTAMP:20260421T101328
CREATED:20260226T172143Z
LAST-MODIFIED:20260226T172144Z
UID:10004121-1917890100-1917892800@firstchurchofmilford.org
SUMMARY:Faith Formation Ministry Meeting
DESCRIPTION:
URL:https://firstchurchofmilford.org/event/faith-formation-ministry-meeting-3/2030-10-10/
LOCATION:Fellowship Hall\, 34 West Main St\, Milford\, CT\, 06460\, United States
END:VEVENT
BEGIN:VEVENT
DTSTART;TZID=America/New_York:20301014T190000
DTEND;TZID=America/New_York:20301014T200000
DTSTAMP:20260421T101328
CREATED:20260226T163901Z
LAST-MODIFIED:20260226T164001Z
UID:10004494-1918234800-1918238400@firstchurchofmilford.org
SUMMARY:Diaconate Ministry Meeting
DESCRIPTION:
URL:https://firstchurchofmilford.org/event/diaconate-ministry-meeting-2/2030-10-14/
LOCATION:Fellowship Hall\, 34 West Main St\, Milford\, CT\, 06460\, United States
END:VEVENT
BEGIN:VEVENT
DTSTART;TZID=America/New_York:20301107T180000
DTEND;TZID=America/New_York:20301107T193000
DTSTAMP:20260421T101328
CREATED:20251206T191046Z
LAST-MODIFIED:20260226T163425Z
UID:10004245-1920304800-1920310200@firstchurchofmilford.org
SUMMARY:Knit Night at First United Church\, Milford
DESCRIPTION:Knit Night meets the First Thursday of each month.  Bring your knitting\, sewing\, crocheting\, scrapbooking\, journaling\, planner…anything that helps you feel creative!  Contact Kelsey DeCarlo with any questions at kgambleucc@gmail.com.
URL:https://firstchurchofmilford.org/event/knit-night-canceled-for-tonight-2/2030-11-07/
LOCATION:Fellowship Hall\, 34 West Main St\, Milford\, CT\, 06460\, United States
ATTACH;FMTTYPE=image/jpeg:https://firstchurchofmilford.org/wp-content/uploads/2025/10/Knit-night.jpeg
END:VEVENT
BEGIN:VEVENT
DTSTART;TZID=America/New_York:20301111T190000
DTEND;TZID=America/New_York:20301111T200000
DTSTAMP:20260421T101328
CREATED:20260226T163901Z
LAST-MODIFIED:20260226T164001Z
UID:10004495-1920654000-1920657600@firstchurchofmilford.org
SUMMARY:Diaconate Ministry Meeting
DESCRIPTION:
URL:https://firstchurchofmilford.org/event/diaconate-ministry-meeting-2/2030-11-11/
LOCATION:Fellowship Hall\, 34 West Main St\, Milford\, CT\, 06460\, United States
END:VEVENT
BEGIN:VEVENT
DTSTART;TZID=America/New_York:20301114T191500
DTEND;TZID=America/New_York:20301114T200000
DTSTAMP:20260421T101328
CREATED:20260226T172143Z
LAST-MODIFIED:20260226T172144Z
UID:10005786-1920914100-1920916800@firstchurchofmilford.org
SUMMARY:Faith Formation Ministry Meeting
DESCRIPTION:
URL:https://firstchurchofmilford.org/event/faith-formation-ministry-meeting-3/2030-11-14/
LOCATION:Fellowship Hall\, 34 West Main St\, Milford\, CT\, 06460\, United States
END:VEVENT
BEGIN:VEVENT
DTSTART;TZID=America/New_York:20301205T180000
DTEND;TZID=America/New_York:20301205T193000
DTSTAMP:20260421T101328
CREATED:20251206T191046Z
LAST-MODIFIED:20260226T163425Z
UID:10004246-1922724000-1922729400@firstchurchofmilford.org
SUMMARY:Knit Night at First United Church\, Milford
DESCRIPTION:Knit Night meets the First Thursday of each month.  Bring your knitting\, sewing\, crocheting\, scrapbooking\, journaling\, planner…anything that helps you feel creative!  Contact Kelsey DeCarlo with any questions at kgambleucc@gmail.com.
URL:https://firstchurchofmilford.org/event/knit-night-canceled-for-tonight-2/2030-12-05/
LOCATION:Fellowship Hall\, 34 West Main St\, Milford\, CT\, 06460\, United States
ATTACH;FMTTYPE=image/jpeg:https://firstchurchofmilford.org/wp-content/uploads/2025/10/Knit-night.jpeg
END:VEVENT
BEGIN:VEVENT
DTSTART;TZID=America/New_York:20301209T190000
DTEND;TZID=America/New_York:20301209T200000
DTSTAMP:20260421T101328
CREATED:20260226T163901Z
LAST-MODIFIED:20260226T164001Z
UID:10004496-1923073200-1923076800@firstchurchofmilford.org
SUMMARY:Diaconate Ministry Meeting
DESCRIPTION:
URL:https://firstchurchofmilford.org/event/diaconate-ministry-meeting-2/2030-12-09/
LOCATION:Fellowship Hall\, 34 West Main St\, Milford\, CT\, 06460\, United States
END:VEVENT
BEGIN:VEVENT
DTSTART;TZID=America/New_York:20301212T191500
DTEND;TZID=America/New_York:20301212T200000
DTSTAMP:20260421T101328
CREATED:20260226T172143Z
LAST-MODIFIED:20260226T172144Z
UID:10005787-1923333300-1923336000@firstchurchofmilford.org
SUMMARY:Faith Formation Ministry Meeting
DESCRIPTION:
URL:https://firstchurchofmilford.org/event/faith-formation-ministry-meeting-3/2030-12-12/
LOCATION:Fellowship Hall\, 34 West Main St\, Milford\, CT\, 06460\, United States
END:VEVENT
END:VCALENDAR