BEGIN:VCALENDAR
VERSION:2.0
PRODID:-//First United Church of Christ in Milford - ECPv6.15.17.1//NONSGML v1.0//EN
CALSCALE:GREGORIAN
METHOD:PUBLISH
X-ORIGINAL-URL:https://firstchurchofmilford.org
X-WR-CALDESC:Events for First United Church of Christ in Milford
REFRESH-INTERVAL;VALUE=DURATION:PT1H
X-Robots-Tag:noindex
X-PUBLISHED-TTL:PT1H
BEGIN:VTIMEZONE
TZID:America/New_York
BEGIN:DAYLIGHT
TZOFFSETFROM:-0500
TZOFFSETTO:-0400
TZNAME:EDT
DTSTART:20240310T070000
END:DAYLIGHT
BEGIN:STANDARD
TZOFFSETFROM:-0400
TZOFFSETTO:-0500
TZNAME:EST
DTSTART:20241103T060000
END:STANDARD
BEGIN:DAYLIGHT
TZOFFSETFROM:-0500
TZOFFSETTO:-0400
TZNAME:EDT
DTSTART:20250309T070000
END:DAYLIGHT
BEGIN:STANDARD
TZOFFSETFROM:-0400
TZOFFSETTO:-0500
TZNAME:EST
DTSTART:20251102T060000
END:STANDARD
BEGIN:DAYLIGHT
TZOFFSETFROM:-0500
TZOFFSETTO:-0400
TZNAME:EDT
DTSTART:20260308T070000
END:DAYLIGHT
BEGIN:STANDARD
TZOFFSETFROM:-0400
TZOFFSETTO:-0500
TZNAME:EST
DTSTART:20261101T060000
END:STANDARD
END:VTIMEZONE
BEGIN:VEVENT
DTSTART;TZID=America/New_York:20250929T090000
DTEND;TZID=America/New_York:20250929T200000
DTSTAMP:20260424T080555
CREATED:20250923T105613Z
LAST-MODIFIED:20250925T161144Z
UID:10003670-1759136400-1759176000@firstchurchofmilford.org
SUMMARY:First Church Golf Tournament
DESCRIPTION:Golf Tournament on Monday\, Sept 29\, 2025.\nBlackhawk Country Club\n385 Oronoque Lane\nStratford\, CT 06614\nDinner to follow (approximately 4 PM). Golfers’ arrive by 10 AM for TEE TIME 11 AM start. Thank you to sponsors\, donors\, and golf planning team! Questions\, contact: Missy or Rev. Ashley. \nRegistration to play? Contact us: 203-430-0036.
URL:https://firstchurchofmilford.org/event/21896/
LOCATION:Blackhawk Country Club  385 Oronoque Lane Stratford\, CT 06614\, 385 Oronoque Lane\, Stratford\, CT\, 06614\, United States
ATTACH;FMTTYPE=image/jpeg:https://firstchurchofmilford.org/wp-content/uploads/2025/09/Golf-calendar-1600-x-900-px.jpg
END:VEVENT
END:VCALENDAR