BEGIN:VCALENDAR
VERSION:2.0
PRODID:-//First United Church of Christ in Milford - ECPv6.15.17.1//NONSGML v1.0//EN
CALSCALE:GREGORIAN
METHOD:PUBLISH
X-ORIGINAL-URL:https://firstchurchofmilford.org
X-WR-CALDESC:Events for First United Church of Christ in Milford
REFRESH-INTERVAL;VALUE=DURATION:PT1H
X-Robots-Tag:noindex
X-PUBLISHED-TTL:PT1H
BEGIN:VTIMEZONE
TZID:America/New_York
BEGIN:DAYLIGHT
TZOFFSETFROM:-0500
TZOFFSETTO:-0400
TZNAME:EDT
DTSTART:20270314T070000
END:DAYLIGHT
BEGIN:STANDARD
TZOFFSETFROM:-0400
TZOFFSETTO:-0500
TZNAME:EST
DTSTART:20271107T060000
END:STANDARD
BEGIN:DAYLIGHT
TZOFFSETFROM:-0500
TZOFFSETTO:-0400
TZNAME:EDT
DTSTART:20280312T070000
END:DAYLIGHT
BEGIN:STANDARD
TZOFFSETFROM:-0400
TZOFFSETTO:-0500
TZNAME:EST
DTSTART:20281105T060000
END:STANDARD
BEGIN:DAYLIGHT
TZOFFSETFROM:-0500
TZOFFSETTO:-0400
TZNAME:EDT
DTSTART:20290311T070000
END:DAYLIGHT
BEGIN:STANDARD
TZOFFSETFROM:-0400
TZOFFSETTO:-0500
TZNAME:EST
DTSTART:20291104T060000
END:STANDARD
END:VTIMEZONE
BEGIN:VEVENT
DTSTART;TZID=America/New_York:20280225T090000
DTEND;TZID=America/New_York:20280225T230000
DTSTAMP:20260424T130946
CREATED:20260319T154721Z
LAST-MODIFIED:20260319T154721Z
UID:10003529-1835082000-1835132400@firstchurchofmilford.org
SUMMARY:Explore and Play! Weekly Playgroup
DESCRIPTION:
URL:https://firstchurchofmilford.org/event/explore-and-play-weekly-playgroup-2-2/2028-02-25/
END:VEVENT
BEGIN:VEVENT
DTSTART;TZID=America/New_York:20280303T090000
DTEND;TZID=America/New_York:20280303T230000
DTSTAMP:20260424T130946
CREATED:20260319T154721Z
LAST-MODIFIED:20260319T154721Z
UID:10003530-1835686800-1835737200@firstchurchofmilford.org
SUMMARY:Explore and Play! Weekly Playgroup
DESCRIPTION:
URL:https://firstchurchofmilford.org/event/explore-and-play-weekly-playgroup-2-2/2028-03-03/
END:VEVENT
BEGIN:VEVENT
DTSTART;TZID=America/New_York:20280310T090000
DTEND;TZID=America/New_York:20280310T230000
DTSTAMP:20260424T130946
CREATED:20260319T154721Z
LAST-MODIFIED:20260319T154721Z
UID:10003531-1836291600-1836342000@firstchurchofmilford.org
SUMMARY:Explore and Play! Weekly Playgroup
DESCRIPTION:
URL:https://firstchurchofmilford.org/event/explore-and-play-weekly-playgroup-2-2/2028-03-10/
END:VEVENT
BEGIN:VEVENT
DTSTART;TZID=America/New_York:20280317T090000
DTEND;TZID=America/New_York:20280317T230000
DTSTAMP:20260424T130946
CREATED:20260319T154721Z
LAST-MODIFIED:20260319T154721Z
UID:10003532-1836896400-1836946800@firstchurchofmilford.org
SUMMARY:Explore and Play! Weekly Playgroup
DESCRIPTION:
URL:https://firstchurchofmilford.org/event/explore-and-play-weekly-playgroup-2-2/2028-03-17/
END:VEVENT
BEGIN:VEVENT
DTSTART;TZID=America/New_York:20280324T090000
DTEND;TZID=America/New_York:20280324T230000
DTSTAMP:20260424T130946
CREATED:20260319T154721Z
LAST-MODIFIED:20260319T154721Z
UID:10003533-1837501200-1837551600@firstchurchofmilford.org
SUMMARY:Explore and Play! Weekly Playgroup
DESCRIPTION:
URL:https://firstchurchofmilford.org/event/explore-and-play-weekly-playgroup-2-2/2028-03-24/
END:VEVENT
BEGIN:VEVENT
DTSTART;TZID=America/New_York:20280331T090000
DTEND;TZID=America/New_York:20280331T230000
DTSTAMP:20260424T130946
CREATED:20260319T154721Z
LAST-MODIFIED:20260319T154721Z
UID:10003534-1838106000-1838156400@firstchurchofmilford.org
SUMMARY:Explore and Play! Weekly Playgroup
DESCRIPTION:
URL:https://firstchurchofmilford.org/event/explore-and-play-weekly-playgroup-2-2/2028-03-31/
END:VEVENT
BEGIN:VEVENT
DTSTART;TZID=America/New_York:20280407T090000
DTEND;TZID=America/New_York:20280407T230000
DTSTAMP:20260424T130946
CREATED:20260319T154721Z
LAST-MODIFIED:20260319T154721Z
UID:10003535-1838710800-1838761200@firstchurchofmilford.org
SUMMARY:Explore and Play! Weekly Playgroup
DESCRIPTION:
URL:https://firstchurchofmilford.org/event/explore-and-play-weekly-playgroup-2-2/2028-04-07/
END:VEVENT
BEGIN:VEVENT
DTSTART;TZID=America/New_York:20280414T090000
DTEND;TZID=America/New_York:20280414T230000
DTSTAMP:20260424T130946
CREATED:20260319T154721Z
LAST-MODIFIED:20260319T154721Z
UID:10003536-1839315600-1839366000@firstchurchofmilford.org
SUMMARY:Explore and Play! Weekly Playgroup
DESCRIPTION:
URL:https://firstchurchofmilford.org/event/explore-and-play-weekly-playgroup-2-2/2028-04-14/
END:VEVENT
BEGIN:VEVENT
DTSTART;TZID=America/New_York:20280421T090000
DTEND;TZID=America/New_York:20280421T230000
DTSTAMP:20260424T130946
CREATED:20260319T154721Z
LAST-MODIFIED:20260319T154721Z
UID:10003537-1839920400-1839970800@firstchurchofmilford.org
SUMMARY:Explore and Play! Weekly Playgroup
DESCRIPTION:
URL:https://firstchurchofmilford.org/event/explore-and-play-weekly-playgroup-2-2/2028-04-21/
END:VEVENT
BEGIN:VEVENT
DTSTART;TZID=America/New_York:20280428T090000
DTEND;TZID=America/New_York:20280428T230000
DTSTAMP:20260424T130946
CREATED:20260319T154721Z
LAST-MODIFIED:20260319T154721Z
UID:10003538-1840525200-1840575600@firstchurchofmilford.org
SUMMARY:Explore and Play! Weekly Playgroup
DESCRIPTION:
URL:https://firstchurchofmilford.org/event/explore-and-play-weekly-playgroup-2-2/2028-04-28/
END:VEVENT
BEGIN:VEVENT
DTSTART;TZID=America/New_York:20280505T090000
DTEND;TZID=America/New_York:20280505T230000
DTSTAMP:20260424T130946
CREATED:20260319T154721Z
LAST-MODIFIED:20260319T154721Z
UID:10003539-1841130000-1841180400@firstchurchofmilford.org
SUMMARY:Explore and Play! Weekly Playgroup
DESCRIPTION:
URL:https://firstchurchofmilford.org/event/explore-and-play-weekly-playgroup-2-2/2028-05-05/
END:VEVENT
BEGIN:VEVENT
DTSTART;TZID=America/New_York:20280512T090000
DTEND;TZID=America/New_York:20280512T230000
DTSTAMP:20260424T130946
CREATED:20260319T154721Z
LAST-MODIFIED:20260319T154721Z
UID:10003540-1841734800-1841785200@firstchurchofmilford.org
SUMMARY:Explore and Play! Weekly Playgroup
DESCRIPTION:
URL:https://firstchurchofmilford.org/event/explore-and-play-weekly-playgroup-2-2/2028-05-12/
END:VEVENT
BEGIN:VEVENT
DTSTART;TZID=America/New_York:20280519T090000
DTEND;TZID=America/New_York:20280519T230000
DTSTAMP:20260424T130947
CREATED:20260319T154721Z
LAST-MODIFIED:20260319T154721Z
UID:10003541-1842339600-1842390000@firstchurchofmilford.org
SUMMARY:Explore and Play! Weekly Playgroup
DESCRIPTION:
URL:https://firstchurchofmilford.org/event/explore-and-play-weekly-playgroup-2-2/2028-05-19/
END:VEVENT
BEGIN:VEVENT
DTSTART;TZID=America/New_York:20280526T090000
DTEND;TZID=America/New_York:20280526T230000
DTSTAMP:20260424T130947
CREATED:20260319T154721Z
LAST-MODIFIED:20260319T154721Z
UID:10003542-1842944400-1842994800@firstchurchofmilford.org
SUMMARY:Explore and Play! Weekly Playgroup
DESCRIPTION:
URL:https://firstchurchofmilford.org/event/explore-and-play-weekly-playgroup-2-2/2028-05-26/
END:VEVENT
BEGIN:VEVENT
DTSTART;TZID=America/New_York:20280602T090000
DTEND;TZID=America/New_York:20280602T230000
DTSTAMP:20260424T130947
CREATED:20260319T154721Z
LAST-MODIFIED:20260319T154721Z
UID:10003543-1843549200-1843599600@firstchurchofmilford.org
SUMMARY:Explore and Play! Weekly Playgroup
DESCRIPTION:
URL:https://firstchurchofmilford.org/event/explore-and-play-weekly-playgroup-2-2/2028-06-02/
END:VEVENT
BEGIN:VEVENT
DTSTART;TZID=America/New_York:20280609T090000
DTEND;TZID=America/New_York:20280609T230000
DTSTAMP:20260424T130947
CREATED:20260319T154721Z
LAST-MODIFIED:20260319T154721Z
UID:10003544-1844154000-1844204400@firstchurchofmilford.org
SUMMARY:Explore and Play! Weekly Playgroup
DESCRIPTION:
URL:https://firstchurchofmilford.org/event/explore-and-play-weekly-playgroup-2-2/2028-06-09/
END:VEVENT
BEGIN:VEVENT
DTSTART;TZID=America/New_York:20280616T090000
DTEND;TZID=America/New_York:20280616T230000
DTSTAMP:20260424T130947
CREATED:20260319T154721Z
LAST-MODIFIED:20260319T154721Z
UID:10003545-1844758800-1844809200@firstchurchofmilford.org
SUMMARY:Explore and Play! Weekly Playgroup
DESCRIPTION:
URL:https://firstchurchofmilford.org/event/explore-and-play-weekly-playgroup-2-2/2028-06-16/
END:VEVENT
BEGIN:VEVENT
DTSTART;TZID=America/New_York:20280623T090000
DTEND;TZID=America/New_York:20280623T230000
DTSTAMP:20260424T130947
CREATED:20260319T154721Z
LAST-MODIFIED:20260319T154721Z
UID:10003546-1845363600-1845414000@firstchurchofmilford.org
SUMMARY:Explore and Play! Weekly Playgroup
DESCRIPTION:
URL:https://firstchurchofmilford.org/event/explore-and-play-weekly-playgroup-2-2/2028-06-23/
END:VEVENT
BEGIN:VEVENT
DTSTART;TZID=America/New_York:20280630T090000
DTEND;TZID=America/New_York:20280630T230000
DTSTAMP:20260424T130947
CREATED:20260319T154721Z
LAST-MODIFIED:20260319T154721Z
UID:10003547-1845968400-1846018800@firstchurchofmilford.org
SUMMARY:Explore and Play! Weekly Playgroup
DESCRIPTION:
URL:https://firstchurchofmilford.org/event/explore-and-play-weekly-playgroup-2-2/2028-06-30/
END:VEVENT
BEGIN:VEVENT
DTSTART;TZID=America/New_York:20280707T090000
DTEND;TZID=America/New_York:20280707T230000
DTSTAMP:20260424T130947
CREATED:20260319T154721Z
LAST-MODIFIED:20260319T154721Z
UID:10003548-1846573200-1846623600@firstchurchofmilford.org
SUMMARY:Explore and Play! Weekly Playgroup
DESCRIPTION:
URL:https://firstchurchofmilford.org/event/explore-and-play-weekly-playgroup-2-2/2028-07-07/
END:VEVENT
BEGIN:VEVENT
DTSTART;TZID=America/New_York:20280714T090000
DTEND;TZID=America/New_York:20280714T230000
DTSTAMP:20260424T130947
CREATED:20260319T154721Z
LAST-MODIFIED:20260319T154721Z
UID:10003549-1847178000-1847228400@firstchurchofmilford.org
SUMMARY:Explore and Play! Weekly Playgroup
DESCRIPTION:
URL:https://firstchurchofmilford.org/event/explore-and-play-weekly-playgroup-2-2/2028-07-14/
END:VEVENT
BEGIN:VEVENT
DTSTART;TZID=America/New_York:20280721T090000
DTEND;TZID=America/New_York:20280721T230000
DTSTAMP:20260424T130947
CREATED:20260319T154721Z
LAST-MODIFIED:20260319T154721Z
UID:10003550-1847782800-1847833200@firstchurchofmilford.org
SUMMARY:Explore and Play! Weekly Playgroup
DESCRIPTION:
URL:https://firstchurchofmilford.org/event/explore-and-play-weekly-playgroup-2-2/2028-07-21/
END:VEVENT
BEGIN:VEVENT
DTSTART;TZID=America/New_York:20280728T090000
DTEND;TZID=America/New_York:20280728T230000
DTSTAMP:20260424T130947
CREATED:20260319T154721Z
LAST-MODIFIED:20260319T154721Z
UID:10003551-1848387600-1848438000@firstchurchofmilford.org
SUMMARY:Explore and Play! Weekly Playgroup
DESCRIPTION:
URL:https://firstchurchofmilford.org/event/explore-and-play-weekly-playgroup-2-2/2028-07-28/
END:VEVENT
BEGIN:VEVENT
DTSTART;TZID=America/New_York:20280804T090000
DTEND;TZID=America/New_York:20280804T230000
DTSTAMP:20260424T130947
CREATED:20260319T154721Z
LAST-MODIFIED:20260319T154721Z
UID:10003552-1848992400-1849042800@firstchurchofmilford.org
SUMMARY:Explore and Play! Weekly Playgroup
DESCRIPTION:
URL:https://firstchurchofmilford.org/event/explore-and-play-weekly-playgroup-2-2/2028-08-04/
END:VEVENT
BEGIN:VEVENT
DTSTART;TZID=America/New_York:20280811T090000
DTEND;TZID=America/New_York:20280811T230000
DTSTAMP:20260424T130947
CREATED:20260319T154721Z
LAST-MODIFIED:20260319T154721Z
UID:10003553-1849597200-1849647600@firstchurchofmilford.org
SUMMARY:Explore and Play! Weekly Playgroup
DESCRIPTION:
URL:https://firstchurchofmilford.org/event/explore-and-play-weekly-playgroup-2-2/2028-08-11/
END:VEVENT
BEGIN:VEVENT
DTSTART;TZID=America/New_York:20280818T090000
DTEND;TZID=America/New_York:20280818T230000
DTSTAMP:20260424T130947
CREATED:20260319T154721Z
LAST-MODIFIED:20260319T154721Z
UID:10003554-1850202000-1850252400@firstchurchofmilford.org
SUMMARY:Explore and Play! Weekly Playgroup
DESCRIPTION:
URL:https://firstchurchofmilford.org/event/explore-and-play-weekly-playgroup-2-2/2028-08-18/
END:VEVENT
BEGIN:VEVENT
DTSTART;TZID=America/New_York:20280825T090000
DTEND;TZID=America/New_York:20280825T230000
DTSTAMP:20260424T130947
CREATED:20260319T154721Z
LAST-MODIFIED:20260319T154721Z
UID:10003555-1850806800-1850857200@firstchurchofmilford.org
SUMMARY:Explore and Play! Weekly Playgroup
DESCRIPTION:
URL:https://firstchurchofmilford.org/event/explore-and-play-weekly-playgroup-2-2/2028-08-25/
END:VEVENT
BEGIN:VEVENT
DTSTART;TZID=America/New_York:20280901T090000
DTEND;TZID=America/New_York:20280901T230000
DTSTAMP:20260424T130947
CREATED:20260319T154721Z
LAST-MODIFIED:20260319T154721Z
UID:10003556-1851411600-1851462000@firstchurchofmilford.org
SUMMARY:Explore and Play! Weekly Playgroup
DESCRIPTION:
URL:https://firstchurchofmilford.org/event/explore-and-play-weekly-playgroup-2-2/2028-09-01/
END:VEVENT
BEGIN:VEVENT
DTSTART;TZID=America/New_York:20280908T090000
DTEND;TZID=America/New_York:20280908T230000
DTSTAMP:20260424T130947
CREATED:20260319T154721Z
LAST-MODIFIED:20260319T154721Z
UID:10003557-1852016400-1852066800@firstchurchofmilford.org
SUMMARY:Explore and Play! Weekly Playgroup
DESCRIPTION:
URL:https://firstchurchofmilford.org/event/explore-and-play-weekly-playgroup-2-2/2028-09-08/
END:VEVENT
BEGIN:VEVENT
DTSTART;TZID=America/New_York:20280915T090000
DTEND;TZID=America/New_York:20280915T230000
DTSTAMP:20260424T130947
CREATED:20260319T154721Z
LAST-MODIFIED:20260319T154721Z
UID:10003558-1852621200-1852671600@firstchurchofmilford.org
SUMMARY:Explore and Play! Weekly Playgroup
DESCRIPTION:
URL:https://firstchurchofmilford.org/event/explore-and-play-weekly-playgroup-2-2/2028-09-15/
END:VEVENT
END:VCALENDAR