BEGIN:VCALENDAR
VERSION:2.0
PRODID:-//First United Church of Christ in Milford - ECPv6.15.17.1//NONSGML v1.0//EN
CALSCALE:GREGORIAN
METHOD:PUBLISH
X-ORIGINAL-URL:https://firstchurchofmilford.org
X-WR-CALDESC:Events for First United Church of Christ in Milford
REFRESH-INTERVAL;VALUE=DURATION:PT1H
X-Robots-Tag:noindex
X-PUBLISHED-TTL:PT1H
BEGIN:VTIMEZONE
TZID:America/New_York
BEGIN:DAYLIGHT
TZOFFSETFROM:-0500
TZOFFSETTO:-0400
TZNAME:EDT
DTSTART:20260308T070000
END:DAYLIGHT
BEGIN:STANDARD
TZOFFSETFROM:-0400
TZOFFSETTO:-0500
TZNAME:EST
DTSTART:20261101T060000
END:STANDARD
BEGIN:DAYLIGHT
TZOFFSETFROM:-0500
TZOFFSETTO:-0400
TZNAME:EDT
DTSTART:20270314T070000
END:DAYLIGHT
BEGIN:STANDARD
TZOFFSETFROM:-0400
TZOFFSETTO:-0500
TZNAME:EST
DTSTART:20271107T060000
END:STANDARD
BEGIN:DAYLIGHT
TZOFFSETFROM:-0500
TZOFFSETTO:-0400
TZNAME:EDT
DTSTART:20280312T070000
END:DAYLIGHT
BEGIN:STANDARD
TZOFFSETFROM:-0400
TZOFFSETTO:-0500
TZNAME:EST
DTSTART:20281105T060000
END:STANDARD
BEGIN:DAYLIGHT
TZOFFSETFROM:-0500
TZOFFSETTO:-0400
TZNAME:EDT
DTSTART:20290311T070000
END:DAYLIGHT
BEGIN:STANDARD
TZOFFSETFROM:-0400
TZOFFSETTO:-0500
TZNAME:EST
DTSTART:20291104T060000
END:STANDARD
END:VTIMEZONE
BEGIN:VEVENT
DTSTART;TZID=America/New_York:20271208T193000
DTEND;TZID=America/New_York:20271208T210000
DTSTAMP:20260424T112204
CREATED:20260226T164951Z
LAST-MODIFIED:20260226T170232Z
UID:10005610-1828294200-1828299600@firstchurchofmilford.org
SUMMARY:Meetinghouse Chorale
DESCRIPTION:
URL:https://firstchurchofmilford.org/event/meetinghouse-chorale/2027-12-08/
END:VEVENT
BEGIN:VEVENT
DTSTART;TZID=America/New_York:20271215T193000
DTEND;TZID=America/New_York:20271215T210000
DTSTAMP:20260424T112204
CREATED:20260226T164951Z
LAST-MODIFIED:20260226T170232Z
UID:10005611-1828899000-1828904400@firstchurchofmilford.org
SUMMARY:Meetinghouse Chorale
DESCRIPTION:
URL:https://firstchurchofmilford.org/event/meetinghouse-chorale/2027-12-15/
END:VEVENT
BEGIN:VEVENT
DTSTART;TZID=America/New_York:20271222T193000
DTEND;TZID=America/New_York:20271222T210000
DTSTAMP:20260424T112204
CREATED:20260226T164951Z
LAST-MODIFIED:20260226T170232Z
UID:10005612-1829503800-1829509200@firstchurchofmilford.org
SUMMARY:Meetinghouse Chorale
DESCRIPTION:
URL:https://firstchurchofmilford.org/event/meetinghouse-chorale/2027-12-22/
END:VEVENT
BEGIN:VEVENT
DTSTART;TZID=America/New_York:20271229T193000
DTEND;TZID=America/New_York:20271229T210000
DTSTAMP:20260424T112204
CREATED:20260226T164951Z
LAST-MODIFIED:20260226T170232Z
UID:10005613-1830108600-1830114000@firstchurchofmilford.org
SUMMARY:Meetinghouse Chorale
DESCRIPTION:
URL:https://firstchurchofmilford.org/event/meetinghouse-chorale/2027-12-29/
END:VEVENT
BEGIN:VEVENT
DTSTART;TZID=America/New_York:20280105T193000
DTEND;TZID=America/New_York:20280105T210000
DTSTAMP:20260424T112204
CREATED:20260226T164951Z
LAST-MODIFIED:20260226T170232Z
UID:10005614-1830713400-1830718800@firstchurchofmilford.org
SUMMARY:Meetinghouse Chorale
DESCRIPTION:
URL:https://firstchurchofmilford.org/event/meetinghouse-chorale/2028-01-05/
END:VEVENT
BEGIN:VEVENT
DTSTART;TZID=America/New_York:20280112T193000
DTEND;TZID=America/New_York:20280112T210000
DTSTAMP:20260424T112204
CREATED:20260226T164951Z
LAST-MODIFIED:20260226T170232Z
UID:10005615-1831318200-1831323600@firstchurchofmilford.org
SUMMARY:Meetinghouse Chorale
DESCRIPTION:
URL:https://firstchurchofmilford.org/event/meetinghouse-chorale/2028-01-12/
END:VEVENT
BEGIN:VEVENT
DTSTART;TZID=America/New_York:20280119T193000
DTEND;TZID=America/New_York:20280119T210000
DTSTAMP:20260424T112204
CREATED:20260226T164951Z
LAST-MODIFIED:20260226T170232Z
UID:10005616-1831923000-1831928400@firstchurchofmilford.org
SUMMARY:Meetinghouse Chorale
DESCRIPTION:
URL:https://firstchurchofmilford.org/event/meetinghouse-chorale/2028-01-19/
END:VEVENT
BEGIN:VEVENT
DTSTART;TZID=America/New_York:20280126T193000
DTEND;TZID=America/New_York:20280126T210000
DTSTAMP:20260424T112204
CREATED:20260226T164951Z
LAST-MODIFIED:20260226T170232Z
UID:10005617-1832527800-1832533200@firstchurchofmilford.org
SUMMARY:Meetinghouse Chorale
DESCRIPTION:
URL:https://firstchurchofmilford.org/event/meetinghouse-chorale/2028-01-26/
END:VEVENT
BEGIN:VEVENT
DTSTART;TZID=America/New_York:20280202T193000
DTEND;TZID=America/New_York:20280202T210000
DTSTAMP:20260424T112204
CREATED:20260226T164951Z
LAST-MODIFIED:20260226T170232Z
UID:10005618-1833132600-1833138000@firstchurchofmilford.org
SUMMARY:Meetinghouse Chorale
DESCRIPTION:
URL:https://firstchurchofmilford.org/event/meetinghouse-chorale/2028-02-02/
END:VEVENT
BEGIN:VEVENT
DTSTART;TZID=America/New_York:20280209T193000
DTEND;TZID=America/New_York:20280209T210000
DTSTAMP:20260424T112204
CREATED:20260226T164951Z
LAST-MODIFIED:20260226T170232Z
UID:10005619-1833737400-1833742800@firstchurchofmilford.org
SUMMARY:Meetinghouse Chorale
DESCRIPTION:
URL:https://firstchurchofmilford.org/event/meetinghouse-chorale/2028-02-09/
END:VEVENT
BEGIN:VEVENT
DTSTART;TZID=America/New_York:20280216T193000
DTEND;TZID=America/New_York:20280216T210000
DTSTAMP:20260424T112204
CREATED:20260226T164951Z
LAST-MODIFIED:20260226T170232Z
UID:10005620-1834342200-1834347600@firstchurchofmilford.org
SUMMARY:Meetinghouse Chorale
DESCRIPTION:
URL:https://firstchurchofmilford.org/event/meetinghouse-chorale/2028-02-16/
END:VEVENT
BEGIN:VEVENT
DTSTART;TZID=America/New_York:20280223T193000
DTEND;TZID=America/New_York:20280223T210000
DTSTAMP:20260424T112204
CREATED:20260226T164951Z
LAST-MODIFIED:20260226T170232Z
UID:10005621-1834947000-1834952400@firstchurchofmilford.org
SUMMARY:Meetinghouse Chorale
DESCRIPTION:
URL:https://firstchurchofmilford.org/event/meetinghouse-chorale/2028-02-23/
END:VEVENT
BEGIN:VEVENT
DTSTART;TZID=America/New_York:20280301T193000
DTEND;TZID=America/New_York:20280301T210000
DTSTAMP:20260424T112204
CREATED:20260226T164951Z
LAST-MODIFIED:20260226T170232Z
UID:10005622-1835551800-1835557200@firstchurchofmilford.org
SUMMARY:Meetinghouse Chorale
DESCRIPTION:
URL:https://firstchurchofmilford.org/event/meetinghouse-chorale/2028-03-01/
END:VEVENT
BEGIN:VEVENT
DTSTART;TZID=America/New_York:20280308T193000
DTEND;TZID=America/New_York:20280308T210000
DTSTAMP:20260424T112204
CREATED:20260226T164951Z
LAST-MODIFIED:20260226T170232Z
UID:10005623-1836156600-1836162000@firstchurchofmilford.org
SUMMARY:Meetinghouse Chorale
DESCRIPTION:
URL:https://firstchurchofmilford.org/event/meetinghouse-chorale/2028-03-08/
END:VEVENT
BEGIN:VEVENT
DTSTART;TZID=America/New_York:20280315T193000
DTEND;TZID=America/New_York:20280315T210000
DTSTAMP:20260424T112204
CREATED:20260226T164951Z
LAST-MODIFIED:20260226T170232Z
UID:10005624-1836761400-1836766800@firstchurchofmilford.org
SUMMARY:Meetinghouse Chorale
DESCRIPTION:
URL:https://firstchurchofmilford.org/event/meetinghouse-chorale/2028-03-15/
END:VEVENT
BEGIN:VEVENT
DTSTART;TZID=America/New_York:20280322T193000
DTEND;TZID=America/New_York:20280322T210000
DTSTAMP:20260424T112204
CREATED:20260226T164951Z
LAST-MODIFIED:20260226T170232Z
UID:10005625-1837366200-1837371600@firstchurchofmilford.org
SUMMARY:Meetinghouse Chorale
DESCRIPTION:
URL:https://firstchurchofmilford.org/event/meetinghouse-chorale/2028-03-22/
END:VEVENT
BEGIN:VEVENT
DTSTART;TZID=America/New_York:20280329T193000
DTEND;TZID=America/New_York:20280329T210000
DTSTAMP:20260424T112204
CREATED:20260226T164951Z
LAST-MODIFIED:20260226T170232Z
UID:10005626-1837971000-1837976400@firstchurchofmilford.org
SUMMARY:Meetinghouse Chorale
DESCRIPTION:
URL:https://firstchurchofmilford.org/event/meetinghouse-chorale/2028-03-29/
END:VEVENT
BEGIN:VEVENT
DTSTART;TZID=America/New_York:20280405T193000
DTEND;TZID=America/New_York:20280405T210000
DTSTAMP:20260424T112204
CREATED:20260226T164951Z
LAST-MODIFIED:20260226T170232Z
UID:10005627-1838575800-1838581200@firstchurchofmilford.org
SUMMARY:Meetinghouse Chorale
DESCRIPTION:
URL:https://firstchurchofmilford.org/event/meetinghouse-chorale/2028-04-05/
END:VEVENT
BEGIN:VEVENT
DTSTART;TZID=America/New_York:20280412T193000
DTEND;TZID=America/New_York:20280412T210000
DTSTAMP:20260424T112204
CREATED:20260226T164951Z
LAST-MODIFIED:20260226T170232Z
UID:10005628-1839180600-1839186000@firstchurchofmilford.org
SUMMARY:Meetinghouse Chorale
DESCRIPTION:
URL:https://firstchurchofmilford.org/event/meetinghouse-chorale/2028-04-12/
END:VEVENT
BEGIN:VEVENT
DTSTART;TZID=America/New_York:20280419T193000
DTEND;TZID=America/New_York:20280419T210000
DTSTAMP:20260424T112204
CREATED:20260226T164951Z
LAST-MODIFIED:20260226T170232Z
UID:10005629-1839785400-1839790800@firstchurchofmilford.org
SUMMARY:Meetinghouse Chorale
DESCRIPTION:
URL:https://firstchurchofmilford.org/event/meetinghouse-chorale/2028-04-19/
END:VEVENT
BEGIN:VEVENT
DTSTART;TZID=America/New_York:20280426T193000
DTEND;TZID=America/New_York:20280426T210000
DTSTAMP:20260424T112204
CREATED:20260226T164951Z
LAST-MODIFIED:20260226T170232Z
UID:10005630-1840390200-1840395600@firstchurchofmilford.org
SUMMARY:Meetinghouse Chorale
DESCRIPTION:
URL:https://firstchurchofmilford.org/event/meetinghouse-chorale/2028-04-26/
END:VEVENT
BEGIN:VEVENT
DTSTART;TZID=America/New_York:20280503T193000
DTEND;TZID=America/New_York:20280503T210000
DTSTAMP:20260424T112204
CREATED:20260226T164951Z
LAST-MODIFIED:20260226T170232Z
UID:10005631-1840995000-1841000400@firstchurchofmilford.org
SUMMARY:Meetinghouse Chorale
DESCRIPTION:
URL:https://firstchurchofmilford.org/event/meetinghouse-chorale/2028-05-03/
END:VEVENT
BEGIN:VEVENT
DTSTART;TZID=America/New_York:20280510T193000
DTEND;TZID=America/New_York:20280510T210000
DTSTAMP:20260424T112204
CREATED:20260226T164951Z
LAST-MODIFIED:20260226T170232Z
UID:10005632-1841599800-1841605200@firstchurchofmilford.org
SUMMARY:Meetinghouse Chorale
DESCRIPTION:
URL:https://firstchurchofmilford.org/event/meetinghouse-chorale/2028-05-10/
END:VEVENT
BEGIN:VEVENT
DTSTART;TZID=America/New_York:20280517T193000
DTEND;TZID=America/New_York:20280517T210000
DTSTAMP:20260424T112204
CREATED:20260226T164951Z
LAST-MODIFIED:20260226T170232Z
UID:10005633-1842204600-1842210000@firstchurchofmilford.org
SUMMARY:Meetinghouse Chorale
DESCRIPTION:
URL:https://firstchurchofmilford.org/event/meetinghouse-chorale/2028-05-17/
END:VEVENT
BEGIN:VEVENT
DTSTART;TZID=America/New_York:20280524T193000
DTEND;TZID=America/New_York:20280524T210000
DTSTAMP:20260424T112204
CREATED:20260226T164951Z
LAST-MODIFIED:20260226T170232Z
UID:10005634-1842809400-1842814800@firstchurchofmilford.org
SUMMARY:Meetinghouse Chorale
DESCRIPTION:
URL:https://firstchurchofmilford.org/event/meetinghouse-chorale/2028-05-24/
END:VEVENT
BEGIN:VEVENT
DTSTART;TZID=America/New_York:20280531T193000
DTEND;TZID=America/New_York:20280531T210000
DTSTAMP:20260424T112204
CREATED:20260226T164951Z
LAST-MODIFIED:20260226T170232Z
UID:10005635-1843414200-1843419600@firstchurchofmilford.org
SUMMARY:Meetinghouse Chorale
DESCRIPTION:
URL:https://firstchurchofmilford.org/event/meetinghouse-chorale/2028-05-31/
END:VEVENT
BEGIN:VEVENT
DTSTART;TZID=America/New_York:20280607T193000
DTEND;TZID=America/New_York:20280607T210000
DTSTAMP:20260424T112204
CREATED:20260226T164951Z
LAST-MODIFIED:20260226T170232Z
UID:10005636-1844019000-1844024400@firstchurchofmilford.org
SUMMARY:Meetinghouse Chorale
DESCRIPTION:
URL:https://firstchurchofmilford.org/event/meetinghouse-chorale/2028-06-07/
END:VEVENT
BEGIN:VEVENT
DTSTART;TZID=America/New_York:20280614T193000
DTEND;TZID=America/New_York:20280614T210000
DTSTAMP:20260424T112204
CREATED:20260226T164951Z
LAST-MODIFIED:20260226T170232Z
UID:10005637-1844623800-1844629200@firstchurchofmilford.org
SUMMARY:Meetinghouse Chorale
DESCRIPTION:
URL:https://firstchurchofmilford.org/event/meetinghouse-chorale/2028-06-14/
END:VEVENT
BEGIN:VEVENT
DTSTART;TZID=America/New_York:20280621T193000
DTEND;TZID=America/New_York:20280621T210000
DTSTAMP:20260424T112204
CREATED:20260226T164951Z
LAST-MODIFIED:20260226T170232Z
UID:10005638-1845228600-1845234000@firstchurchofmilford.org
SUMMARY:Meetinghouse Chorale
DESCRIPTION:
URL:https://firstchurchofmilford.org/event/meetinghouse-chorale/2028-06-21/
END:VEVENT
BEGIN:VEVENT
DTSTART;TZID=America/New_York:20280628T193000
DTEND;TZID=America/New_York:20280628T210000
DTSTAMP:20260424T112204
CREATED:20260226T164951Z
LAST-MODIFIED:20260226T170232Z
UID:10005639-1845833400-1845838800@firstchurchofmilford.org
SUMMARY:Meetinghouse Chorale
DESCRIPTION:
URL:https://firstchurchofmilford.org/event/meetinghouse-chorale/2028-06-28/
END:VEVENT
END:VCALENDAR