BEGIN:VCALENDAR
VERSION:2.0
PRODID:-//First United Church of Christ in Milford - ECPv6.15.17.1//NONSGML v1.0//EN
CALSCALE:GREGORIAN
METHOD:PUBLISH
X-WR-CALNAME:First United Church of Christ in Milford
X-ORIGINAL-URL:https://firstchurchofmilford.org
X-WR-CALDESC:Events for First United Church of Christ in Milford
REFRESH-INTERVAL;VALUE=DURATION:PT1H
X-Robots-Tag:noindex
X-PUBLISHED-TTL:PT1H
BEGIN:VTIMEZONE
TZID:America/New_York
BEGIN:DAYLIGHT
TZOFFSETFROM:-0500
TZOFFSETTO:-0400
TZNAME:EDT
DTSTART:20260308T070000
END:DAYLIGHT
BEGIN:STANDARD
TZOFFSETFROM:-0400
TZOFFSETTO:-0500
TZNAME:EST
DTSTART:20261101T060000
END:STANDARD
BEGIN:DAYLIGHT
TZOFFSETFROM:-0500
TZOFFSETTO:-0400
TZNAME:EDT
DTSTART:20270314T070000
END:DAYLIGHT
BEGIN:STANDARD
TZOFFSETFROM:-0400
TZOFFSETTO:-0500
TZNAME:EST
DTSTART:20271107T060000
END:STANDARD
BEGIN:DAYLIGHT
TZOFFSETFROM:-0500
TZOFFSETTO:-0400
TZNAME:EDT
DTSTART:20280312T070000
END:DAYLIGHT
BEGIN:STANDARD
TZOFFSETFROM:-0400
TZOFFSETTO:-0500
TZNAME:EST
DTSTART:20281105T060000
END:STANDARD
BEGIN:DAYLIGHT
TZOFFSETFROM:-0500
TZOFFSETTO:-0400
TZNAME:EDT
DTSTART:20290311T070000
END:DAYLIGHT
BEGIN:STANDARD
TZOFFSETFROM:-0400
TZOFFSETTO:-0500
TZNAME:EST
DTSTART:20291104T060000
END:STANDARD
END:VTIMEZONE
BEGIN:VEVENT
DTSTART;TZID=America/New_York:20271201T183000
DTEND;TZID=America/New_York:20271201T193000
DTSTAMP:20260419T130535
CREATED:20251010T195242Z
LAST-MODIFIED:20260226T164451Z
UID:10005348-1827685800-1827689400@firstchurchofmilford.org
SUMMARY:Adult Choir
DESCRIPTION:
URL:https://firstchurchofmilford.org/event/adult-choir-2/2027-12-01/
LOCATION:Choir Room
END:VEVENT
BEGIN:VEVENT
DTSTART;TZID=America/New_York:20271208T183000
DTEND;TZID=America/New_York:20271208T193000
DTSTAMP:20260419T130535
CREATED:20251010T195242Z
LAST-MODIFIED:20260226T164451Z
UID:10005349-1828290600-1828294200@firstchurchofmilford.org
SUMMARY:Adult Choir
DESCRIPTION:
URL:https://firstchurchofmilford.org/event/adult-choir-2/2027-12-08/
LOCATION:Choir Room
END:VEVENT
BEGIN:VEVENT
DTSTART;TZID=America/New_York:20271215T183000
DTEND;TZID=America/New_York:20271215T193000
DTSTAMP:20260419T130535
CREATED:20251010T195242Z
LAST-MODIFIED:20260226T164451Z
UID:10005350-1828895400-1828899000@firstchurchofmilford.org
SUMMARY:Adult Choir
DESCRIPTION:
URL:https://firstchurchofmilford.org/event/adult-choir-2/2027-12-15/
LOCATION:Choir Room
END:VEVENT
BEGIN:VEVENT
DTSTART;TZID=America/New_York:20271222T183000
DTEND;TZID=America/New_York:20271222T193000
DTSTAMP:20260419T130535
CREATED:20251010T195242Z
LAST-MODIFIED:20260226T164451Z
UID:10005351-1829500200-1829503800@firstchurchofmilford.org
SUMMARY:Adult Choir
DESCRIPTION:
URL:https://firstchurchofmilford.org/event/adult-choir-2/2027-12-22/
LOCATION:Choir Room
END:VEVENT
BEGIN:VEVENT
DTSTART;TZID=America/New_York:20271229T183000
DTEND;TZID=America/New_York:20271229T193000
DTSTAMP:20260419T130535
CREATED:20251010T195242Z
LAST-MODIFIED:20260226T164451Z
UID:10005352-1830105000-1830108600@firstchurchofmilford.org
SUMMARY:Adult Choir
DESCRIPTION:
URL:https://firstchurchofmilford.org/event/adult-choir-2/2027-12-29/
LOCATION:Choir Room
END:VEVENT
BEGIN:VEVENT
DTSTART;TZID=America/New_York:20280105T183000
DTEND;TZID=America/New_York:20280105T193000
DTSTAMP:20260419T130535
CREATED:20251010T195242Z
LAST-MODIFIED:20260226T164451Z
UID:10005353-1830709800-1830713400@firstchurchofmilford.org
SUMMARY:Adult Choir
DESCRIPTION:
URL:https://firstchurchofmilford.org/event/adult-choir-2/2028-01-05/
LOCATION:Choir Room
END:VEVENT
BEGIN:VEVENT
DTSTART;TZID=America/New_York:20280112T183000
DTEND;TZID=America/New_York:20280112T193000
DTSTAMP:20260419T130535
CREATED:20251010T195242Z
LAST-MODIFIED:20260226T164451Z
UID:10005354-1831314600-1831318200@firstchurchofmilford.org
SUMMARY:Adult Choir
DESCRIPTION:
URL:https://firstchurchofmilford.org/event/adult-choir-2/2028-01-12/
LOCATION:Choir Room
END:VEVENT
BEGIN:VEVENT
DTSTART;TZID=America/New_York:20280119T183000
DTEND;TZID=America/New_York:20280119T193000
DTSTAMP:20260419T130535
CREATED:20251010T195242Z
LAST-MODIFIED:20260226T164451Z
UID:10005355-1831919400-1831923000@firstchurchofmilford.org
SUMMARY:Adult Choir
DESCRIPTION:
URL:https://firstchurchofmilford.org/event/adult-choir-2/2028-01-19/
LOCATION:Choir Room
END:VEVENT
BEGIN:VEVENT
DTSTART;TZID=America/New_York:20280126T183000
DTEND;TZID=America/New_York:20280126T193000
DTSTAMP:20260419T130535
CREATED:20251010T195242Z
LAST-MODIFIED:20260226T164451Z
UID:10005356-1832524200-1832527800@firstchurchofmilford.org
SUMMARY:Adult Choir
DESCRIPTION:
URL:https://firstchurchofmilford.org/event/adult-choir-2/2028-01-26/
LOCATION:Choir Room
END:VEVENT
BEGIN:VEVENT
DTSTART;TZID=America/New_York:20280202T183000
DTEND;TZID=America/New_York:20280202T193000
DTSTAMP:20260419T130535
CREATED:20251010T195242Z
LAST-MODIFIED:20260226T164451Z
UID:10005357-1833129000-1833132600@firstchurchofmilford.org
SUMMARY:Adult Choir
DESCRIPTION:
URL:https://firstchurchofmilford.org/event/adult-choir-2/2028-02-02/
LOCATION:Choir Room
END:VEVENT
BEGIN:VEVENT
DTSTART;TZID=America/New_York:20280209T183000
DTEND;TZID=America/New_York:20280209T193000
DTSTAMP:20260419T130535
CREATED:20251010T195242Z
LAST-MODIFIED:20260226T164451Z
UID:10005358-1833733800-1833737400@firstchurchofmilford.org
SUMMARY:Adult Choir
DESCRIPTION:
URL:https://firstchurchofmilford.org/event/adult-choir-2/2028-02-09/
LOCATION:Choir Room
END:VEVENT
BEGIN:VEVENT
DTSTART;TZID=America/New_York:20280216T183000
DTEND;TZID=America/New_York:20280216T193000
DTSTAMP:20260419T130535
CREATED:20251010T195242Z
LAST-MODIFIED:20260226T164451Z
UID:10005359-1834338600-1834342200@firstchurchofmilford.org
SUMMARY:Adult Choir
DESCRIPTION:
URL:https://firstchurchofmilford.org/event/adult-choir-2/2028-02-16/
LOCATION:Choir Room
END:VEVENT
BEGIN:VEVENT
DTSTART;TZID=America/New_York:20280223T183000
DTEND;TZID=America/New_York:20280223T193000
DTSTAMP:20260419T130535
CREATED:20251010T195242Z
LAST-MODIFIED:20260226T164451Z
UID:10005360-1834943400-1834947000@firstchurchofmilford.org
SUMMARY:Adult Choir
DESCRIPTION:
URL:https://firstchurchofmilford.org/event/adult-choir-2/2028-02-23/
LOCATION:Choir Room
END:VEVENT
BEGIN:VEVENT
DTSTART;TZID=America/New_York:20280301T183000
DTEND;TZID=America/New_York:20280301T193000
DTSTAMP:20260419T130535
CREATED:20251010T195242Z
LAST-MODIFIED:20260226T164451Z
UID:10005361-1835548200-1835551800@firstchurchofmilford.org
SUMMARY:Adult Choir
DESCRIPTION:
URL:https://firstchurchofmilford.org/event/adult-choir-2/2028-03-01/
LOCATION:Choir Room
END:VEVENT
BEGIN:VEVENT
DTSTART;TZID=America/New_York:20280308T183000
DTEND;TZID=America/New_York:20280308T193000
DTSTAMP:20260419T130535
CREATED:20251010T195242Z
LAST-MODIFIED:20260226T164451Z
UID:10005362-1836153000-1836156600@firstchurchofmilford.org
SUMMARY:Adult Choir
DESCRIPTION:
URL:https://firstchurchofmilford.org/event/adult-choir-2/2028-03-08/
LOCATION:Choir Room
END:VEVENT
BEGIN:VEVENT
DTSTART;TZID=America/New_York:20280315T183000
DTEND;TZID=America/New_York:20280315T193000
DTSTAMP:20260419T130535
CREATED:20251010T195242Z
LAST-MODIFIED:20260226T164451Z
UID:10005363-1836757800-1836761400@firstchurchofmilford.org
SUMMARY:Adult Choir
DESCRIPTION:
URL:https://firstchurchofmilford.org/event/adult-choir-2/2028-03-15/
LOCATION:Choir Room
END:VEVENT
BEGIN:VEVENT
DTSTART;TZID=America/New_York:20280322T183000
DTEND;TZID=America/New_York:20280322T193000
DTSTAMP:20260419T130535
CREATED:20251010T195242Z
LAST-MODIFIED:20260226T164451Z
UID:10005364-1837362600-1837366200@firstchurchofmilford.org
SUMMARY:Adult Choir
DESCRIPTION:
URL:https://firstchurchofmilford.org/event/adult-choir-2/2028-03-22/
LOCATION:Choir Room
END:VEVENT
BEGIN:VEVENT
DTSTART;TZID=America/New_York:20280329T183000
DTEND;TZID=America/New_York:20280329T193000
DTSTAMP:20260419T130535
CREATED:20251010T195242Z
LAST-MODIFIED:20260226T164451Z
UID:10005365-1837967400-1837971000@firstchurchofmilford.org
SUMMARY:Adult Choir
DESCRIPTION:
URL:https://firstchurchofmilford.org/event/adult-choir-2/2028-03-29/
LOCATION:Choir Room
END:VEVENT
BEGIN:VEVENT
DTSTART;TZID=America/New_York:20280405T183000
DTEND;TZID=America/New_York:20280405T193000
DTSTAMP:20260419T130535
CREATED:20251010T195242Z
LAST-MODIFIED:20260226T164451Z
UID:10005366-1838572200-1838575800@firstchurchofmilford.org
SUMMARY:Adult Choir
DESCRIPTION:
URL:https://firstchurchofmilford.org/event/adult-choir-2/2028-04-05/
LOCATION:Choir Room
END:VEVENT
BEGIN:VEVENT
DTSTART;TZID=America/New_York:20280412T183000
DTEND;TZID=America/New_York:20280412T193000
DTSTAMP:20260419T130535
CREATED:20251010T195242Z
LAST-MODIFIED:20260226T164451Z
UID:10005367-1839177000-1839180600@firstchurchofmilford.org
SUMMARY:Adult Choir
DESCRIPTION:
URL:https://firstchurchofmilford.org/event/adult-choir-2/2028-04-12/
LOCATION:Choir Room
END:VEVENT
BEGIN:VEVENT
DTSTART;TZID=America/New_York:20280419T183000
DTEND;TZID=America/New_York:20280419T193000
DTSTAMP:20260419T130535
CREATED:20251010T195242Z
LAST-MODIFIED:20260226T164451Z
UID:10005368-1839781800-1839785400@firstchurchofmilford.org
SUMMARY:Adult Choir
DESCRIPTION:
URL:https://firstchurchofmilford.org/event/adult-choir-2/2028-04-19/
LOCATION:Choir Room
END:VEVENT
BEGIN:VEVENT
DTSTART;TZID=America/New_York:20280426T183000
DTEND;TZID=America/New_York:20280426T193000
DTSTAMP:20260419T130535
CREATED:20251010T195242Z
LAST-MODIFIED:20260226T164451Z
UID:10005369-1840386600-1840390200@firstchurchofmilford.org
SUMMARY:Adult Choir
DESCRIPTION:
URL:https://firstchurchofmilford.org/event/adult-choir-2/2028-04-26/
LOCATION:Choir Room
END:VEVENT
BEGIN:VEVENT
DTSTART;TZID=America/New_York:20280503T183000
DTEND;TZID=America/New_York:20280503T193000
DTSTAMP:20260419T130535
CREATED:20251010T195242Z
LAST-MODIFIED:20260226T164451Z
UID:10005370-1840991400-1840995000@firstchurchofmilford.org
SUMMARY:Adult Choir
DESCRIPTION:
URL:https://firstchurchofmilford.org/event/adult-choir-2/2028-05-03/
LOCATION:Choir Room
END:VEVENT
BEGIN:VEVENT
DTSTART;TZID=America/New_York:20280510T183000
DTEND;TZID=America/New_York:20280510T193000
DTSTAMP:20260419T130535
CREATED:20251010T195242Z
LAST-MODIFIED:20260226T164451Z
UID:10005371-1841596200-1841599800@firstchurchofmilford.org
SUMMARY:Adult Choir
DESCRIPTION:
URL:https://firstchurchofmilford.org/event/adult-choir-2/2028-05-10/
LOCATION:Choir Room
END:VEVENT
BEGIN:VEVENT
DTSTART;TZID=America/New_York:20280517T183000
DTEND;TZID=America/New_York:20280517T193000
DTSTAMP:20260419T130535
CREATED:20251010T195242Z
LAST-MODIFIED:20260226T164451Z
UID:10005372-1842201000-1842204600@firstchurchofmilford.org
SUMMARY:Adult Choir
DESCRIPTION:
URL:https://firstchurchofmilford.org/event/adult-choir-2/2028-05-17/
LOCATION:Choir Room
END:VEVENT
BEGIN:VEVENT
DTSTART;TZID=America/New_York:20280524T183000
DTEND;TZID=America/New_York:20280524T193000
DTSTAMP:20260419T130535
CREATED:20251010T195242Z
LAST-MODIFIED:20260226T164451Z
UID:10005373-1842805800-1842809400@firstchurchofmilford.org
SUMMARY:Adult Choir
DESCRIPTION:
URL:https://firstchurchofmilford.org/event/adult-choir-2/2028-05-24/
LOCATION:Choir Room
END:VEVENT
BEGIN:VEVENT
DTSTART;TZID=America/New_York:20280531T183000
DTEND;TZID=America/New_York:20280531T193000
DTSTAMP:20260419T130535
CREATED:20251010T195242Z
LAST-MODIFIED:20260226T164451Z
UID:10005374-1843410600-1843414200@firstchurchofmilford.org
SUMMARY:Adult Choir
DESCRIPTION:
URL:https://firstchurchofmilford.org/event/adult-choir-2/2028-05-31/
LOCATION:Choir Room
END:VEVENT
BEGIN:VEVENT
DTSTART;TZID=America/New_York:20280607T183000
DTEND;TZID=America/New_York:20280607T193000
DTSTAMP:20260419T130535
CREATED:20251010T195242Z
LAST-MODIFIED:20260226T164451Z
UID:10005375-1844015400-1844019000@firstchurchofmilford.org
SUMMARY:Adult Choir
DESCRIPTION:
URL:https://firstchurchofmilford.org/event/adult-choir-2/2028-06-07/
LOCATION:Choir Room
END:VEVENT
BEGIN:VEVENT
DTSTART;TZID=America/New_York:20280614T183000
DTEND;TZID=America/New_York:20280614T193000
DTSTAMP:20260419T130535
CREATED:20251010T195242Z
LAST-MODIFIED:20260226T164451Z
UID:10005376-1844620200-1844623800@firstchurchofmilford.org
SUMMARY:Adult Choir
DESCRIPTION:
URL:https://firstchurchofmilford.org/event/adult-choir-2/2028-06-14/
LOCATION:Choir Room
END:VEVENT
BEGIN:VEVENT
DTSTART;TZID=America/New_York:20280621T183000
DTEND;TZID=America/New_York:20280621T193000
DTSTAMP:20260419T130535
CREATED:20251010T195242Z
LAST-MODIFIED:20260226T164451Z
UID:10005377-1845225000-1845228600@firstchurchofmilford.org
SUMMARY:Adult Choir
DESCRIPTION:
URL:https://firstchurchofmilford.org/event/adult-choir-2/2028-06-21/
LOCATION:Choir Room
END:VEVENT
END:VCALENDAR