BEGIN:VCALENDAR
VERSION:2.0
PRODID:-//First United Church of Christ in Milford - ECPv6.15.17.1//NONSGML v1.0//EN
CALSCALE:GREGORIAN
METHOD:PUBLISH
X-ORIGINAL-URL:https://firstchurchofmilford.org
X-WR-CALDESC:Events for First United Church of Christ in Milford
REFRESH-INTERVAL;VALUE=DURATION:PT1H
X-Robots-Tag:noindex
X-PUBLISHED-TTL:PT1H
BEGIN:VTIMEZONE
TZID:America/New_York
BEGIN:DAYLIGHT
TZOFFSETFROM:-0500
TZOFFSETTO:-0400
TZNAME:EDT
DTSTART:20260308T070000
END:DAYLIGHT
BEGIN:STANDARD
TZOFFSETFROM:-0400
TZOFFSETTO:-0500
TZNAME:EST
DTSTART:20261101T060000
END:STANDARD
BEGIN:DAYLIGHT
TZOFFSETFROM:-0500
TZOFFSETTO:-0400
TZNAME:EDT
DTSTART:20270314T070000
END:DAYLIGHT
BEGIN:STANDARD
TZOFFSETFROM:-0400
TZOFFSETTO:-0500
TZNAME:EST
DTSTART:20271107T060000
END:STANDARD
BEGIN:DAYLIGHT
TZOFFSETFROM:-0500
TZOFFSETTO:-0400
TZNAME:EDT
DTSTART:20280312T070000
END:DAYLIGHT
BEGIN:STANDARD
TZOFFSETFROM:-0400
TZOFFSETTO:-0500
TZNAME:EST
DTSTART:20281105T060000
END:STANDARD
BEGIN:DAYLIGHT
TZOFFSETFROM:-0500
TZOFFSETTO:-0400
TZNAME:EDT
DTSTART:20290311T070000
END:DAYLIGHT
BEGIN:STANDARD
TZOFFSETFROM:-0400
TZOFFSETTO:-0500
TZNAME:EST
DTSTART:20291104T060000
END:STANDARD
END:VTIMEZONE
BEGIN:VEVENT
DTSTART;TZID=America/New_York:20270623T193000
DTEND;TZID=America/New_York:20270623T210000
DTSTAMP:20260423T071337
CREATED:20260226T164951Z
LAST-MODIFIED:20260226T170232Z
UID:10005586-1813779000-1813784400@firstchurchofmilford.org
SUMMARY:Meetinghouse Chorale
DESCRIPTION:
URL:https://firstchurchofmilford.org/event/meetinghouse-chorale/2027-06-23/
END:VEVENT
BEGIN:VEVENT
DTSTART;TZID=America/New_York:20270630T193000
DTEND;TZID=America/New_York:20270630T210000
DTSTAMP:20260423T071337
CREATED:20260226T164951Z
LAST-MODIFIED:20260226T170232Z
UID:10005587-1814383800-1814389200@firstchurchofmilford.org
SUMMARY:Meetinghouse Chorale
DESCRIPTION:
URL:https://firstchurchofmilford.org/event/meetinghouse-chorale/2027-06-30/
END:VEVENT
BEGIN:VEVENT
DTSTART;TZID=America/New_York:20270707T193000
DTEND;TZID=America/New_York:20270707T210000
DTSTAMP:20260423T071337
CREATED:20260226T164951Z
LAST-MODIFIED:20260226T170232Z
UID:10005588-1814988600-1814994000@firstchurchofmilford.org
SUMMARY:Meetinghouse Chorale
DESCRIPTION:
URL:https://firstchurchofmilford.org/event/meetinghouse-chorale/2027-07-07/
END:VEVENT
BEGIN:VEVENT
DTSTART;TZID=America/New_York:20270714T193000
DTEND;TZID=America/New_York:20270714T210000
DTSTAMP:20260423T071337
CREATED:20260226T164951Z
LAST-MODIFIED:20260226T170232Z
UID:10005589-1815593400-1815598800@firstchurchofmilford.org
SUMMARY:Meetinghouse Chorale
DESCRIPTION:
URL:https://firstchurchofmilford.org/event/meetinghouse-chorale/2027-07-14/
END:VEVENT
BEGIN:VEVENT
DTSTART;TZID=America/New_York:20270721T193000
DTEND;TZID=America/New_York:20270721T210000
DTSTAMP:20260423T071337
CREATED:20260226T164951Z
LAST-MODIFIED:20260226T170232Z
UID:10005590-1816198200-1816203600@firstchurchofmilford.org
SUMMARY:Meetinghouse Chorale
DESCRIPTION:
URL:https://firstchurchofmilford.org/event/meetinghouse-chorale/2027-07-21/
END:VEVENT
BEGIN:VEVENT
DTSTART;TZID=America/New_York:20270728T193000
DTEND;TZID=America/New_York:20270728T210000
DTSTAMP:20260423T071337
CREATED:20260226T164951Z
LAST-MODIFIED:20260226T170232Z
UID:10005591-1816803000-1816808400@firstchurchofmilford.org
SUMMARY:Meetinghouse Chorale
DESCRIPTION:
URL:https://firstchurchofmilford.org/event/meetinghouse-chorale/2027-07-28/
END:VEVENT
BEGIN:VEVENT
DTSTART;TZID=America/New_York:20270804T193000
DTEND;TZID=America/New_York:20270804T210000
DTSTAMP:20260423T071337
CREATED:20260226T164951Z
LAST-MODIFIED:20260226T170232Z
UID:10005592-1817407800-1817413200@firstchurchofmilford.org
SUMMARY:Meetinghouse Chorale
DESCRIPTION:
URL:https://firstchurchofmilford.org/event/meetinghouse-chorale/2027-08-04/
END:VEVENT
BEGIN:VEVENT
DTSTART;TZID=America/New_York:20270811T193000
DTEND;TZID=America/New_York:20270811T210000
DTSTAMP:20260423T071337
CREATED:20260226T164951Z
LAST-MODIFIED:20260226T170232Z
UID:10005593-1818012600-1818018000@firstchurchofmilford.org
SUMMARY:Meetinghouse Chorale
DESCRIPTION:
URL:https://firstchurchofmilford.org/event/meetinghouse-chorale/2027-08-11/
END:VEVENT
BEGIN:VEVENT
DTSTART;TZID=America/New_York:20270818T193000
DTEND;TZID=America/New_York:20270818T210000
DTSTAMP:20260423T071337
CREATED:20260226T164951Z
LAST-MODIFIED:20260226T170232Z
UID:10005594-1818617400-1818622800@firstchurchofmilford.org
SUMMARY:Meetinghouse Chorale
DESCRIPTION:
URL:https://firstchurchofmilford.org/event/meetinghouse-chorale/2027-08-18/
END:VEVENT
BEGIN:VEVENT
DTSTART;TZID=America/New_York:20270825T193000
DTEND;TZID=America/New_York:20270825T210000
DTSTAMP:20260423T071337
CREATED:20260226T164951Z
LAST-MODIFIED:20260226T170232Z
UID:10005595-1819222200-1819227600@firstchurchofmilford.org
SUMMARY:Meetinghouse Chorale
DESCRIPTION:
URL:https://firstchurchofmilford.org/event/meetinghouse-chorale/2027-08-25/
END:VEVENT
BEGIN:VEVENT
DTSTART;TZID=America/New_York:20270901T193000
DTEND;TZID=America/New_York:20270901T210000
DTSTAMP:20260423T071337
CREATED:20260226T164951Z
LAST-MODIFIED:20260226T170232Z
UID:10005596-1819827000-1819832400@firstchurchofmilford.org
SUMMARY:Meetinghouse Chorale
DESCRIPTION:
URL:https://firstchurchofmilford.org/event/meetinghouse-chorale/2027-09-01/
END:VEVENT
BEGIN:VEVENT
DTSTART;TZID=America/New_York:20270908T193000
DTEND;TZID=America/New_York:20270908T210000
DTSTAMP:20260423T071337
CREATED:20260226T164951Z
LAST-MODIFIED:20260226T170232Z
UID:10005597-1820431800-1820437200@firstchurchofmilford.org
SUMMARY:Meetinghouse Chorale
DESCRIPTION:
URL:https://firstchurchofmilford.org/event/meetinghouse-chorale/2027-09-08/
END:VEVENT
BEGIN:VEVENT
DTSTART;TZID=America/New_York:20270915T193000
DTEND;TZID=America/New_York:20270915T210000
DTSTAMP:20260423T071337
CREATED:20260226T164951Z
LAST-MODIFIED:20260226T170232Z
UID:10005598-1821036600-1821042000@firstchurchofmilford.org
SUMMARY:Meetinghouse Chorale
DESCRIPTION:
URL:https://firstchurchofmilford.org/event/meetinghouse-chorale/2027-09-15/
END:VEVENT
BEGIN:VEVENT
DTSTART;TZID=America/New_York:20270922T193000
DTEND;TZID=America/New_York:20270922T210000
DTSTAMP:20260423T071337
CREATED:20260226T164951Z
LAST-MODIFIED:20260226T170232Z
UID:10005599-1821641400-1821646800@firstchurchofmilford.org
SUMMARY:Meetinghouse Chorale
DESCRIPTION:
URL:https://firstchurchofmilford.org/event/meetinghouse-chorale/2027-09-22/
END:VEVENT
BEGIN:VEVENT
DTSTART;TZID=America/New_York:20270929T193000
DTEND;TZID=America/New_York:20270929T210000
DTSTAMP:20260423T071337
CREATED:20260226T164951Z
LAST-MODIFIED:20260226T170232Z
UID:10005600-1822246200-1822251600@firstchurchofmilford.org
SUMMARY:Meetinghouse Chorale
DESCRIPTION:
URL:https://firstchurchofmilford.org/event/meetinghouse-chorale/2027-09-29/
END:VEVENT
BEGIN:VEVENT
DTSTART;TZID=America/New_York:20271006T193000
DTEND;TZID=America/New_York:20271006T210000
DTSTAMP:20260423T071337
CREATED:20260226T164951Z
LAST-MODIFIED:20260226T170232Z
UID:10005601-1822851000-1822856400@firstchurchofmilford.org
SUMMARY:Meetinghouse Chorale
DESCRIPTION:
URL:https://firstchurchofmilford.org/event/meetinghouse-chorale/2027-10-06/
END:VEVENT
BEGIN:VEVENT
DTSTART;TZID=America/New_York:20271013T193000
DTEND;TZID=America/New_York:20271013T210000
DTSTAMP:20260423T071337
CREATED:20260226T164951Z
LAST-MODIFIED:20260226T170232Z
UID:10005602-1823455800-1823461200@firstchurchofmilford.org
SUMMARY:Meetinghouse Chorale
DESCRIPTION:
URL:https://firstchurchofmilford.org/event/meetinghouse-chorale/2027-10-13/
END:VEVENT
BEGIN:VEVENT
DTSTART;TZID=America/New_York:20271020T193000
DTEND;TZID=America/New_York:20271020T210000
DTSTAMP:20260423T071337
CREATED:20260226T164951Z
LAST-MODIFIED:20260226T170232Z
UID:10005603-1824060600-1824066000@firstchurchofmilford.org
SUMMARY:Meetinghouse Chorale
DESCRIPTION:
URL:https://firstchurchofmilford.org/event/meetinghouse-chorale/2027-10-20/
END:VEVENT
BEGIN:VEVENT
DTSTART;TZID=America/New_York:20271027T193000
DTEND;TZID=America/New_York:20271027T210000
DTSTAMP:20260423T071337
CREATED:20260226T164951Z
LAST-MODIFIED:20260226T170232Z
UID:10005604-1824665400-1824670800@firstchurchofmilford.org
SUMMARY:Meetinghouse Chorale
DESCRIPTION:
URL:https://firstchurchofmilford.org/event/meetinghouse-chorale/2027-10-27/
END:VEVENT
BEGIN:VEVENT
DTSTART;TZID=America/New_York:20271103T193000
DTEND;TZID=America/New_York:20271103T210000
DTSTAMP:20260423T071337
CREATED:20260226T164951Z
LAST-MODIFIED:20260226T170232Z
UID:10005605-1825270200-1825275600@firstchurchofmilford.org
SUMMARY:Meetinghouse Chorale
DESCRIPTION:
URL:https://firstchurchofmilford.org/event/meetinghouse-chorale/2027-11-03/
END:VEVENT
BEGIN:VEVENT
DTSTART;TZID=America/New_York:20271110T193000
DTEND;TZID=America/New_York:20271110T210000
DTSTAMP:20260423T071337
CREATED:20260226T164951Z
LAST-MODIFIED:20260226T170232Z
UID:10005606-1825875000-1825880400@firstchurchofmilford.org
SUMMARY:Meetinghouse Chorale
DESCRIPTION:
URL:https://firstchurchofmilford.org/event/meetinghouse-chorale/2027-11-10/
END:VEVENT
BEGIN:VEVENT
DTSTART;TZID=America/New_York:20271117T193000
DTEND;TZID=America/New_York:20271117T210000
DTSTAMP:20260423T071337
CREATED:20260226T164951Z
LAST-MODIFIED:20260226T170232Z
UID:10005607-1826479800-1826485200@firstchurchofmilford.org
SUMMARY:Meetinghouse Chorale
DESCRIPTION:
URL:https://firstchurchofmilford.org/event/meetinghouse-chorale/2027-11-17/
END:VEVENT
BEGIN:VEVENT
DTSTART;TZID=America/New_York:20271124T193000
DTEND;TZID=America/New_York:20271124T210000
DTSTAMP:20260423T071337
CREATED:20260226T164951Z
LAST-MODIFIED:20260226T170232Z
UID:10005608-1827084600-1827090000@firstchurchofmilford.org
SUMMARY:Meetinghouse Chorale
DESCRIPTION:
URL:https://firstchurchofmilford.org/event/meetinghouse-chorale/2027-11-24/
END:VEVENT
BEGIN:VEVENT
DTSTART;TZID=America/New_York:20271201T193000
DTEND;TZID=America/New_York:20271201T210000
DTSTAMP:20260423T071337
CREATED:20260226T164951Z
LAST-MODIFIED:20260226T170232Z
UID:10005609-1827689400-1827694800@firstchurchofmilford.org
SUMMARY:Meetinghouse Chorale
DESCRIPTION:
URL:https://firstchurchofmilford.org/event/meetinghouse-chorale/2027-12-01/
END:VEVENT
BEGIN:VEVENT
DTSTART;TZID=America/New_York:20271208T193000
DTEND;TZID=America/New_York:20271208T210000
DTSTAMP:20260423T071337
CREATED:20260226T164951Z
LAST-MODIFIED:20260226T170232Z
UID:10005610-1828294200-1828299600@firstchurchofmilford.org
SUMMARY:Meetinghouse Chorale
DESCRIPTION:
URL:https://firstchurchofmilford.org/event/meetinghouse-chorale/2027-12-08/
END:VEVENT
BEGIN:VEVENT
DTSTART;TZID=America/New_York:20271215T193000
DTEND;TZID=America/New_York:20271215T210000
DTSTAMP:20260423T071337
CREATED:20260226T164951Z
LAST-MODIFIED:20260226T170232Z
UID:10005611-1828899000-1828904400@firstchurchofmilford.org
SUMMARY:Meetinghouse Chorale
DESCRIPTION:
URL:https://firstchurchofmilford.org/event/meetinghouse-chorale/2027-12-15/
END:VEVENT
BEGIN:VEVENT
DTSTART;TZID=America/New_York:20271222T193000
DTEND;TZID=America/New_York:20271222T210000
DTSTAMP:20260423T071337
CREATED:20260226T164951Z
LAST-MODIFIED:20260226T170232Z
UID:10005612-1829503800-1829509200@firstchurchofmilford.org
SUMMARY:Meetinghouse Chorale
DESCRIPTION:
URL:https://firstchurchofmilford.org/event/meetinghouse-chorale/2027-12-22/
END:VEVENT
BEGIN:VEVENT
DTSTART;TZID=America/New_York:20271229T193000
DTEND;TZID=America/New_York:20271229T210000
DTSTAMP:20260423T071337
CREATED:20260226T164951Z
LAST-MODIFIED:20260226T170232Z
UID:10005613-1830108600-1830114000@firstchurchofmilford.org
SUMMARY:Meetinghouse Chorale
DESCRIPTION:
URL:https://firstchurchofmilford.org/event/meetinghouse-chorale/2027-12-29/
END:VEVENT
BEGIN:VEVENT
DTSTART;TZID=America/New_York:20280105T193000
DTEND;TZID=America/New_York:20280105T210000
DTSTAMP:20260423T071337
CREATED:20260226T164951Z
LAST-MODIFIED:20260226T170232Z
UID:10005614-1830713400-1830718800@firstchurchofmilford.org
SUMMARY:Meetinghouse Chorale
DESCRIPTION:
URL:https://firstchurchofmilford.org/event/meetinghouse-chorale/2028-01-05/
END:VEVENT
BEGIN:VEVENT
DTSTART;TZID=America/New_York:20280112T193000
DTEND;TZID=America/New_York:20280112T210000
DTSTAMP:20260423T071337
CREATED:20260226T164951Z
LAST-MODIFIED:20260226T170232Z
UID:10005615-1831318200-1831323600@firstchurchofmilford.org
SUMMARY:Meetinghouse Chorale
DESCRIPTION:
URL:https://firstchurchofmilford.org/event/meetinghouse-chorale/2028-01-12/
END:VEVENT
END:VCALENDAR