BEGIN:VCALENDAR
VERSION:2.0
PRODID:-//First United Church of Christ in Milford - ECPv6.15.17.1//NONSGML v1.0//EN
CALSCALE:GREGORIAN
METHOD:PUBLISH
X-WR-CALNAME:First United Church of Christ in Milford
X-ORIGINAL-URL:https://firstchurchofmilford.org
X-WR-CALDESC:Events for First United Church of Christ in Milford
REFRESH-INTERVAL;VALUE=DURATION:PT1H
X-Robots-Tag:noindex
X-PUBLISHED-TTL:PT1H
BEGIN:VTIMEZONE
TZID:America/New_York
BEGIN:DAYLIGHT
TZOFFSETFROM:-0500
TZOFFSETTO:-0400
TZNAME:EDT
DTSTART:20260308T070000
END:DAYLIGHT
BEGIN:STANDARD
TZOFFSETFROM:-0400
TZOFFSETTO:-0500
TZNAME:EST
DTSTART:20261101T060000
END:STANDARD
BEGIN:DAYLIGHT
TZOFFSETFROM:-0500
TZOFFSETTO:-0400
TZNAME:EDT
DTSTART:20270314T070000
END:DAYLIGHT
BEGIN:STANDARD
TZOFFSETFROM:-0400
TZOFFSETTO:-0500
TZNAME:EST
DTSTART:20271107T060000
END:STANDARD
BEGIN:DAYLIGHT
TZOFFSETFROM:-0500
TZOFFSETTO:-0400
TZNAME:EDT
DTSTART:20280312T070000
END:DAYLIGHT
BEGIN:STANDARD
TZOFFSETFROM:-0400
TZOFFSETTO:-0500
TZNAME:EST
DTSTART:20281105T060000
END:STANDARD
END:VTIMEZONE
BEGIN:VEVENT
DTSTART;TZID=America/New_York:20270324T183000
DTEND;TZID=America/New_York:20270324T193000
DTSTAMP:20260419T161726
CREATED:20251010T195242Z
LAST-MODIFIED:20260226T164451Z
UID:10005312-1805913000-1805916600@firstchurchofmilford.org
SUMMARY:Adult Choir
DESCRIPTION:
URL:https://firstchurchofmilford.org/event/adult-choir-2/2027-03-24/
LOCATION:Choir Room
END:VEVENT
BEGIN:VEVENT
DTSTART;TZID=America/New_York:20270331T183000
DTEND;TZID=America/New_York:20270331T193000
DTSTAMP:20260419T161726
CREATED:20251010T195242Z
LAST-MODIFIED:20260226T164451Z
UID:10005313-1806517800-1806521400@firstchurchofmilford.org
SUMMARY:Adult Choir
DESCRIPTION:
URL:https://firstchurchofmilford.org/event/adult-choir-2/2027-03-31/
LOCATION:Choir Room
END:VEVENT
BEGIN:VEVENT
DTSTART;TZID=America/New_York:20270407T183000
DTEND;TZID=America/New_York:20270407T193000
DTSTAMP:20260419T161726
CREATED:20251010T195242Z
LAST-MODIFIED:20260226T164451Z
UID:10005314-1807122600-1807126200@firstchurchofmilford.org
SUMMARY:Adult Choir
DESCRIPTION:
URL:https://firstchurchofmilford.org/event/adult-choir-2/2027-04-07/
LOCATION:Choir Room
END:VEVENT
BEGIN:VEVENT
DTSTART;TZID=America/New_York:20270414T183000
DTEND;TZID=America/New_York:20270414T193000
DTSTAMP:20260419T161726
CREATED:20251010T195242Z
LAST-MODIFIED:20260226T164451Z
UID:10005315-1807727400-1807731000@firstchurchofmilford.org
SUMMARY:Adult Choir
DESCRIPTION:
URL:https://firstchurchofmilford.org/event/adult-choir-2/2027-04-14/
LOCATION:Choir Room
END:VEVENT
BEGIN:VEVENT
DTSTART;TZID=America/New_York:20270421T183000
DTEND;TZID=America/New_York:20270421T193000
DTSTAMP:20260419T161726
CREATED:20251010T195242Z
LAST-MODIFIED:20260226T164451Z
UID:10005316-1808332200-1808335800@firstchurchofmilford.org
SUMMARY:Adult Choir
DESCRIPTION:
URL:https://firstchurchofmilford.org/event/adult-choir-2/2027-04-21/
LOCATION:Choir Room
END:VEVENT
BEGIN:VEVENT
DTSTART;TZID=America/New_York:20270428T183000
DTEND;TZID=America/New_York:20270428T193000
DTSTAMP:20260419T161726
CREATED:20251010T195242Z
LAST-MODIFIED:20260226T164451Z
UID:10005317-1808937000-1808940600@firstchurchofmilford.org
SUMMARY:Adult Choir
DESCRIPTION:
URL:https://firstchurchofmilford.org/event/adult-choir-2/2027-04-28/
LOCATION:Choir Room
END:VEVENT
BEGIN:VEVENT
DTSTART;TZID=America/New_York:20270505T183000
DTEND;TZID=America/New_York:20270505T193000
DTSTAMP:20260419T161726
CREATED:20251010T195242Z
LAST-MODIFIED:20260226T164451Z
UID:10005318-1809541800-1809545400@firstchurchofmilford.org
SUMMARY:Adult Choir
DESCRIPTION:
URL:https://firstchurchofmilford.org/event/adult-choir-2/2027-05-05/
LOCATION:Choir Room
END:VEVENT
BEGIN:VEVENT
DTSTART;TZID=America/New_York:20270512T183000
DTEND;TZID=America/New_York:20270512T193000
DTSTAMP:20260419T161726
CREATED:20251010T195242Z
LAST-MODIFIED:20260226T164451Z
UID:10005319-1810146600-1810150200@firstchurchofmilford.org
SUMMARY:Adult Choir
DESCRIPTION:
URL:https://firstchurchofmilford.org/event/adult-choir-2/2027-05-12/
LOCATION:Choir Room
END:VEVENT
BEGIN:VEVENT
DTSTART;TZID=America/New_York:20270519T183000
DTEND;TZID=America/New_York:20270519T193000
DTSTAMP:20260419T161726
CREATED:20251010T195242Z
LAST-MODIFIED:20260226T164451Z
UID:10005320-1810751400-1810755000@firstchurchofmilford.org
SUMMARY:Adult Choir
DESCRIPTION:
URL:https://firstchurchofmilford.org/event/adult-choir-2/2027-05-19/
LOCATION:Choir Room
END:VEVENT
BEGIN:VEVENT
DTSTART;TZID=America/New_York:20270526T183000
DTEND;TZID=America/New_York:20270526T193000
DTSTAMP:20260419T161726
CREATED:20251010T195242Z
LAST-MODIFIED:20260226T164451Z
UID:10005321-1811356200-1811359800@firstchurchofmilford.org
SUMMARY:Adult Choir
DESCRIPTION:
URL:https://firstchurchofmilford.org/event/adult-choir-2/2027-05-26/
LOCATION:Choir Room
END:VEVENT
BEGIN:VEVENT
DTSTART;TZID=America/New_York:20270602T183000
DTEND;TZID=America/New_York:20270602T193000
DTSTAMP:20260419T161726
CREATED:20251010T195242Z
LAST-MODIFIED:20260226T164451Z
UID:10005322-1811961000-1811964600@firstchurchofmilford.org
SUMMARY:Adult Choir
DESCRIPTION:
URL:https://firstchurchofmilford.org/event/adult-choir-2/2027-06-02/
LOCATION:Choir Room
END:VEVENT
BEGIN:VEVENT
DTSTART;TZID=America/New_York:20270609T183000
DTEND;TZID=America/New_York:20270609T193000
DTSTAMP:20260419T161726
CREATED:20251010T195242Z
LAST-MODIFIED:20260226T164451Z
UID:10005323-1812565800-1812569400@firstchurchofmilford.org
SUMMARY:Adult Choir
DESCRIPTION:
URL:https://firstchurchofmilford.org/event/adult-choir-2/2027-06-09/
LOCATION:Choir Room
END:VEVENT
BEGIN:VEVENT
DTSTART;TZID=America/New_York:20270616T183000
DTEND;TZID=America/New_York:20270616T193000
DTSTAMP:20260419T161726
CREATED:20251010T195242Z
LAST-MODIFIED:20260226T164451Z
UID:10005324-1813170600-1813174200@firstchurchofmilford.org
SUMMARY:Adult Choir
DESCRIPTION:
URL:https://firstchurchofmilford.org/event/adult-choir-2/2027-06-16/
LOCATION:Choir Room
END:VEVENT
BEGIN:VEVENT
DTSTART;TZID=America/New_York:20270623T183000
DTEND;TZID=America/New_York:20270623T193000
DTSTAMP:20260419T161726
CREATED:20251010T195242Z
LAST-MODIFIED:20260226T164451Z
UID:10005325-1813775400-1813779000@firstchurchofmilford.org
SUMMARY:Adult Choir
DESCRIPTION:
URL:https://firstchurchofmilford.org/event/adult-choir-2/2027-06-23/
LOCATION:Choir Room
END:VEVENT
BEGIN:VEVENT
DTSTART;TZID=America/New_York:20270630T183000
DTEND;TZID=America/New_York:20270630T193000
DTSTAMP:20260419T161726
CREATED:20251010T195242Z
LAST-MODIFIED:20260226T164451Z
UID:10005326-1814380200-1814383800@firstchurchofmilford.org
SUMMARY:Adult Choir
DESCRIPTION:
URL:https://firstchurchofmilford.org/event/adult-choir-2/2027-06-30/
LOCATION:Choir Room
END:VEVENT
BEGIN:VEVENT
DTSTART;TZID=America/New_York:20270707T183000
DTEND;TZID=America/New_York:20270707T193000
DTSTAMP:20260419T161726
CREATED:20251010T195242Z
LAST-MODIFIED:20260226T164451Z
UID:10005327-1814985000-1814988600@firstchurchofmilford.org
SUMMARY:Adult Choir
DESCRIPTION:
URL:https://firstchurchofmilford.org/event/adult-choir-2/2027-07-07/
LOCATION:Choir Room
END:VEVENT
BEGIN:VEVENT
DTSTART;TZID=America/New_York:20270714T183000
DTEND;TZID=America/New_York:20270714T193000
DTSTAMP:20260419T161726
CREATED:20251010T195242Z
LAST-MODIFIED:20260226T164451Z
UID:10005328-1815589800-1815593400@firstchurchofmilford.org
SUMMARY:Adult Choir
DESCRIPTION:
URL:https://firstchurchofmilford.org/event/adult-choir-2/2027-07-14/
LOCATION:Choir Room
END:VEVENT
BEGIN:VEVENT
DTSTART;TZID=America/New_York:20270721T183000
DTEND;TZID=America/New_York:20270721T193000
DTSTAMP:20260419T161726
CREATED:20251010T195242Z
LAST-MODIFIED:20260226T164451Z
UID:10005329-1816194600-1816198200@firstchurchofmilford.org
SUMMARY:Adult Choir
DESCRIPTION:
URL:https://firstchurchofmilford.org/event/adult-choir-2/2027-07-21/
LOCATION:Choir Room
END:VEVENT
BEGIN:VEVENT
DTSTART;TZID=America/New_York:20270728T183000
DTEND;TZID=America/New_York:20270728T193000
DTSTAMP:20260419T161726
CREATED:20251010T195242Z
LAST-MODIFIED:20260226T164451Z
UID:10005330-1816799400-1816803000@firstchurchofmilford.org
SUMMARY:Adult Choir
DESCRIPTION:
URL:https://firstchurchofmilford.org/event/adult-choir-2/2027-07-28/
LOCATION:Choir Room
END:VEVENT
BEGIN:VEVENT
DTSTART;TZID=America/New_York:20270804T183000
DTEND;TZID=America/New_York:20270804T193000
DTSTAMP:20260419T161726
CREATED:20251010T195242Z
LAST-MODIFIED:20260226T164451Z
UID:10005331-1817404200-1817407800@firstchurchofmilford.org
SUMMARY:Adult Choir
DESCRIPTION:
URL:https://firstchurchofmilford.org/event/adult-choir-2/2027-08-04/
LOCATION:Choir Room
END:VEVENT
BEGIN:VEVENT
DTSTART;TZID=America/New_York:20270811T183000
DTEND;TZID=America/New_York:20270811T193000
DTSTAMP:20260419T161726
CREATED:20251010T195242Z
LAST-MODIFIED:20260226T164451Z
UID:10005332-1818009000-1818012600@firstchurchofmilford.org
SUMMARY:Adult Choir
DESCRIPTION:
URL:https://firstchurchofmilford.org/event/adult-choir-2/2027-08-11/
LOCATION:Choir Room
END:VEVENT
BEGIN:VEVENT
DTSTART;TZID=America/New_York:20270818T183000
DTEND;TZID=America/New_York:20270818T193000
DTSTAMP:20260419T161726
CREATED:20251010T195242Z
LAST-MODIFIED:20260226T164451Z
UID:10005333-1818613800-1818617400@firstchurchofmilford.org
SUMMARY:Adult Choir
DESCRIPTION:
URL:https://firstchurchofmilford.org/event/adult-choir-2/2027-08-18/
LOCATION:Choir Room
END:VEVENT
BEGIN:VEVENT
DTSTART;TZID=America/New_York:20270825T183000
DTEND;TZID=America/New_York:20270825T193000
DTSTAMP:20260419T161726
CREATED:20251010T195242Z
LAST-MODIFIED:20260226T164451Z
UID:10005334-1819218600-1819222200@firstchurchofmilford.org
SUMMARY:Adult Choir
DESCRIPTION:
URL:https://firstchurchofmilford.org/event/adult-choir-2/2027-08-25/
LOCATION:Choir Room
END:VEVENT
BEGIN:VEVENT
DTSTART;TZID=America/New_York:20270901T183000
DTEND;TZID=America/New_York:20270901T193000
DTSTAMP:20260419T161726
CREATED:20251010T195242Z
LAST-MODIFIED:20260226T164451Z
UID:10005335-1819823400-1819827000@firstchurchofmilford.org
SUMMARY:Adult Choir
DESCRIPTION:
URL:https://firstchurchofmilford.org/event/adult-choir-2/2027-09-01/
LOCATION:Choir Room
END:VEVENT
BEGIN:VEVENT
DTSTART;TZID=America/New_York:20270908T183000
DTEND;TZID=America/New_York:20270908T193000
DTSTAMP:20260419T161726
CREATED:20251010T195242Z
LAST-MODIFIED:20260226T164451Z
UID:10005336-1820428200-1820431800@firstchurchofmilford.org
SUMMARY:Adult Choir
DESCRIPTION:
URL:https://firstchurchofmilford.org/event/adult-choir-2/2027-09-08/
LOCATION:Choir Room
END:VEVENT
BEGIN:VEVENT
DTSTART;TZID=America/New_York:20270915T183000
DTEND;TZID=America/New_York:20270915T193000
DTSTAMP:20260419T161726
CREATED:20251010T195242Z
LAST-MODIFIED:20260226T164451Z
UID:10005337-1821033000-1821036600@firstchurchofmilford.org
SUMMARY:Adult Choir
DESCRIPTION:
URL:https://firstchurchofmilford.org/event/adult-choir-2/2027-09-15/
LOCATION:Choir Room
END:VEVENT
BEGIN:VEVENT
DTSTART;TZID=America/New_York:20270922T183000
DTEND;TZID=America/New_York:20270922T193000
DTSTAMP:20260419T161726
CREATED:20251010T195242Z
LAST-MODIFIED:20260226T164451Z
UID:10005338-1821637800-1821641400@firstchurchofmilford.org
SUMMARY:Adult Choir
DESCRIPTION:
URL:https://firstchurchofmilford.org/event/adult-choir-2/2027-09-22/
LOCATION:Choir Room
END:VEVENT
BEGIN:VEVENT
DTSTART;TZID=America/New_York:20270929T183000
DTEND;TZID=America/New_York:20270929T193000
DTSTAMP:20260419T161726
CREATED:20251010T195242Z
LAST-MODIFIED:20260226T164451Z
UID:10005339-1822242600-1822246200@firstchurchofmilford.org
SUMMARY:Adult Choir
DESCRIPTION:
URL:https://firstchurchofmilford.org/event/adult-choir-2/2027-09-29/
LOCATION:Choir Room
END:VEVENT
BEGIN:VEVENT
DTSTART;TZID=America/New_York:20271006T183000
DTEND;TZID=America/New_York:20271006T193000
DTSTAMP:20260419T161726
CREATED:20251010T195242Z
LAST-MODIFIED:20260226T164451Z
UID:10005340-1822847400-1822851000@firstchurchofmilford.org
SUMMARY:Adult Choir
DESCRIPTION:
URL:https://firstchurchofmilford.org/event/adult-choir-2/2027-10-06/
LOCATION:Choir Room
END:VEVENT
BEGIN:VEVENT
DTSTART;TZID=America/New_York:20271013T183000
DTEND;TZID=America/New_York:20271013T193000
DTSTAMP:20260419T161726
CREATED:20251010T195242Z
LAST-MODIFIED:20260226T164451Z
UID:10005341-1823452200-1823455800@firstchurchofmilford.org
SUMMARY:Adult Choir
DESCRIPTION:
URL:https://firstchurchofmilford.org/event/adult-choir-2/2027-10-13/
LOCATION:Choir Room
END:VEVENT
END:VCALENDAR