BEGIN:VCALENDAR
VERSION:2.0
PRODID:-//First United Church of Christ in Milford - ECPv6.15.17.1//NONSGML v1.0//EN
CALSCALE:GREGORIAN
METHOD:PUBLISH
X-ORIGINAL-URL:https://firstchurchofmilford.org
X-WR-CALDESC:Events for First United Church of Christ in Milford
REFRESH-INTERVAL;VALUE=DURATION:PT1H
X-Robots-Tag:noindex
X-PUBLISHED-TTL:PT1H
BEGIN:VTIMEZONE
TZID:America/New_York
BEGIN:DAYLIGHT
TZOFFSETFROM:-0500
TZOFFSETTO:-0400
TZNAME:EDT
DTSTART:20250309T070000
END:DAYLIGHT
BEGIN:STANDARD
TZOFFSETFROM:-0400
TZOFFSETTO:-0500
TZNAME:EST
DTSTART:20251102T060000
END:STANDARD
BEGIN:DAYLIGHT
TZOFFSETFROM:-0500
TZOFFSETTO:-0400
TZNAME:EDT
DTSTART:20260308T070000
END:DAYLIGHT
BEGIN:STANDARD
TZOFFSETFROM:-0400
TZOFFSETTO:-0500
TZNAME:EST
DTSTART:20261101T060000
END:STANDARD
BEGIN:DAYLIGHT
TZOFFSETFROM:-0500
TZOFFSETTO:-0400
TZNAME:EDT
DTSTART:20270314T070000
END:DAYLIGHT
BEGIN:STANDARD
TZOFFSETFROM:-0400
TZOFFSETTO:-0500
TZNAME:EST
DTSTART:20271107T060000
END:STANDARD
BEGIN:DAYLIGHT
TZOFFSETFROM:-0500
TZOFFSETTO:-0400
TZNAME:EDT
DTSTART:20280312T070000
END:DAYLIGHT
BEGIN:STANDARD
TZOFFSETFROM:-0400
TZOFFSETTO:-0500
TZNAME:EST
DTSTART:20281105T060000
END:STANDARD
END:VTIMEZONE
BEGIN:VEVENT
DTSTART;TZID=America/New_York:20261007T193000
DTEND;TZID=America/New_York:20261007T210000
DTSTAMP:20260421T065506
CREATED:20260226T164951Z
LAST-MODIFIED:20260226T170232Z
UID:10005549-1791401400-1791406800@firstchurchofmilford.org
SUMMARY:Meetinghouse Chorale
DESCRIPTION:
URL:https://firstchurchofmilford.org/event/meetinghouse-chorale/2026-10-07/
END:VEVENT
BEGIN:VEVENT
DTSTART;TZID=America/New_York:20261014T193000
DTEND;TZID=America/New_York:20261014T210000
DTSTAMP:20260421T065506
CREATED:20260226T164951Z
LAST-MODIFIED:20260226T170232Z
UID:10005550-1792006200-1792011600@firstchurchofmilford.org
SUMMARY:Meetinghouse Chorale
DESCRIPTION:
URL:https://firstchurchofmilford.org/event/meetinghouse-chorale/2026-10-14/
END:VEVENT
BEGIN:VEVENT
DTSTART;TZID=America/New_York:20261021T193000
DTEND;TZID=America/New_York:20261021T210000
DTSTAMP:20260421T065506
CREATED:20260226T164951Z
LAST-MODIFIED:20260226T170232Z
UID:10005551-1792611000-1792616400@firstchurchofmilford.org
SUMMARY:Meetinghouse Chorale
DESCRIPTION:
URL:https://firstchurchofmilford.org/event/meetinghouse-chorale/2026-10-21/
END:VEVENT
BEGIN:VEVENT
DTSTART;TZID=America/New_York:20261028T193000
DTEND;TZID=America/New_York:20261028T210000
DTSTAMP:20260421T065506
CREATED:20260226T164951Z
LAST-MODIFIED:20260226T170232Z
UID:10005552-1793215800-1793221200@firstchurchofmilford.org
SUMMARY:Meetinghouse Chorale
DESCRIPTION:
URL:https://firstchurchofmilford.org/event/meetinghouse-chorale/2026-10-28/
END:VEVENT
BEGIN:VEVENT
DTSTART;TZID=America/New_York:20261104T193000
DTEND;TZID=America/New_York:20261104T210000
DTSTAMP:20260421T065506
CREATED:20260226T164951Z
LAST-MODIFIED:20260226T170232Z
UID:10005553-1793820600-1793826000@firstchurchofmilford.org
SUMMARY:Meetinghouse Chorale
DESCRIPTION:
URL:https://firstchurchofmilford.org/event/meetinghouse-chorale/2026-11-04/
END:VEVENT
BEGIN:VEVENT
DTSTART;TZID=America/New_York:20261111T193000
DTEND;TZID=America/New_York:20261111T210000
DTSTAMP:20260421T065506
CREATED:20260226T164951Z
LAST-MODIFIED:20260226T170232Z
UID:10005554-1794425400-1794430800@firstchurchofmilford.org
SUMMARY:Meetinghouse Chorale
DESCRIPTION:
URL:https://firstchurchofmilford.org/event/meetinghouse-chorale/2026-11-11/
END:VEVENT
BEGIN:VEVENT
DTSTART;TZID=America/New_York:20261118T193000
DTEND;TZID=America/New_York:20261118T210000
DTSTAMP:20260421T065506
CREATED:20260226T164951Z
LAST-MODIFIED:20260226T170232Z
UID:10005555-1795030200-1795035600@firstchurchofmilford.org
SUMMARY:Meetinghouse Chorale
DESCRIPTION:
URL:https://firstchurchofmilford.org/event/meetinghouse-chorale/2026-11-18/
END:VEVENT
BEGIN:VEVENT
DTSTART;TZID=America/New_York:20261125T193000
DTEND;TZID=America/New_York:20261125T210000
DTSTAMP:20260421T065506
CREATED:20260226T164951Z
LAST-MODIFIED:20260226T170232Z
UID:10005556-1795635000-1795640400@firstchurchofmilford.org
SUMMARY:Meetinghouse Chorale
DESCRIPTION:
URL:https://firstchurchofmilford.org/event/meetinghouse-chorale/2026-11-25/
END:VEVENT
BEGIN:VEVENT
DTSTART;TZID=America/New_York:20261202T193000
DTEND;TZID=America/New_York:20261202T210000
DTSTAMP:20260421T065506
CREATED:20260226T164951Z
LAST-MODIFIED:20260226T170232Z
UID:10005557-1796239800-1796245200@firstchurchofmilford.org
SUMMARY:Meetinghouse Chorale
DESCRIPTION:
URL:https://firstchurchofmilford.org/event/meetinghouse-chorale/2026-12-02/
END:VEVENT
BEGIN:VEVENT
DTSTART;TZID=America/New_York:20261209T193000
DTEND;TZID=America/New_York:20261209T210000
DTSTAMP:20260421T065506
CREATED:20260226T164951Z
LAST-MODIFIED:20260226T170232Z
UID:10005558-1796844600-1796850000@firstchurchofmilford.org
SUMMARY:Meetinghouse Chorale
DESCRIPTION:
URL:https://firstchurchofmilford.org/event/meetinghouse-chorale/2026-12-09/
END:VEVENT
BEGIN:VEVENT
DTSTART;TZID=America/New_York:20261216T193000
DTEND;TZID=America/New_York:20261216T210000
DTSTAMP:20260421T065506
CREATED:20260226T164951Z
LAST-MODIFIED:20260226T170232Z
UID:10005559-1797449400-1797454800@firstchurchofmilford.org
SUMMARY:Meetinghouse Chorale
DESCRIPTION:
URL:https://firstchurchofmilford.org/event/meetinghouse-chorale/2026-12-16/
END:VEVENT
BEGIN:VEVENT
DTSTART;TZID=America/New_York:20261223T193000
DTEND;TZID=America/New_York:20261223T210000
DTSTAMP:20260421T065506
CREATED:20260226T164951Z
LAST-MODIFIED:20260226T170232Z
UID:10005560-1798054200-1798059600@firstchurchofmilford.org
SUMMARY:Meetinghouse Chorale
DESCRIPTION:
URL:https://firstchurchofmilford.org/event/meetinghouse-chorale/2026-12-23/
END:VEVENT
BEGIN:VEVENT
DTSTART;TZID=America/New_York:20261230T193000
DTEND;TZID=America/New_York:20261230T210000
DTSTAMP:20260421T065506
CREATED:20260226T164951Z
LAST-MODIFIED:20260226T170232Z
UID:10005561-1798659000-1798664400@firstchurchofmilford.org
SUMMARY:Meetinghouse Chorale
DESCRIPTION:
URL:https://firstchurchofmilford.org/event/meetinghouse-chorale/2026-12-30/
END:VEVENT
BEGIN:VEVENT
DTSTART;TZID=America/New_York:20270106T193000
DTEND;TZID=America/New_York:20270106T210000
DTSTAMP:20260421T065506
CREATED:20260226T164951Z
LAST-MODIFIED:20260226T170232Z
UID:10005562-1799263800-1799269200@firstchurchofmilford.org
SUMMARY:Meetinghouse Chorale
DESCRIPTION:
URL:https://firstchurchofmilford.org/event/meetinghouse-chorale/2027-01-06/
END:VEVENT
BEGIN:VEVENT
DTSTART;TZID=America/New_York:20270113T193000
DTEND;TZID=America/New_York:20270113T210000
DTSTAMP:20260421T065506
CREATED:20260226T164951Z
LAST-MODIFIED:20260226T170232Z
UID:10005563-1799868600-1799874000@firstchurchofmilford.org
SUMMARY:Meetinghouse Chorale
DESCRIPTION:
URL:https://firstchurchofmilford.org/event/meetinghouse-chorale/2027-01-13/
END:VEVENT
BEGIN:VEVENT
DTSTART;TZID=America/New_York:20270120T193000
DTEND;TZID=America/New_York:20270120T210000
DTSTAMP:20260421T065506
CREATED:20260226T164951Z
LAST-MODIFIED:20260226T170232Z
UID:10005564-1800473400-1800478800@firstchurchofmilford.org
SUMMARY:Meetinghouse Chorale
DESCRIPTION:
URL:https://firstchurchofmilford.org/event/meetinghouse-chorale/2027-01-20/
END:VEVENT
BEGIN:VEVENT
DTSTART;TZID=America/New_York:20270127T193000
DTEND;TZID=America/New_York:20270127T210000
DTSTAMP:20260421T065506
CREATED:20260226T164951Z
LAST-MODIFIED:20260226T170232Z
UID:10005565-1801078200-1801083600@firstchurchofmilford.org
SUMMARY:Meetinghouse Chorale
DESCRIPTION:
URL:https://firstchurchofmilford.org/event/meetinghouse-chorale/2027-01-27/
END:VEVENT
BEGIN:VEVENT
DTSTART;TZID=America/New_York:20270203T193000
DTEND;TZID=America/New_York:20270203T210000
DTSTAMP:20260421T065506
CREATED:20260226T164951Z
LAST-MODIFIED:20260226T170232Z
UID:10005566-1801683000-1801688400@firstchurchofmilford.org
SUMMARY:Meetinghouse Chorale
DESCRIPTION:
URL:https://firstchurchofmilford.org/event/meetinghouse-chorale/2027-02-03/
END:VEVENT
BEGIN:VEVENT
DTSTART;TZID=America/New_York:20270210T193000
DTEND;TZID=America/New_York:20270210T210000
DTSTAMP:20260421T065506
CREATED:20260226T164951Z
LAST-MODIFIED:20260226T170232Z
UID:10005567-1802287800-1802293200@firstchurchofmilford.org
SUMMARY:Meetinghouse Chorale
DESCRIPTION:
URL:https://firstchurchofmilford.org/event/meetinghouse-chorale/2027-02-10/
END:VEVENT
BEGIN:VEVENT
DTSTART;TZID=America/New_York:20270217T193000
DTEND;TZID=America/New_York:20270217T210000
DTSTAMP:20260421T065506
CREATED:20260226T164951Z
LAST-MODIFIED:20260226T170232Z
UID:10005568-1802892600-1802898000@firstchurchofmilford.org
SUMMARY:Meetinghouse Chorale
DESCRIPTION:
URL:https://firstchurchofmilford.org/event/meetinghouse-chorale/2027-02-17/
END:VEVENT
BEGIN:VEVENT
DTSTART;TZID=America/New_York:20270224T193000
DTEND;TZID=America/New_York:20270224T210000
DTSTAMP:20260421T065506
CREATED:20260226T164951Z
LAST-MODIFIED:20260226T170232Z
UID:10005569-1803497400-1803502800@firstchurchofmilford.org
SUMMARY:Meetinghouse Chorale
DESCRIPTION:
URL:https://firstchurchofmilford.org/event/meetinghouse-chorale/2027-02-24/
END:VEVENT
BEGIN:VEVENT
DTSTART;TZID=America/New_York:20270303T193000
DTEND;TZID=America/New_York:20270303T210000
DTSTAMP:20260421T065506
CREATED:20260226T164951Z
LAST-MODIFIED:20260226T170232Z
UID:10005570-1804102200-1804107600@firstchurchofmilford.org
SUMMARY:Meetinghouse Chorale
DESCRIPTION:
URL:https://firstchurchofmilford.org/event/meetinghouse-chorale/2027-03-03/
END:VEVENT
BEGIN:VEVENT
DTSTART;TZID=America/New_York:20270310T193000
DTEND;TZID=America/New_York:20270310T210000
DTSTAMP:20260421T065506
CREATED:20260226T164951Z
LAST-MODIFIED:20260226T170232Z
UID:10005571-1804707000-1804712400@firstchurchofmilford.org
SUMMARY:Meetinghouse Chorale
DESCRIPTION:
URL:https://firstchurchofmilford.org/event/meetinghouse-chorale/2027-03-10/
END:VEVENT
BEGIN:VEVENT
DTSTART;TZID=America/New_York:20270317T193000
DTEND;TZID=America/New_York:20270317T210000
DTSTAMP:20260421T065506
CREATED:20260226T164951Z
LAST-MODIFIED:20260226T170232Z
UID:10005572-1805311800-1805317200@firstchurchofmilford.org
SUMMARY:Meetinghouse Chorale
DESCRIPTION:
URL:https://firstchurchofmilford.org/event/meetinghouse-chorale/2027-03-17/
END:VEVENT
BEGIN:VEVENT
DTSTART;TZID=America/New_York:20270324T193000
DTEND;TZID=America/New_York:20270324T210000
DTSTAMP:20260421T065506
CREATED:20260226T164951Z
LAST-MODIFIED:20260226T170232Z
UID:10005573-1805916600-1805922000@firstchurchofmilford.org
SUMMARY:Meetinghouse Chorale
DESCRIPTION:
URL:https://firstchurchofmilford.org/event/meetinghouse-chorale/2027-03-24/
END:VEVENT
BEGIN:VEVENT
DTSTART;TZID=America/New_York:20270331T193000
DTEND;TZID=America/New_York:20270331T210000
DTSTAMP:20260421T065506
CREATED:20260226T164951Z
LAST-MODIFIED:20260226T170232Z
UID:10005574-1806521400-1806526800@firstchurchofmilford.org
SUMMARY:Meetinghouse Chorale
DESCRIPTION:
URL:https://firstchurchofmilford.org/event/meetinghouse-chorale/2027-03-31/
END:VEVENT
BEGIN:VEVENT
DTSTART;TZID=America/New_York:20270407T193000
DTEND;TZID=America/New_York:20270407T210000
DTSTAMP:20260421T065506
CREATED:20260226T164951Z
LAST-MODIFIED:20260226T170232Z
UID:10005575-1807126200-1807131600@firstchurchofmilford.org
SUMMARY:Meetinghouse Chorale
DESCRIPTION:
URL:https://firstchurchofmilford.org/event/meetinghouse-chorale/2027-04-07/
END:VEVENT
BEGIN:VEVENT
DTSTART;TZID=America/New_York:20270414T193000
DTEND;TZID=America/New_York:20270414T210000
DTSTAMP:20260421T065506
CREATED:20260226T164951Z
LAST-MODIFIED:20260226T170232Z
UID:10005576-1807731000-1807736400@firstchurchofmilford.org
SUMMARY:Meetinghouse Chorale
DESCRIPTION:
URL:https://firstchurchofmilford.org/event/meetinghouse-chorale/2027-04-14/
END:VEVENT
BEGIN:VEVENT
DTSTART;TZID=America/New_York:20270421T193000
DTEND;TZID=America/New_York:20270421T210000
DTSTAMP:20260421T065506
CREATED:20260226T164951Z
LAST-MODIFIED:20260226T170232Z
UID:10005577-1808335800-1808341200@firstchurchofmilford.org
SUMMARY:Meetinghouse Chorale
DESCRIPTION:
URL:https://firstchurchofmilford.org/event/meetinghouse-chorale/2027-04-21/
END:VEVENT
BEGIN:VEVENT
DTSTART;TZID=America/New_York:20270428T193000
DTEND;TZID=America/New_York:20270428T210000
DTSTAMP:20260421T065506
CREATED:20260226T164951Z
LAST-MODIFIED:20260226T170232Z
UID:10005578-1808940600-1808946000@firstchurchofmilford.org
SUMMARY:Meetinghouse Chorale
DESCRIPTION:
URL:https://firstchurchofmilford.org/event/meetinghouse-chorale/2027-04-28/
END:VEVENT
END:VCALENDAR