BEGIN:VCALENDAR
VERSION:2.0
PRODID:-//First United Church of Christ in Milford - ECPv6.15.17.1//NONSGML v1.0//EN
CALSCALE:GREGORIAN
METHOD:PUBLISH
X-WR-CALNAME:First United Church of Christ in Milford
X-ORIGINAL-URL:https://firstchurchofmilford.org
X-WR-CALDESC:Events for First United Church of Christ in Milford
REFRESH-INTERVAL;VALUE=DURATION:PT1H
X-Robots-Tag:noindex
X-PUBLISHED-TTL:PT1H
BEGIN:VTIMEZONE
TZID:America/New_York
BEGIN:DAYLIGHT
TZOFFSETFROM:-0500
TZOFFSETTO:-0400
TZNAME:EDT
DTSTART:20250309T070000
END:DAYLIGHT
BEGIN:STANDARD
TZOFFSETFROM:-0400
TZOFFSETTO:-0500
TZNAME:EST
DTSTART:20251102T060000
END:STANDARD
BEGIN:DAYLIGHT
TZOFFSETFROM:-0500
TZOFFSETTO:-0400
TZNAME:EDT
DTSTART:20260308T070000
END:DAYLIGHT
BEGIN:STANDARD
TZOFFSETFROM:-0400
TZOFFSETTO:-0500
TZNAME:EST
DTSTART:20261101T060000
END:STANDARD
BEGIN:DAYLIGHT
TZOFFSETFROM:-0500
TZOFFSETTO:-0400
TZNAME:EDT
DTSTART:20270314T070000
END:DAYLIGHT
BEGIN:STANDARD
TZOFFSETFROM:-0400
TZOFFSETTO:-0500
TZNAME:EST
DTSTART:20271107T060000
END:STANDARD
BEGIN:DAYLIGHT
TZOFFSETFROM:-0500
TZOFFSETTO:-0400
TZNAME:EDT
DTSTART:20280312T070000
END:DAYLIGHT
BEGIN:STANDARD
TZOFFSETFROM:-0400
TZOFFSETTO:-0500
TZNAME:EST
DTSTART:20281105T060000
END:STANDARD
END:VTIMEZONE
BEGIN:VEVENT
DTSTART;TZID=America/New_York:20260721T181500
DTEND;TZID=America/New_York:20260721T191000
DTSTAMP:20260424T173020
CREATED:20251204T190200Z
LAST-MODIFIED:20251204T190729Z
UID:10002137-1784657700-1784661000@firstchurchofmilford.org
SUMMARY:Meetinghouse Ringers
DESCRIPTION:
URL:https://firstchurchofmilford.org/event/meetinghouse-ringers-2/2026-07-21/
END:VEVENT
BEGIN:VEVENT
DTSTART;TZID=America/New_York:20260728T181500
DTEND;TZID=America/New_York:20260728T191000
DTSTAMP:20260424T173020
CREATED:20251204T190200Z
LAST-MODIFIED:20251204T190729Z
UID:10002138-1785262500-1785265800@firstchurchofmilford.org
SUMMARY:Meetinghouse Ringers
DESCRIPTION:
URL:https://firstchurchofmilford.org/event/meetinghouse-ringers-2/2026-07-28/
END:VEVENT
BEGIN:VEVENT
DTSTART;TZID=America/New_York:20260804T181500
DTEND;TZID=America/New_York:20260804T191000
DTSTAMP:20260424T173020
CREATED:20251204T190200Z
LAST-MODIFIED:20251204T190729Z
UID:10002139-1785867300-1785870600@firstchurchofmilford.org
SUMMARY:Meetinghouse Ringers
DESCRIPTION:
URL:https://firstchurchofmilford.org/event/meetinghouse-ringers-2/2026-08-04/
END:VEVENT
BEGIN:VEVENT
DTSTART;TZID=America/New_York:20260811T181500
DTEND;TZID=America/New_York:20260811T191000
DTSTAMP:20260424T173020
CREATED:20251204T190200Z
LAST-MODIFIED:20251204T190729Z
UID:10002140-1786472100-1786475400@firstchurchofmilford.org
SUMMARY:Meetinghouse Ringers
DESCRIPTION:
URL:https://firstchurchofmilford.org/event/meetinghouse-ringers-2/2026-08-11/
END:VEVENT
BEGIN:VEVENT
DTSTART;TZID=America/New_York:20260818T181500
DTEND;TZID=America/New_York:20260818T191000
DTSTAMP:20260424T173020
CREATED:20251204T190200Z
LAST-MODIFIED:20251204T190729Z
UID:10002141-1787076900-1787080200@firstchurchofmilford.org
SUMMARY:Meetinghouse Ringers
DESCRIPTION:
URL:https://firstchurchofmilford.org/event/meetinghouse-ringers-2/2026-08-18/
END:VEVENT
BEGIN:VEVENT
DTSTART;TZID=America/New_York:20260825T181500
DTEND;TZID=America/New_York:20260825T191000
DTSTAMP:20260424T173020
CREATED:20251204T190200Z
LAST-MODIFIED:20251204T190729Z
UID:10002142-1787681700-1787685000@firstchurchofmilford.org
SUMMARY:Meetinghouse Ringers
DESCRIPTION:
URL:https://firstchurchofmilford.org/event/meetinghouse-ringers-2/2026-08-25/
END:VEVENT
BEGIN:VEVENT
DTSTART;TZID=America/New_York:20260901T181500
DTEND;TZID=America/New_York:20260901T191000
DTSTAMP:20260424T173020
CREATED:20251204T190200Z
LAST-MODIFIED:20251204T190729Z
UID:10002143-1788286500-1788289800@firstchurchofmilford.org
SUMMARY:Meetinghouse Ringers
DESCRIPTION:
URL:https://firstchurchofmilford.org/event/meetinghouse-ringers-2/2026-09-01/
END:VEVENT
BEGIN:VEVENT
DTSTART;TZID=America/New_York:20260908T181500
DTEND;TZID=America/New_York:20260908T191000
DTSTAMP:20260424T173020
CREATED:20251204T190200Z
LAST-MODIFIED:20251204T190729Z
UID:10002144-1788891300-1788894600@firstchurchofmilford.org
SUMMARY:Meetinghouse Ringers
DESCRIPTION:
URL:https://firstchurchofmilford.org/event/meetinghouse-ringers-2/2026-09-08/
END:VEVENT
BEGIN:VEVENT
DTSTART;TZID=America/New_York:20260915T181500
DTEND;TZID=America/New_York:20260915T191000
DTSTAMP:20260424T173020
CREATED:20251204T190200Z
LAST-MODIFIED:20251204T190729Z
UID:10002145-1789496100-1789499400@firstchurchofmilford.org
SUMMARY:Meetinghouse Ringers
DESCRIPTION:
URL:https://firstchurchofmilford.org/event/meetinghouse-ringers-2/2026-09-15/
END:VEVENT
BEGIN:VEVENT
DTSTART;TZID=America/New_York:20260922T181500
DTEND;TZID=America/New_York:20260922T191000
DTSTAMP:20260424T173020
CREATED:20251204T190200Z
LAST-MODIFIED:20251204T190729Z
UID:10002146-1790100900-1790104200@firstchurchofmilford.org
SUMMARY:Meetinghouse Ringers
DESCRIPTION:
URL:https://firstchurchofmilford.org/event/meetinghouse-ringers-2/2026-09-22/
END:VEVENT
BEGIN:VEVENT
DTSTART;TZID=America/New_York:20260929T181500
DTEND;TZID=America/New_York:20260929T191000
DTSTAMP:20260424T173020
CREATED:20251204T190200Z
LAST-MODIFIED:20251204T190729Z
UID:10002147-1790705700-1790709000@firstchurchofmilford.org
SUMMARY:Meetinghouse Ringers
DESCRIPTION:
URL:https://firstchurchofmilford.org/event/meetinghouse-ringers-2/2026-09-29/
END:VEVENT
BEGIN:VEVENT
DTSTART;TZID=America/New_York:20261006T181500
DTEND;TZID=America/New_York:20261006T191000
DTSTAMP:20260424T173020
CREATED:20251204T190200Z
LAST-MODIFIED:20251204T190729Z
UID:10002148-1791310500-1791313800@firstchurchofmilford.org
SUMMARY:Meetinghouse Ringers
DESCRIPTION:
URL:https://firstchurchofmilford.org/event/meetinghouse-ringers-2/2026-10-06/
END:VEVENT
BEGIN:VEVENT
DTSTART;TZID=America/New_York:20261013T181500
DTEND;TZID=America/New_York:20261013T191000
DTSTAMP:20260424T173020
CREATED:20251204T190200Z
LAST-MODIFIED:20251204T190729Z
UID:10002149-1791915300-1791918600@firstchurchofmilford.org
SUMMARY:Meetinghouse Ringers
DESCRIPTION:
URL:https://firstchurchofmilford.org/event/meetinghouse-ringers-2/2026-10-13/
END:VEVENT
BEGIN:VEVENT
DTSTART;TZID=America/New_York:20261020T181500
DTEND;TZID=America/New_York:20261020T191000
DTSTAMP:20260424T173020
CREATED:20251204T190200Z
LAST-MODIFIED:20251204T190729Z
UID:10002150-1792520100-1792523400@firstchurchofmilford.org
SUMMARY:Meetinghouse Ringers
DESCRIPTION:
URL:https://firstchurchofmilford.org/event/meetinghouse-ringers-2/2026-10-20/
END:VEVENT
BEGIN:VEVENT
DTSTART;TZID=America/New_York:20261027T181500
DTEND;TZID=America/New_York:20261027T191000
DTSTAMP:20260424T173020
CREATED:20251204T190200Z
LAST-MODIFIED:20251204T190729Z
UID:10002151-1793124900-1793128200@firstchurchofmilford.org
SUMMARY:Meetinghouse Ringers
DESCRIPTION:
URL:https://firstchurchofmilford.org/event/meetinghouse-ringers-2/2026-10-27/
END:VEVENT
BEGIN:VEVENT
DTSTART;TZID=America/New_York:20261103T181500
DTEND;TZID=America/New_York:20261103T191000
DTSTAMP:20260424T173020
CREATED:20251204T190200Z
LAST-MODIFIED:20251204T190729Z
UID:10002152-1793729700-1793733000@firstchurchofmilford.org
SUMMARY:Meetinghouse Ringers
DESCRIPTION:
URL:https://firstchurchofmilford.org/event/meetinghouse-ringers-2/2026-11-03/
END:VEVENT
BEGIN:VEVENT
DTSTART;TZID=America/New_York:20261110T181500
DTEND;TZID=America/New_York:20261110T191000
DTSTAMP:20260424T173020
CREATED:20251204T190200Z
LAST-MODIFIED:20251204T190729Z
UID:10002153-1794334500-1794337800@firstchurchofmilford.org
SUMMARY:Meetinghouse Ringers
DESCRIPTION:
URL:https://firstchurchofmilford.org/event/meetinghouse-ringers-2/2026-11-10/
END:VEVENT
BEGIN:VEVENT
DTSTART;TZID=America/New_York:20261117T181500
DTEND;TZID=America/New_York:20261117T191000
DTSTAMP:20260424T173021
CREATED:20251204T190200Z
LAST-MODIFIED:20251204T190729Z
UID:10002154-1794939300-1794942600@firstchurchofmilford.org
SUMMARY:Meetinghouse Ringers
DESCRIPTION:
URL:https://firstchurchofmilford.org/event/meetinghouse-ringers-2/2026-11-17/
END:VEVENT
BEGIN:VEVENT
DTSTART;TZID=America/New_York:20261124T181500
DTEND;TZID=America/New_York:20261124T191000
DTSTAMP:20260424T173021
CREATED:20251204T190200Z
LAST-MODIFIED:20251204T190729Z
UID:10002155-1795544100-1795547400@firstchurchofmilford.org
SUMMARY:Meetinghouse Ringers
DESCRIPTION:
URL:https://firstchurchofmilford.org/event/meetinghouse-ringers-2/2026-11-24/
END:VEVENT
BEGIN:VEVENT
DTSTART;TZID=America/New_York:20261201T181500
DTEND;TZID=America/New_York:20261201T191000
DTSTAMP:20260424T173021
CREATED:20251204T190200Z
LAST-MODIFIED:20251204T190729Z
UID:10002156-1796148900-1796152200@firstchurchofmilford.org
SUMMARY:Meetinghouse Ringers
DESCRIPTION:
URL:https://firstchurchofmilford.org/event/meetinghouse-ringers-2/2026-12-01/
END:VEVENT
BEGIN:VEVENT
DTSTART;TZID=America/New_York:20261208T181500
DTEND;TZID=America/New_York:20261208T191000
DTSTAMP:20260424T173021
CREATED:20251204T190200Z
LAST-MODIFIED:20251204T190729Z
UID:10002157-1796753700-1796757000@firstchurchofmilford.org
SUMMARY:Meetinghouse Ringers
DESCRIPTION:
URL:https://firstchurchofmilford.org/event/meetinghouse-ringers-2/2026-12-08/
END:VEVENT
BEGIN:VEVENT
DTSTART;TZID=America/New_York:20261215T181500
DTEND;TZID=America/New_York:20261215T191000
DTSTAMP:20260424T173021
CREATED:20251204T190200Z
LAST-MODIFIED:20251204T190729Z
UID:10002158-1797358500-1797361800@firstchurchofmilford.org
SUMMARY:Meetinghouse Ringers
DESCRIPTION:
URL:https://firstchurchofmilford.org/event/meetinghouse-ringers-2/2026-12-15/
END:VEVENT
BEGIN:VEVENT
DTSTART;TZID=America/New_York:20261222T181500
DTEND;TZID=America/New_York:20261222T191000
DTSTAMP:20260424T173021
CREATED:20251204T190200Z
LAST-MODIFIED:20251204T190729Z
UID:10002159-1797963300-1797966600@firstchurchofmilford.org
SUMMARY:Meetinghouse Ringers
DESCRIPTION:
URL:https://firstchurchofmilford.org/event/meetinghouse-ringers-2/2026-12-22/
END:VEVENT
BEGIN:VEVENT
DTSTART;TZID=America/New_York:20261229T181500
DTEND;TZID=America/New_York:20261229T191000
DTSTAMP:20260424T173021
CREATED:20251204T190200Z
LAST-MODIFIED:20251204T190729Z
UID:10002160-1798568100-1798571400@firstchurchofmilford.org
SUMMARY:Meetinghouse Ringers
DESCRIPTION:
URL:https://firstchurchofmilford.org/event/meetinghouse-ringers-2/2026-12-29/
END:VEVENT
BEGIN:VEVENT
DTSTART;TZID=America/New_York:20270105T181500
DTEND;TZID=America/New_York:20270105T191000
DTSTAMP:20260424T173021
CREATED:20251204T190200Z
LAST-MODIFIED:20251204T190729Z
UID:10002161-1799172900-1799176200@firstchurchofmilford.org
SUMMARY:Meetinghouse Ringers
DESCRIPTION:
URL:https://firstchurchofmilford.org/event/meetinghouse-ringers-2/2027-01-05/
END:VEVENT
BEGIN:VEVENT
DTSTART;TZID=America/New_York:20270112T181500
DTEND;TZID=America/New_York:20270112T191000
DTSTAMP:20260424T173021
CREATED:20251204T190200Z
LAST-MODIFIED:20251204T190729Z
UID:10002162-1799777700-1799781000@firstchurchofmilford.org
SUMMARY:Meetinghouse Ringers
DESCRIPTION:
URL:https://firstchurchofmilford.org/event/meetinghouse-ringers-2/2027-01-12/
END:VEVENT
BEGIN:VEVENT
DTSTART;TZID=America/New_York:20270119T181500
DTEND;TZID=America/New_York:20270119T191000
DTSTAMP:20260424T173021
CREATED:20251204T190200Z
LAST-MODIFIED:20251204T190729Z
UID:10002163-1800382500-1800385800@firstchurchofmilford.org
SUMMARY:Meetinghouse Ringers
DESCRIPTION:
URL:https://firstchurchofmilford.org/event/meetinghouse-ringers-2/2027-01-19/
END:VEVENT
BEGIN:VEVENT
DTSTART;TZID=America/New_York:20270126T181500
DTEND;TZID=America/New_York:20270126T191000
DTSTAMP:20260424T173021
CREATED:20251204T190200Z
LAST-MODIFIED:20251204T190729Z
UID:10002164-1800987300-1800990600@firstchurchofmilford.org
SUMMARY:Meetinghouse Ringers
DESCRIPTION:
URL:https://firstchurchofmilford.org/event/meetinghouse-ringers-2/2027-01-26/
END:VEVENT
BEGIN:VEVENT
DTSTART;TZID=America/New_York:20270202T181500
DTEND;TZID=America/New_York:20270202T191000
DTSTAMP:20260424T173021
CREATED:20251204T190200Z
LAST-MODIFIED:20251204T190729Z
UID:10002165-1801592100-1801595400@firstchurchofmilford.org
SUMMARY:Meetinghouse Ringers
DESCRIPTION:
URL:https://firstchurchofmilford.org/event/meetinghouse-ringers-2/2027-02-02/
END:VEVENT
BEGIN:VEVENT
DTSTART;TZID=America/New_York:20270209T181500
DTEND;TZID=America/New_York:20270209T191000
DTSTAMP:20260424T173021
CREATED:20251204T190200Z
LAST-MODIFIED:20251204T190729Z
UID:10002166-1802196900-1802200200@firstchurchofmilford.org
SUMMARY:Meetinghouse Ringers
DESCRIPTION:
URL:https://firstchurchofmilford.org/event/meetinghouse-ringers-2/2027-02-09/
END:VEVENT
END:VCALENDAR