BEGIN:VCALENDAR
VERSION:2.0
PRODID:-//First United Church of Christ in Milford - ECPv6.15.17.1//NONSGML v1.0//EN
CALSCALE:GREGORIAN
METHOD:PUBLISH
X-ORIGINAL-URL:https://firstchurchofmilford.org
X-WR-CALDESC:Events for First United Church of Christ in Milford
REFRESH-INTERVAL;VALUE=DURATION:PT1H
X-Robots-Tag:noindex
X-PUBLISHED-TTL:PT1H
BEGIN:VTIMEZONE
TZID:America/New_York
BEGIN:DAYLIGHT
TZOFFSETFROM:-0500
TZOFFSETTO:-0400
TZNAME:EDT
DTSTART:20280312T070000
END:DAYLIGHT
BEGIN:STANDARD
TZOFFSETFROM:-0400
TZOFFSETTO:-0500
TZNAME:EST
DTSTART:20281105T060000
END:STANDARD
BEGIN:DAYLIGHT
TZOFFSETFROM:-0500
TZOFFSETTO:-0400
TZNAME:EDT
DTSTART:20290311T070000
END:DAYLIGHT
BEGIN:STANDARD
TZOFFSETFROM:-0400
TZOFFSETTO:-0500
TZNAME:EST
DTSTART:20291104T060000
END:STANDARD
BEGIN:DAYLIGHT
TZOFFSETFROM:-0500
TZOFFSETTO:-0400
TZNAME:EDT
DTSTART:20300310T070000
END:DAYLIGHT
BEGIN:STANDARD
TZOFFSETFROM:-0400
TZOFFSETTO:-0500
TZNAME:EST
DTSTART:20301103T060000
END:STANDARD
END:VTIMEZONE
BEGIN:VEVENT
DTSTART;TZID=America/New_York:20290131T183000
DTEND;TZID=America/New_York:20290131T193000
DTSTAMP:20260423T033456
CREATED:20251010T195242Z
LAST-MODIFIED:20260226T164451Z
UID:10005409-1864578600-1864582200@firstchurchofmilford.org
SUMMARY:Adult Choir
DESCRIPTION:
URL:https://firstchurchofmilford.org/event/adult-choir-2/2029-01-31/
LOCATION:Choir Room
END:VEVENT
BEGIN:VEVENT
DTSTART;TZID=America/New_York:20290207T183000
DTEND;TZID=America/New_York:20290207T193000
DTSTAMP:20260423T033456
CREATED:20251010T195242Z
LAST-MODIFIED:20260226T164451Z
UID:10005410-1865183400-1865187000@firstchurchofmilford.org
SUMMARY:Adult Choir
DESCRIPTION:
URL:https://firstchurchofmilford.org/event/adult-choir-2/2029-02-07/
LOCATION:Choir Room
END:VEVENT
BEGIN:VEVENT
DTSTART;TZID=America/New_York:20290214T183000
DTEND;TZID=America/New_York:20290214T193000
DTSTAMP:20260423T033456
CREATED:20251010T195242Z
LAST-MODIFIED:20260226T164451Z
UID:10005411-1865788200-1865791800@firstchurchofmilford.org
SUMMARY:Adult Choir
DESCRIPTION:
URL:https://firstchurchofmilford.org/event/adult-choir-2/2029-02-14/
LOCATION:Choir Room
END:VEVENT
BEGIN:VEVENT
DTSTART;TZID=America/New_York:20290221T183000
DTEND;TZID=America/New_York:20290221T193000
DTSTAMP:20260423T033456
CREATED:20251010T195242Z
LAST-MODIFIED:20260226T164451Z
UID:10005412-1866393000-1866396600@firstchurchofmilford.org
SUMMARY:Adult Choir
DESCRIPTION:
URL:https://firstchurchofmilford.org/event/adult-choir-2/2029-02-21/
LOCATION:Choir Room
END:VEVENT
BEGIN:VEVENT
DTSTART;TZID=America/New_York:20290228T183000
DTEND;TZID=America/New_York:20290228T193000
DTSTAMP:20260423T033456
CREATED:20251010T195242Z
LAST-MODIFIED:20260226T164451Z
UID:10005413-1866997800-1867001400@firstchurchofmilford.org
SUMMARY:Adult Choir
DESCRIPTION:
URL:https://firstchurchofmilford.org/event/adult-choir-2/2029-02-28/
LOCATION:Choir Room
END:VEVENT
BEGIN:VEVENT
DTSTART;TZID=America/New_York:20290307T183000
DTEND;TZID=America/New_York:20290307T193000
DTSTAMP:20260423T033456
CREATED:20251010T195242Z
LAST-MODIFIED:20260226T164451Z
UID:10005414-1867602600-1867606200@firstchurchofmilford.org
SUMMARY:Adult Choir
DESCRIPTION:
URL:https://firstchurchofmilford.org/event/adult-choir-2/2029-03-07/
LOCATION:Choir Room
END:VEVENT
BEGIN:VEVENT
DTSTART;TZID=America/New_York:20290314T183000
DTEND;TZID=America/New_York:20290314T193000
DTSTAMP:20260423T033456
CREATED:20251010T195242Z
LAST-MODIFIED:20260226T164451Z
UID:10005415-1868207400-1868211000@firstchurchofmilford.org
SUMMARY:Adult Choir
DESCRIPTION:
URL:https://firstchurchofmilford.org/event/adult-choir-2/2029-03-14/
LOCATION:Choir Room
END:VEVENT
BEGIN:VEVENT
DTSTART;TZID=America/New_York:20290321T183000
DTEND;TZID=America/New_York:20290321T193000
DTSTAMP:20260423T033456
CREATED:20251010T195242Z
LAST-MODIFIED:20260226T164451Z
UID:10005416-1868812200-1868815800@firstchurchofmilford.org
SUMMARY:Adult Choir
DESCRIPTION:
URL:https://firstchurchofmilford.org/event/adult-choir-2/2029-03-21/
LOCATION:Choir Room
END:VEVENT
BEGIN:VEVENT
DTSTART;TZID=America/New_York:20290328T183000
DTEND;TZID=America/New_York:20290328T193000
DTSTAMP:20260423T033456
CREATED:20251010T195242Z
LAST-MODIFIED:20260226T164451Z
UID:10005417-1869417000-1869420600@firstchurchofmilford.org
SUMMARY:Adult Choir
DESCRIPTION:
URL:https://firstchurchofmilford.org/event/adult-choir-2/2029-03-28/
LOCATION:Choir Room
END:VEVENT
BEGIN:VEVENT
DTSTART;TZID=America/New_York:20290404T183000
DTEND;TZID=America/New_York:20290404T193000
DTSTAMP:20260423T033456
CREATED:20251010T195242Z
LAST-MODIFIED:20260226T164451Z
UID:10005418-1870021800-1870025400@firstchurchofmilford.org
SUMMARY:Adult Choir
DESCRIPTION:
URL:https://firstchurchofmilford.org/event/adult-choir-2/2029-04-04/
LOCATION:Choir Room
END:VEVENT
BEGIN:VEVENT
DTSTART;TZID=America/New_York:20290411T183000
DTEND;TZID=America/New_York:20290411T193000
DTSTAMP:20260423T033456
CREATED:20251010T195242Z
LAST-MODIFIED:20260226T164451Z
UID:10005419-1870626600-1870630200@firstchurchofmilford.org
SUMMARY:Adult Choir
DESCRIPTION:
URL:https://firstchurchofmilford.org/event/adult-choir-2/2029-04-11/
LOCATION:Choir Room
END:VEVENT
BEGIN:VEVENT
DTSTART;TZID=America/New_York:20290418T183000
DTEND;TZID=America/New_York:20290418T193000
DTSTAMP:20260423T033456
CREATED:20251010T195242Z
LAST-MODIFIED:20260226T164451Z
UID:10005420-1871231400-1871235000@firstchurchofmilford.org
SUMMARY:Adult Choir
DESCRIPTION:
URL:https://firstchurchofmilford.org/event/adult-choir-2/2029-04-18/
LOCATION:Choir Room
END:VEVENT
BEGIN:VEVENT
DTSTART;TZID=America/New_York:20290425T183000
DTEND;TZID=America/New_York:20290425T193000
DTSTAMP:20260423T033456
CREATED:20251010T195242Z
LAST-MODIFIED:20260226T164451Z
UID:10005421-1871836200-1871839800@firstchurchofmilford.org
SUMMARY:Adult Choir
DESCRIPTION:
URL:https://firstchurchofmilford.org/event/adult-choir-2/2029-04-25/
LOCATION:Choir Room
END:VEVENT
BEGIN:VEVENT
DTSTART;TZID=America/New_York:20290502T183000
DTEND;TZID=America/New_York:20290502T193000
DTSTAMP:20260423T033456
CREATED:20251010T195242Z
LAST-MODIFIED:20260226T164451Z
UID:10005422-1872441000-1872444600@firstchurchofmilford.org
SUMMARY:Adult Choir
DESCRIPTION:
URL:https://firstchurchofmilford.org/event/adult-choir-2/2029-05-02/
LOCATION:Choir Room
END:VEVENT
BEGIN:VEVENT
DTSTART;TZID=America/New_York:20290509T183000
DTEND;TZID=America/New_York:20290509T193000
DTSTAMP:20260423T033456
CREATED:20251010T195242Z
LAST-MODIFIED:20260226T164451Z
UID:10005423-1873045800-1873049400@firstchurchofmilford.org
SUMMARY:Adult Choir
DESCRIPTION:
URL:https://firstchurchofmilford.org/event/adult-choir-2/2029-05-09/
LOCATION:Choir Room
END:VEVENT
BEGIN:VEVENT
DTSTART;TZID=America/New_York:20290516T183000
DTEND;TZID=America/New_York:20290516T193000
DTSTAMP:20260423T033456
CREATED:20251010T195242Z
LAST-MODIFIED:20260226T164451Z
UID:10005424-1873650600-1873654200@firstchurchofmilford.org
SUMMARY:Adult Choir
DESCRIPTION:
URL:https://firstchurchofmilford.org/event/adult-choir-2/2029-05-16/
LOCATION:Choir Room
END:VEVENT
BEGIN:VEVENT
DTSTART;TZID=America/New_York:20290523T183000
DTEND;TZID=America/New_York:20290523T193000
DTSTAMP:20260423T033456
CREATED:20251010T195242Z
LAST-MODIFIED:20260226T164451Z
UID:10005425-1874255400-1874259000@firstchurchofmilford.org
SUMMARY:Adult Choir
DESCRIPTION:
URL:https://firstchurchofmilford.org/event/adult-choir-2/2029-05-23/
LOCATION:Choir Room
END:VEVENT
BEGIN:VEVENT
DTSTART;TZID=America/New_York:20290530T183000
DTEND;TZID=America/New_York:20290530T193000
DTSTAMP:20260423T033456
CREATED:20251010T195242Z
LAST-MODIFIED:20260226T164451Z
UID:10005426-1874860200-1874863800@firstchurchofmilford.org
SUMMARY:Adult Choir
DESCRIPTION:
URL:https://firstchurchofmilford.org/event/adult-choir-2/2029-05-30/
LOCATION:Choir Room
END:VEVENT
BEGIN:VEVENT
DTSTART;TZID=America/New_York:20290606T183000
DTEND;TZID=America/New_York:20290606T193000
DTSTAMP:20260423T033456
CREATED:20251010T195242Z
LAST-MODIFIED:20260226T164451Z
UID:10005427-1875465000-1875468600@firstchurchofmilford.org
SUMMARY:Adult Choir
DESCRIPTION:
URL:https://firstchurchofmilford.org/event/adult-choir-2/2029-06-06/
LOCATION:Choir Room
END:VEVENT
BEGIN:VEVENT
DTSTART;TZID=America/New_York:20290613T183000
DTEND;TZID=America/New_York:20290613T193000
DTSTAMP:20260423T033456
CREATED:20251010T195242Z
LAST-MODIFIED:20260226T164451Z
UID:10005428-1876069800-1876073400@firstchurchofmilford.org
SUMMARY:Adult Choir
DESCRIPTION:
URL:https://firstchurchofmilford.org/event/adult-choir-2/2029-06-13/
LOCATION:Choir Room
END:VEVENT
BEGIN:VEVENT
DTSTART;TZID=America/New_York:20290620T183000
DTEND;TZID=America/New_York:20290620T193000
DTSTAMP:20260423T033456
CREATED:20251010T195242Z
LAST-MODIFIED:20260226T164451Z
UID:10005429-1876674600-1876678200@firstchurchofmilford.org
SUMMARY:Adult Choir
DESCRIPTION:
URL:https://firstchurchofmilford.org/event/adult-choir-2/2029-06-20/
LOCATION:Choir Room
END:VEVENT
BEGIN:VEVENT
DTSTART;TZID=America/New_York:20290627T183000
DTEND;TZID=America/New_York:20290627T193000
DTSTAMP:20260423T033456
CREATED:20251010T195242Z
LAST-MODIFIED:20260226T164451Z
UID:10005430-1877279400-1877283000@firstchurchofmilford.org
SUMMARY:Adult Choir
DESCRIPTION:
URL:https://firstchurchofmilford.org/event/adult-choir-2/2029-06-27/
LOCATION:Choir Room
END:VEVENT
BEGIN:VEVENT
DTSTART;TZID=America/New_York:20290704T183000
DTEND;TZID=America/New_York:20290704T193000
DTSTAMP:20260423T033456
CREATED:20251010T195242Z
LAST-MODIFIED:20260226T164451Z
UID:10005431-1877884200-1877887800@firstchurchofmilford.org
SUMMARY:Adult Choir
DESCRIPTION:
URL:https://firstchurchofmilford.org/event/adult-choir-2/2029-07-04/
LOCATION:Choir Room
END:VEVENT
BEGIN:VEVENT
DTSTART;TZID=America/New_York:20290711T183000
DTEND;TZID=America/New_York:20290711T193000
DTSTAMP:20260423T033456
CREATED:20251010T195242Z
LAST-MODIFIED:20260226T164451Z
UID:10005432-1878489000-1878492600@firstchurchofmilford.org
SUMMARY:Adult Choir
DESCRIPTION:
URL:https://firstchurchofmilford.org/event/adult-choir-2/2029-07-11/
LOCATION:Choir Room
END:VEVENT
BEGIN:VEVENT
DTSTART;TZID=America/New_York:20290718T183000
DTEND;TZID=America/New_York:20290718T193000
DTSTAMP:20260423T033456
CREATED:20251010T195242Z
LAST-MODIFIED:20260226T164451Z
UID:10005433-1879093800-1879097400@firstchurchofmilford.org
SUMMARY:Adult Choir
DESCRIPTION:
URL:https://firstchurchofmilford.org/event/adult-choir-2/2029-07-18/
LOCATION:Choir Room
END:VEVENT
BEGIN:VEVENT
DTSTART;TZID=America/New_York:20290725T183000
DTEND;TZID=America/New_York:20290725T193000
DTSTAMP:20260423T033456
CREATED:20251010T195242Z
LAST-MODIFIED:20260226T164451Z
UID:10005434-1879698600-1879702200@firstchurchofmilford.org
SUMMARY:Adult Choir
DESCRIPTION:
URL:https://firstchurchofmilford.org/event/adult-choir-2/2029-07-25/
LOCATION:Choir Room
END:VEVENT
BEGIN:VEVENT
DTSTART;TZID=America/New_York:20290801T183000
DTEND;TZID=America/New_York:20290801T193000
DTSTAMP:20260423T033456
CREATED:20251010T195242Z
LAST-MODIFIED:20260226T164451Z
UID:10005435-1880303400-1880307000@firstchurchofmilford.org
SUMMARY:Adult Choir
DESCRIPTION:
URL:https://firstchurchofmilford.org/event/adult-choir-2/2029-08-01/
LOCATION:Choir Room
END:VEVENT
BEGIN:VEVENT
DTSTART;TZID=America/New_York:20290808T183000
DTEND;TZID=America/New_York:20290808T193000
DTSTAMP:20260423T033456
CREATED:20251010T195242Z
LAST-MODIFIED:20260226T164451Z
UID:10005436-1880908200-1880911800@firstchurchofmilford.org
SUMMARY:Adult Choir
DESCRIPTION:
URL:https://firstchurchofmilford.org/event/adult-choir-2/2029-08-08/
LOCATION:Choir Room
END:VEVENT
BEGIN:VEVENT
DTSTART;TZID=America/New_York:20290815T183000
DTEND;TZID=America/New_York:20290815T193000
DTSTAMP:20260423T033456
CREATED:20251010T195242Z
LAST-MODIFIED:20260226T164451Z
UID:10005437-1881513000-1881516600@firstchurchofmilford.org
SUMMARY:Adult Choir
DESCRIPTION:
URL:https://firstchurchofmilford.org/event/adult-choir-2/2029-08-15/
LOCATION:Choir Room
END:VEVENT
BEGIN:VEVENT
DTSTART;TZID=America/New_York:20290822T183000
DTEND;TZID=America/New_York:20290822T193000
DTSTAMP:20260423T033456
CREATED:20251010T195242Z
LAST-MODIFIED:20260226T164451Z
UID:10005438-1882117800-1882121400@firstchurchofmilford.org
SUMMARY:Adult Choir
DESCRIPTION:
URL:https://firstchurchofmilford.org/event/adult-choir-2/2029-08-22/
LOCATION:Choir Room
END:VEVENT
END:VCALENDAR