BEGIN:VCALENDAR
VERSION:2.0
PRODID:-//First United Church of Christ in Milford - ECPv6.15.17.1//NONSGML v1.0//EN
CALSCALE:GREGORIAN
METHOD:PUBLISH
X-ORIGINAL-URL:https://firstchurchofmilford.org
X-WR-CALDESC:Events for First United Church of Christ in Milford
REFRESH-INTERVAL;VALUE=DURATION:PT1H
X-Robots-Tag:noindex
X-PUBLISHED-TTL:PT1H
BEGIN:VTIMEZONE
TZID:America/New_York
BEGIN:DAYLIGHT
TZOFFSETFROM:-0500
TZOFFSETTO:-0400
TZNAME:EDT
DTSTART:20270314T070000
END:DAYLIGHT
BEGIN:STANDARD
TZOFFSETFROM:-0400
TZOFFSETTO:-0500
TZNAME:EST
DTSTART:20271107T060000
END:STANDARD
BEGIN:DAYLIGHT
TZOFFSETFROM:-0500
TZOFFSETTO:-0400
TZNAME:EDT
DTSTART:20280312T070000
END:DAYLIGHT
BEGIN:STANDARD
TZOFFSETFROM:-0400
TZOFFSETTO:-0500
TZNAME:EST
DTSTART:20281105T060000
END:STANDARD
BEGIN:DAYLIGHT
TZOFFSETFROM:-0500
TZOFFSETTO:-0400
TZNAME:EDT
DTSTART:20290311T070000
END:DAYLIGHT
BEGIN:STANDARD
TZOFFSETFROM:-0400
TZOFFSETTO:-0500
TZNAME:EST
DTSTART:20291104T060000
END:STANDARD
BEGIN:DAYLIGHT
TZOFFSETFROM:-0500
TZOFFSETTO:-0400
TZNAME:EDT
DTSTART:20300310T070000
END:DAYLIGHT
BEGIN:STANDARD
TZOFFSETFROM:-0400
TZOFFSETTO:-0500
TZNAME:EST
DTSTART:20301103T060000
END:STANDARD
END:VTIMEZONE
BEGIN:VEVENT
DTSTART;TZID=America/New_York:20281110T090000
DTEND;TZID=America/New_York:20281110T230000
DTSTAMP:20260425T172221
CREATED:20260319T154721Z
LAST-MODIFIED:20260319T154721Z
UID:10003566-1857459600-1857510000@firstchurchofmilford.org
SUMMARY:Explore and Play! Weekly Playgroup
DESCRIPTION:
URL:https://firstchurchofmilford.org/event/explore-and-play-weekly-playgroup-2-2/2028-11-10/
END:VEVENT
BEGIN:VEVENT
DTSTART;TZID=America/New_York:20281117T090000
DTEND;TZID=America/New_York:20281117T230000
DTSTAMP:20260425T172221
CREATED:20260319T154721Z
LAST-MODIFIED:20260319T154721Z
UID:10003567-1858064400-1858114800@firstchurchofmilford.org
SUMMARY:Explore and Play! Weekly Playgroup
DESCRIPTION:
URL:https://firstchurchofmilford.org/event/explore-and-play-weekly-playgroup-2-2/2028-11-17/
END:VEVENT
BEGIN:VEVENT
DTSTART;TZID=America/New_York:20281124T090000
DTEND;TZID=America/New_York:20281124T230000
DTSTAMP:20260425T172221
CREATED:20260319T154721Z
LAST-MODIFIED:20260319T154721Z
UID:10003568-1858669200-1858719600@firstchurchofmilford.org
SUMMARY:Explore and Play! Weekly Playgroup
DESCRIPTION:
URL:https://firstchurchofmilford.org/event/explore-and-play-weekly-playgroup-2-2/2028-11-24/
END:VEVENT
BEGIN:VEVENT
DTSTART;TZID=America/New_York:20281201T090000
DTEND;TZID=America/New_York:20281201T230000
DTSTAMP:20260425T172221
CREATED:20260319T154721Z
LAST-MODIFIED:20260319T154721Z
UID:10003569-1859274000-1859324400@firstchurchofmilford.org
SUMMARY:Explore and Play! Weekly Playgroup
DESCRIPTION:
URL:https://firstchurchofmilford.org/event/explore-and-play-weekly-playgroup-2-2/2028-12-01/
END:VEVENT
BEGIN:VEVENT
DTSTART;TZID=America/New_York:20281208T090000
DTEND;TZID=America/New_York:20281208T230000
DTSTAMP:20260425T172221
CREATED:20260319T154721Z
LAST-MODIFIED:20260319T154721Z
UID:10003570-1859878800-1859929200@firstchurchofmilford.org
SUMMARY:Explore and Play! Weekly Playgroup
DESCRIPTION:
URL:https://firstchurchofmilford.org/event/explore-and-play-weekly-playgroup-2-2/2028-12-08/
END:VEVENT
BEGIN:VEVENT
DTSTART;TZID=America/New_York:20281215T090000
DTEND;TZID=America/New_York:20281215T230000
DTSTAMP:20260425T172221
CREATED:20260319T154721Z
LAST-MODIFIED:20260319T154721Z
UID:10003571-1860483600-1860534000@firstchurchofmilford.org
SUMMARY:Explore and Play! Weekly Playgroup
DESCRIPTION:
URL:https://firstchurchofmilford.org/event/explore-and-play-weekly-playgroup-2-2/2028-12-15/
END:VEVENT
BEGIN:VEVENT
DTSTART;TZID=America/New_York:20281222T090000
DTEND;TZID=America/New_York:20281222T230000
DTSTAMP:20260425T172221
CREATED:20260319T154721Z
LAST-MODIFIED:20260319T154721Z
UID:10003572-1861088400-1861138800@firstchurchofmilford.org
SUMMARY:Explore and Play! Weekly Playgroup
DESCRIPTION:
URL:https://firstchurchofmilford.org/event/explore-and-play-weekly-playgroup-2-2/2028-12-22/
END:VEVENT
BEGIN:VEVENT
DTSTART;TZID=America/New_York:20281229T090000
DTEND;TZID=America/New_York:20281229T230000
DTSTAMP:20260425T172221
CREATED:20260319T154721Z
LAST-MODIFIED:20260319T154721Z
UID:10003573-1861693200-1861743600@firstchurchofmilford.org
SUMMARY:Explore and Play! Weekly Playgroup
DESCRIPTION:
URL:https://firstchurchofmilford.org/event/explore-and-play-weekly-playgroup-2-2/2028-12-29/
END:VEVENT
BEGIN:VEVENT
DTSTART;TZID=America/New_York:20290105T090000
DTEND;TZID=America/New_York:20290105T230000
DTSTAMP:20260425T172222
CREATED:20260319T154721Z
LAST-MODIFIED:20260319T154721Z
UID:10003574-1862298000-1862348400@firstchurchofmilford.org
SUMMARY:Explore and Play! Weekly Playgroup
DESCRIPTION:
URL:https://firstchurchofmilford.org/event/explore-and-play-weekly-playgroup-2-2/2029-01-05/
END:VEVENT
BEGIN:VEVENT
DTSTART;TZID=America/New_York:20290112T090000
DTEND;TZID=America/New_York:20290112T230000
DTSTAMP:20260425T172222
CREATED:20260319T154721Z
LAST-MODIFIED:20260319T154721Z
UID:10003575-1862902800-1862953200@firstchurchofmilford.org
SUMMARY:Explore and Play! Weekly Playgroup
DESCRIPTION:
URL:https://firstchurchofmilford.org/event/explore-and-play-weekly-playgroup-2-2/2029-01-12/
END:VEVENT
BEGIN:VEVENT
DTSTART;TZID=America/New_York:20290119T090000
DTEND;TZID=America/New_York:20290119T230000
DTSTAMP:20260425T172222
CREATED:20260319T154721Z
LAST-MODIFIED:20260319T154721Z
UID:10003576-1863507600-1863558000@firstchurchofmilford.org
SUMMARY:Explore and Play! Weekly Playgroup
DESCRIPTION:
URL:https://firstchurchofmilford.org/event/explore-and-play-weekly-playgroup-2-2/2029-01-19/
END:VEVENT
BEGIN:VEVENT
DTSTART;TZID=America/New_York:20290126T090000
DTEND;TZID=America/New_York:20290126T230000
DTSTAMP:20260425T172222
CREATED:20260319T154721Z
LAST-MODIFIED:20260319T154721Z
UID:10003577-1864112400-1864162800@firstchurchofmilford.org
SUMMARY:Explore and Play! Weekly Playgroup
DESCRIPTION:
URL:https://firstchurchofmilford.org/event/explore-and-play-weekly-playgroup-2-2/2029-01-26/
END:VEVENT
BEGIN:VEVENT
DTSTART;TZID=America/New_York:20290202T090000
DTEND;TZID=America/New_York:20290202T230000
DTSTAMP:20260425T172222
CREATED:20260319T154721Z
LAST-MODIFIED:20260319T154721Z
UID:10003578-1864717200-1864767600@firstchurchofmilford.org
SUMMARY:Explore and Play! Weekly Playgroup
DESCRIPTION:
URL:https://firstchurchofmilford.org/event/explore-and-play-weekly-playgroup-2-2/2029-02-02/
END:VEVENT
BEGIN:VEVENT
DTSTART;TZID=America/New_York:20290209T090000
DTEND;TZID=America/New_York:20290209T230000
DTSTAMP:20260425T172222
CREATED:20260319T154721Z
LAST-MODIFIED:20260319T154721Z
UID:10003579-1865322000-1865372400@firstchurchofmilford.org
SUMMARY:Explore and Play! Weekly Playgroup
DESCRIPTION:
URL:https://firstchurchofmilford.org/event/explore-and-play-weekly-playgroup-2-2/2029-02-09/
END:VEVENT
BEGIN:VEVENT
DTSTART;TZID=America/New_York:20290216T090000
DTEND;TZID=America/New_York:20290216T230000
DTSTAMP:20260425T172222
CREATED:20260319T154721Z
LAST-MODIFIED:20260319T154721Z
UID:10003580-1865926800-1865977200@firstchurchofmilford.org
SUMMARY:Explore and Play! Weekly Playgroup
DESCRIPTION:
URL:https://firstchurchofmilford.org/event/explore-and-play-weekly-playgroup-2-2/2029-02-16/
END:VEVENT
BEGIN:VEVENT
DTSTART;TZID=America/New_York:20290223T090000
DTEND;TZID=America/New_York:20290223T230000
DTSTAMP:20260425T172222
CREATED:20260319T154721Z
LAST-MODIFIED:20260319T154721Z
UID:10003581-1866531600-1866582000@firstchurchofmilford.org
SUMMARY:Explore and Play! Weekly Playgroup
DESCRIPTION:
URL:https://firstchurchofmilford.org/event/explore-and-play-weekly-playgroup-2-2/2029-02-23/
END:VEVENT
BEGIN:VEVENT
DTSTART;TZID=America/New_York:20290302T090000
DTEND;TZID=America/New_York:20290302T230000
DTSTAMP:20260425T172222
CREATED:20260319T154721Z
LAST-MODIFIED:20260319T154721Z
UID:10003582-1867136400-1867186800@firstchurchofmilford.org
SUMMARY:Explore and Play! Weekly Playgroup
DESCRIPTION:
URL:https://firstchurchofmilford.org/event/explore-and-play-weekly-playgroup-2-2/2029-03-02/
END:VEVENT
BEGIN:VEVENT
DTSTART;TZID=America/New_York:20290309T090000
DTEND;TZID=America/New_York:20290309T230000
DTSTAMP:20260425T172222
CREATED:20260319T154721Z
LAST-MODIFIED:20260319T154721Z
UID:10003583-1867741200-1867791600@firstchurchofmilford.org
SUMMARY:Explore and Play! Weekly Playgroup
DESCRIPTION:
URL:https://firstchurchofmilford.org/event/explore-and-play-weekly-playgroup-2-2/2029-03-09/
END:VEVENT
BEGIN:VEVENT
DTSTART;TZID=America/New_York:20290316T090000
DTEND;TZID=America/New_York:20290316T230000
DTSTAMP:20260425T172222
CREATED:20260319T154721Z
LAST-MODIFIED:20260319T154721Z
UID:10003584-1868346000-1868396400@firstchurchofmilford.org
SUMMARY:Explore and Play! Weekly Playgroup
DESCRIPTION:
URL:https://firstchurchofmilford.org/event/explore-and-play-weekly-playgroup-2-2/2029-03-16/
END:VEVENT
BEGIN:VEVENT
DTSTART;TZID=America/New_York:20290323T090000
DTEND;TZID=America/New_York:20290323T230000
DTSTAMP:20260425T172222
CREATED:20260319T154721Z
LAST-MODIFIED:20260319T154721Z
UID:10003585-1868950800-1869001200@firstchurchofmilford.org
SUMMARY:Explore and Play! Weekly Playgroup
DESCRIPTION:
URL:https://firstchurchofmilford.org/event/explore-and-play-weekly-playgroup-2-2/2029-03-23/
END:VEVENT
BEGIN:VEVENT
DTSTART;TZID=America/New_York:20290330T090000
DTEND;TZID=America/New_York:20290330T230000
DTSTAMP:20260425T172222
CREATED:20260319T154721Z
LAST-MODIFIED:20260319T154721Z
UID:10003586-1869555600-1869606000@firstchurchofmilford.org
SUMMARY:Explore and Play! Weekly Playgroup
DESCRIPTION:
URL:https://firstchurchofmilford.org/event/explore-and-play-weekly-playgroup-2-2/2029-03-30/
END:VEVENT
BEGIN:VEVENT
DTSTART;TZID=America/New_York:20290406T090000
DTEND;TZID=America/New_York:20290406T230000
DTSTAMP:20260425T172222
CREATED:20260319T154721Z
LAST-MODIFIED:20260319T154721Z
UID:10003587-1870160400-1870210800@firstchurchofmilford.org
SUMMARY:Explore and Play! Weekly Playgroup
DESCRIPTION:
URL:https://firstchurchofmilford.org/event/explore-and-play-weekly-playgroup-2-2/2029-04-06/
END:VEVENT
BEGIN:VEVENT
DTSTART;TZID=America/New_York:20290413T090000
DTEND;TZID=America/New_York:20290413T230000
DTSTAMP:20260425T172222
CREATED:20260319T154721Z
LAST-MODIFIED:20260319T154721Z
UID:10003588-1870765200-1870815600@firstchurchofmilford.org
SUMMARY:Explore and Play! Weekly Playgroup
DESCRIPTION:
URL:https://firstchurchofmilford.org/event/explore-and-play-weekly-playgroup-2-2/2029-04-13/
END:VEVENT
BEGIN:VEVENT
DTSTART;TZID=America/New_York:20290420T090000
DTEND;TZID=America/New_York:20290420T230000
DTSTAMP:20260425T172222
CREATED:20260319T154721Z
LAST-MODIFIED:20260319T154721Z
UID:10003589-1871370000-1871420400@firstchurchofmilford.org
SUMMARY:Explore and Play! Weekly Playgroup
DESCRIPTION:
URL:https://firstchurchofmilford.org/event/explore-and-play-weekly-playgroup-2-2/2029-04-20/
END:VEVENT
BEGIN:VEVENT
DTSTART;TZID=America/New_York:20290427T090000
DTEND;TZID=America/New_York:20290427T230000
DTSTAMP:20260425T172222
CREATED:20260319T154721Z
LAST-MODIFIED:20260319T154721Z
UID:10003590-1871974800-1872025200@firstchurchofmilford.org
SUMMARY:Explore and Play! Weekly Playgroup
DESCRIPTION:
URL:https://firstchurchofmilford.org/event/explore-and-play-weekly-playgroup-2-2/2029-04-27/
END:VEVENT
BEGIN:VEVENT
DTSTART;TZID=America/New_York:20290504T090000
DTEND;TZID=America/New_York:20290504T230000
DTSTAMP:20260425T172222
CREATED:20260319T154721Z
LAST-MODIFIED:20260319T154721Z
UID:10003591-1872579600-1872630000@firstchurchofmilford.org
SUMMARY:Explore and Play! Weekly Playgroup
DESCRIPTION:
URL:https://firstchurchofmilford.org/event/explore-and-play-weekly-playgroup-2-2/2029-05-04/
END:VEVENT
BEGIN:VEVENT
DTSTART;TZID=America/New_York:20290511T090000
DTEND;TZID=America/New_York:20290511T230000
DTSTAMP:20260425T172222
CREATED:20260319T154721Z
LAST-MODIFIED:20260319T154721Z
UID:10003592-1873184400-1873234800@firstchurchofmilford.org
SUMMARY:Explore and Play! Weekly Playgroup
DESCRIPTION:
URL:https://firstchurchofmilford.org/event/explore-and-play-weekly-playgroup-2-2/2029-05-11/
END:VEVENT
BEGIN:VEVENT
DTSTART;TZID=America/New_York:20290518T090000
DTEND;TZID=America/New_York:20290518T230000
DTSTAMP:20260425T172222
CREATED:20260319T154721Z
LAST-MODIFIED:20260319T154721Z
UID:10003593-1873789200-1873839600@firstchurchofmilford.org
SUMMARY:Explore and Play! Weekly Playgroup
DESCRIPTION:
URL:https://firstchurchofmilford.org/event/explore-and-play-weekly-playgroup-2-2/2029-05-18/
END:VEVENT
BEGIN:VEVENT
DTSTART;TZID=America/New_York:20290525T090000
DTEND;TZID=America/New_York:20290525T230000
DTSTAMP:20260425T172222
CREATED:20260319T154721Z
LAST-MODIFIED:20260319T154721Z
UID:10003594-1874394000-1874444400@firstchurchofmilford.org
SUMMARY:Explore and Play! Weekly Playgroup
DESCRIPTION:
URL:https://firstchurchofmilford.org/event/explore-and-play-weekly-playgroup-2-2/2029-05-25/
END:VEVENT
BEGIN:VEVENT
DTSTART;TZID=America/New_York:20290601T090000
DTEND;TZID=America/New_York:20290601T230000
DTSTAMP:20260425T172222
CREATED:20260319T154721Z
LAST-MODIFIED:20260319T154721Z
UID:10003595-1874998800-1875049200@firstchurchofmilford.org
SUMMARY:Explore and Play! Weekly Playgroup
DESCRIPTION:
URL:https://firstchurchofmilford.org/event/explore-and-play-weekly-playgroup-2-2/2029-06-01/
END:VEVENT
END:VCALENDAR