BEGIN:VCALENDAR
VERSION:2.0
PRODID:-//First United Church of Christ in Milford - ECPv6.15.17.1//NONSGML v1.0//EN
CALSCALE:GREGORIAN
METHOD:PUBLISH
X-WR-CALNAME:First United Church of Christ in Milford
X-ORIGINAL-URL:https://firstchurchofmilford.org
X-WR-CALDESC:Events for First United Church of Christ in Milford
REFRESH-INTERVAL;VALUE=DURATION:PT1H
X-Robots-Tag:noindex
X-PUBLISHED-TTL:PT1H
BEGIN:VTIMEZONE
TZID:America/New_York
BEGIN:DAYLIGHT
TZOFFSETFROM:-0500
TZOFFSETTO:-0400
TZNAME:EDT
DTSTART:20270314T070000
END:DAYLIGHT
BEGIN:STANDARD
TZOFFSETFROM:-0400
TZOFFSETTO:-0500
TZNAME:EST
DTSTART:20271107T060000
END:STANDARD
BEGIN:DAYLIGHT
TZOFFSETFROM:-0500
TZOFFSETTO:-0400
TZNAME:EDT
DTSTART:20280312T070000
END:DAYLIGHT
BEGIN:STANDARD
TZOFFSETFROM:-0400
TZOFFSETTO:-0500
TZNAME:EST
DTSTART:20281105T060000
END:STANDARD
BEGIN:DAYLIGHT
TZOFFSETFROM:-0500
TZOFFSETTO:-0400
TZNAME:EDT
DTSTART:20290311T070000
END:DAYLIGHT
BEGIN:STANDARD
TZOFFSETFROM:-0400
TZOFFSETTO:-0500
TZNAME:EST
DTSTART:20291104T060000
END:STANDARD
BEGIN:DAYLIGHT
TZOFFSETFROM:-0500
TZOFFSETTO:-0400
TZNAME:EDT
DTSTART:20300310T070000
END:DAYLIGHT
BEGIN:STANDARD
TZOFFSETFROM:-0400
TZOFFSETTO:-0500
TZNAME:EST
DTSTART:20301103T060000
END:STANDARD
END:VTIMEZONE
BEGIN:VEVENT
DTSTART;TZID=America/New_York:20280809T183000
DTEND;TZID=America/New_York:20280809T193000
DTSTAMP:20260421T103618
CREATED:20251010T195242Z
LAST-MODIFIED:20260226T164451Z
UID:10005384-1849458600-1849462200@firstchurchofmilford.org
SUMMARY:Adult Choir
DESCRIPTION:
URL:https://firstchurchofmilford.org/event/adult-choir-2/2028-08-09/
LOCATION:Choir Room
END:VEVENT
BEGIN:VEVENT
DTSTART;TZID=America/New_York:20280816T183000
DTEND;TZID=America/New_York:20280816T193000
DTSTAMP:20260421T103618
CREATED:20251010T195242Z
LAST-MODIFIED:20260226T164451Z
UID:10005385-1850063400-1850067000@firstchurchofmilford.org
SUMMARY:Adult Choir
DESCRIPTION:
URL:https://firstchurchofmilford.org/event/adult-choir-2/2028-08-16/
LOCATION:Choir Room
END:VEVENT
BEGIN:VEVENT
DTSTART;TZID=America/New_York:20280823T183000
DTEND;TZID=America/New_York:20280823T193000
DTSTAMP:20260421T103618
CREATED:20251010T195242Z
LAST-MODIFIED:20260226T164451Z
UID:10005386-1850668200-1850671800@firstchurchofmilford.org
SUMMARY:Adult Choir
DESCRIPTION:
URL:https://firstchurchofmilford.org/event/adult-choir-2/2028-08-23/
LOCATION:Choir Room
END:VEVENT
BEGIN:VEVENT
DTSTART;TZID=America/New_York:20280830T183000
DTEND;TZID=America/New_York:20280830T193000
DTSTAMP:20260421T103618
CREATED:20251010T195242Z
LAST-MODIFIED:20260226T164451Z
UID:10005387-1851273000-1851276600@firstchurchofmilford.org
SUMMARY:Adult Choir
DESCRIPTION:
URL:https://firstchurchofmilford.org/event/adult-choir-2/2028-08-30/
LOCATION:Choir Room
END:VEVENT
BEGIN:VEVENT
DTSTART;TZID=America/New_York:20280906T183000
DTEND;TZID=America/New_York:20280906T193000
DTSTAMP:20260421T103618
CREATED:20251010T195242Z
LAST-MODIFIED:20260226T164451Z
UID:10005388-1851877800-1851881400@firstchurchofmilford.org
SUMMARY:Adult Choir
DESCRIPTION:
URL:https://firstchurchofmilford.org/event/adult-choir-2/2028-09-06/
LOCATION:Choir Room
END:VEVENT
BEGIN:VEVENT
DTSTART;TZID=America/New_York:20280913T183000
DTEND;TZID=America/New_York:20280913T193000
DTSTAMP:20260421T103618
CREATED:20251010T195242Z
LAST-MODIFIED:20260226T164451Z
UID:10005389-1852482600-1852486200@firstchurchofmilford.org
SUMMARY:Adult Choir
DESCRIPTION:
URL:https://firstchurchofmilford.org/event/adult-choir-2/2028-09-13/
LOCATION:Choir Room
END:VEVENT
BEGIN:VEVENT
DTSTART;TZID=America/New_York:20280920T183000
DTEND;TZID=America/New_York:20280920T193000
DTSTAMP:20260421T103618
CREATED:20251010T195242Z
LAST-MODIFIED:20260226T164451Z
UID:10005390-1853087400-1853091000@firstchurchofmilford.org
SUMMARY:Adult Choir
DESCRIPTION:
URL:https://firstchurchofmilford.org/event/adult-choir-2/2028-09-20/
LOCATION:Choir Room
END:VEVENT
BEGIN:VEVENT
DTSTART;TZID=America/New_York:20280927T183000
DTEND;TZID=America/New_York:20280927T193000
DTSTAMP:20260421T103618
CREATED:20251010T195242Z
LAST-MODIFIED:20260226T164451Z
UID:10005391-1853692200-1853695800@firstchurchofmilford.org
SUMMARY:Adult Choir
DESCRIPTION:
URL:https://firstchurchofmilford.org/event/adult-choir-2/2028-09-27/
LOCATION:Choir Room
END:VEVENT
BEGIN:VEVENT
DTSTART;TZID=America/New_York:20281004T183000
DTEND;TZID=America/New_York:20281004T193000
DTSTAMP:20260421T103618
CREATED:20251010T195242Z
LAST-MODIFIED:20260226T164451Z
UID:10005392-1854297000-1854300600@firstchurchofmilford.org
SUMMARY:Adult Choir
DESCRIPTION:
URL:https://firstchurchofmilford.org/event/adult-choir-2/2028-10-04/
LOCATION:Choir Room
END:VEVENT
BEGIN:VEVENT
DTSTART;TZID=America/New_York:20281011T183000
DTEND;TZID=America/New_York:20281011T193000
DTSTAMP:20260421T103618
CREATED:20251010T195242Z
LAST-MODIFIED:20260226T164451Z
UID:10005393-1854901800-1854905400@firstchurchofmilford.org
SUMMARY:Adult Choir
DESCRIPTION:
URL:https://firstchurchofmilford.org/event/adult-choir-2/2028-10-11/
LOCATION:Choir Room
END:VEVENT
BEGIN:VEVENT
DTSTART;TZID=America/New_York:20281018T183000
DTEND;TZID=America/New_York:20281018T193000
DTSTAMP:20260421T103618
CREATED:20251010T195242Z
LAST-MODIFIED:20260226T164451Z
UID:10005394-1855506600-1855510200@firstchurchofmilford.org
SUMMARY:Adult Choir
DESCRIPTION:
URL:https://firstchurchofmilford.org/event/adult-choir-2/2028-10-18/
LOCATION:Choir Room
END:VEVENT
BEGIN:VEVENT
DTSTART;TZID=America/New_York:20281025T183000
DTEND;TZID=America/New_York:20281025T193000
DTSTAMP:20260421T103618
CREATED:20251010T195242Z
LAST-MODIFIED:20260226T164451Z
UID:10005395-1856111400-1856115000@firstchurchofmilford.org
SUMMARY:Adult Choir
DESCRIPTION:
URL:https://firstchurchofmilford.org/event/adult-choir-2/2028-10-25/
LOCATION:Choir Room
END:VEVENT
BEGIN:VEVENT
DTSTART;TZID=America/New_York:20281101T183000
DTEND;TZID=America/New_York:20281101T193000
DTSTAMP:20260421T103618
CREATED:20251010T195242Z
LAST-MODIFIED:20260226T164451Z
UID:10005396-1856716200-1856719800@firstchurchofmilford.org
SUMMARY:Adult Choir
DESCRIPTION:
URL:https://firstchurchofmilford.org/event/adult-choir-2/2028-11-01/
LOCATION:Choir Room
END:VEVENT
BEGIN:VEVENT
DTSTART;TZID=America/New_York:20281108T183000
DTEND;TZID=America/New_York:20281108T193000
DTSTAMP:20260421T103618
CREATED:20251010T195242Z
LAST-MODIFIED:20260226T164451Z
UID:10005397-1857321000-1857324600@firstchurchofmilford.org
SUMMARY:Adult Choir
DESCRIPTION:
URL:https://firstchurchofmilford.org/event/adult-choir-2/2028-11-08/
LOCATION:Choir Room
END:VEVENT
BEGIN:VEVENT
DTSTART;TZID=America/New_York:20281115T183000
DTEND;TZID=America/New_York:20281115T193000
DTSTAMP:20260421T103618
CREATED:20251010T195242Z
LAST-MODIFIED:20260226T164451Z
UID:10005398-1857925800-1857929400@firstchurchofmilford.org
SUMMARY:Adult Choir
DESCRIPTION:
URL:https://firstchurchofmilford.org/event/adult-choir-2/2028-11-15/
LOCATION:Choir Room
END:VEVENT
BEGIN:VEVENT
DTSTART;TZID=America/New_York:20281122T183000
DTEND;TZID=America/New_York:20281122T193000
DTSTAMP:20260421T103618
CREATED:20251010T195242Z
LAST-MODIFIED:20260226T164451Z
UID:10005399-1858530600-1858534200@firstchurchofmilford.org
SUMMARY:Adult Choir
DESCRIPTION:
URL:https://firstchurchofmilford.org/event/adult-choir-2/2028-11-22/
LOCATION:Choir Room
END:VEVENT
BEGIN:VEVENT
DTSTART;TZID=America/New_York:20281129T183000
DTEND;TZID=America/New_York:20281129T193000
DTSTAMP:20260421T103618
CREATED:20251010T195242Z
LAST-MODIFIED:20260226T164451Z
UID:10005400-1859135400-1859139000@firstchurchofmilford.org
SUMMARY:Adult Choir
DESCRIPTION:
URL:https://firstchurchofmilford.org/event/adult-choir-2/2028-11-29/
LOCATION:Choir Room
END:VEVENT
BEGIN:VEVENT
DTSTART;TZID=America/New_York:20281206T183000
DTEND;TZID=America/New_York:20281206T193000
DTSTAMP:20260421T103618
CREATED:20251010T195242Z
LAST-MODIFIED:20260226T164451Z
UID:10005401-1859740200-1859743800@firstchurchofmilford.org
SUMMARY:Adult Choir
DESCRIPTION:
URL:https://firstchurchofmilford.org/event/adult-choir-2/2028-12-06/
LOCATION:Choir Room
END:VEVENT
BEGIN:VEVENT
DTSTART;TZID=America/New_York:20281213T183000
DTEND;TZID=America/New_York:20281213T193000
DTSTAMP:20260421T103618
CREATED:20251010T195242Z
LAST-MODIFIED:20260226T164451Z
UID:10005402-1860345000-1860348600@firstchurchofmilford.org
SUMMARY:Adult Choir
DESCRIPTION:
URL:https://firstchurchofmilford.org/event/adult-choir-2/2028-12-13/
LOCATION:Choir Room
END:VEVENT
BEGIN:VEVENT
DTSTART;TZID=America/New_York:20281220T183000
DTEND;TZID=America/New_York:20281220T193000
DTSTAMP:20260421T103618
CREATED:20251010T195242Z
LAST-MODIFIED:20260226T164451Z
UID:10005403-1860949800-1860953400@firstchurchofmilford.org
SUMMARY:Adult Choir
DESCRIPTION:
URL:https://firstchurchofmilford.org/event/adult-choir-2/2028-12-20/
LOCATION:Choir Room
END:VEVENT
BEGIN:VEVENT
DTSTART;TZID=America/New_York:20281227T183000
DTEND;TZID=America/New_York:20281227T193000
DTSTAMP:20260421T103618
CREATED:20251010T195242Z
LAST-MODIFIED:20260226T164451Z
UID:10005404-1861554600-1861558200@firstchurchofmilford.org
SUMMARY:Adult Choir
DESCRIPTION:
URL:https://firstchurchofmilford.org/event/adult-choir-2/2028-12-27/
LOCATION:Choir Room
END:VEVENT
BEGIN:VEVENT
DTSTART;TZID=America/New_York:20290103T183000
DTEND;TZID=America/New_York:20290103T193000
DTSTAMP:20260421T103618
CREATED:20251010T195242Z
LAST-MODIFIED:20260226T164451Z
UID:10005405-1862159400-1862163000@firstchurchofmilford.org
SUMMARY:Adult Choir
DESCRIPTION:
URL:https://firstchurchofmilford.org/event/adult-choir-2/2029-01-03/
LOCATION:Choir Room
END:VEVENT
BEGIN:VEVENT
DTSTART;TZID=America/New_York:20290110T183000
DTEND;TZID=America/New_York:20290110T193000
DTSTAMP:20260421T103618
CREATED:20251010T195242Z
LAST-MODIFIED:20260226T164451Z
UID:10005406-1862764200-1862767800@firstchurchofmilford.org
SUMMARY:Adult Choir
DESCRIPTION:
URL:https://firstchurchofmilford.org/event/adult-choir-2/2029-01-10/
LOCATION:Choir Room
END:VEVENT
BEGIN:VEVENT
DTSTART;TZID=America/New_York:20290117T183000
DTEND;TZID=America/New_York:20290117T193000
DTSTAMP:20260421T103618
CREATED:20251010T195242Z
LAST-MODIFIED:20260226T164451Z
UID:10005407-1863369000-1863372600@firstchurchofmilford.org
SUMMARY:Adult Choir
DESCRIPTION:
URL:https://firstchurchofmilford.org/event/adult-choir-2/2029-01-17/
LOCATION:Choir Room
END:VEVENT
BEGIN:VEVENT
DTSTART;TZID=America/New_York:20290124T183000
DTEND;TZID=America/New_York:20290124T193000
DTSTAMP:20260421T103618
CREATED:20251010T195242Z
LAST-MODIFIED:20260226T164451Z
UID:10005408-1863973800-1863977400@firstchurchofmilford.org
SUMMARY:Adult Choir
DESCRIPTION:
URL:https://firstchurchofmilford.org/event/adult-choir-2/2029-01-24/
LOCATION:Choir Room
END:VEVENT
BEGIN:VEVENT
DTSTART;TZID=America/New_York:20290131T183000
DTEND;TZID=America/New_York:20290131T193000
DTSTAMP:20260421T103618
CREATED:20251010T195242Z
LAST-MODIFIED:20260226T164451Z
UID:10005409-1864578600-1864582200@firstchurchofmilford.org
SUMMARY:Adult Choir
DESCRIPTION:
URL:https://firstchurchofmilford.org/event/adult-choir-2/2029-01-31/
LOCATION:Choir Room
END:VEVENT
BEGIN:VEVENT
DTSTART;TZID=America/New_York:20290207T183000
DTEND;TZID=America/New_York:20290207T193000
DTSTAMP:20260421T103618
CREATED:20251010T195242Z
LAST-MODIFIED:20260226T164451Z
UID:10005410-1865183400-1865187000@firstchurchofmilford.org
SUMMARY:Adult Choir
DESCRIPTION:
URL:https://firstchurchofmilford.org/event/adult-choir-2/2029-02-07/
LOCATION:Choir Room
END:VEVENT
BEGIN:VEVENT
DTSTART;TZID=America/New_York:20290214T183000
DTEND;TZID=America/New_York:20290214T193000
DTSTAMP:20260421T103618
CREATED:20251010T195242Z
LAST-MODIFIED:20260226T164451Z
UID:10005411-1865788200-1865791800@firstchurchofmilford.org
SUMMARY:Adult Choir
DESCRIPTION:
URL:https://firstchurchofmilford.org/event/adult-choir-2/2029-02-14/
LOCATION:Choir Room
END:VEVENT
BEGIN:VEVENT
DTSTART;TZID=America/New_York:20290221T183000
DTEND;TZID=America/New_York:20290221T193000
DTSTAMP:20260421T103618
CREATED:20251010T195242Z
LAST-MODIFIED:20260226T164451Z
UID:10005412-1866393000-1866396600@firstchurchofmilford.org
SUMMARY:Adult Choir
DESCRIPTION:
URL:https://firstchurchofmilford.org/event/adult-choir-2/2029-02-21/
LOCATION:Choir Room
END:VEVENT
BEGIN:VEVENT
DTSTART;TZID=America/New_York:20290228T183000
DTEND;TZID=America/New_York:20290228T193000
DTSTAMP:20260421T103618
CREATED:20251010T195242Z
LAST-MODIFIED:20260226T164451Z
UID:10005413-1866997800-1867001400@firstchurchofmilford.org
SUMMARY:Adult Choir
DESCRIPTION:
URL:https://firstchurchofmilford.org/event/adult-choir-2/2029-02-28/
LOCATION:Choir Room
END:VEVENT
END:VCALENDAR