BEGIN:VCALENDAR
VERSION:2.0
PRODID:-//First United Church of Christ in Milford - ECPv6.15.17.1//NONSGML v1.0//EN
CALSCALE:GREGORIAN
METHOD:PUBLISH
X-WR-CALNAME:First United Church of Christ in Milford
X-ORIGINAL-URL:https://firstchurchofmilford.org
X-WR-CALDESC:Events for First United Church of Christ in Milford
REFRESH-INTERVAL;VALUE=DURATION:PT1H
X-Robots-Tag:noindex
X-PUBLISHED-TTL:PT1H
BEGIN:VTIMEZONE
TZID:America/New_York
BEGIN:DAYLIGHT
TZOFFSETFROM:-0500
TZOFFSETTO:-0400
TZNAME:EDT
DTSTART:20240310T070000
END:DAYLIGHT
BEGIN:STANDARD
TZOFFSETFROM:-0400
TZOFFSETTO:-0500
TZNAME:EST
DTSTART:20241103T060000
END:STANDARD
BEGIN:DAYLIGHT
TZOFFSETFROM:-0500
TZOFFSETTO:-0400
TZNAME:EDT
DTSTART:20250309T070000
END:DAYLIGHT
BEGIN:STANDARD
TZOFFSETFROM:-0400
TZOFFSETTO:-0500
TZNAME:EST
DTSTART:20251102T060000
END:STANDARD
BEGIN:DAYLIGHT
TZOFFSETFROM:-0500
TZOFFSETTO:-0400
TZNAME:EDT
DTSTART:20260308T070000
END:DAYLIGHT
BEGIN:STANDARD
TZOFFSETFROM:-0400
TZOFFSETTO:-0500
TZNAME:EST
DTSTART:20261101T060000
END:STANDARD
END:VTIMEZONE
BEGIN:VEVENT
DTSTART;TZID=America/New_York:20251105T183000
DTEND;TZID=America/New_York:20251105T193000
DTSTAMP:20260421T180141
CREATED:20251010T195242Z
LAST-MODIFIED:20260226T164451Z
UID:10005242-1762367400-1762371000@firstchurchofmilford.org
SUMMARY:Adult Choir
DESCRIPTION:
URL:https://firstchurchofmilford.org/event/adult-choir-2/2025-11-05/
LOCATION:Choir Room
END:VEVENT
BEGIN:VEVENT
DTSTART;TZID=America/New_York:20251106T180000
DTEND;TZID=America/New_York:20251106T193000
DTSTAMP:20260421T180141
CREATED:20251002T163255Z
LAST-MODIFIED:20251015T184630Z
UID:10004002-1762452000-1762457400@firstchurchofmilford.org
SUMMARY:Knit Night at First United Church\, Milford
DESCRIPTION:Knit Night meets the First Thursday of each month.  Bring your knitting\, sewing\, crocheting\, scrapbooking\, journaling\, planner…anything that helps you feel creative!  Contact Kelsey DeCarlo with any questions at kgambleucc@gmail.com.
URL:https://firstchurchofmilford.org/event/knit-night-canceled-for-tonight/2025-11-06/
LOCATION:Fellowship Hall\, 34 West Main St\, Milford\, CT\, 06460\, United States
ATTACH;FMTTYPE=image/jpeg:https://firstchurchofmilford.org/wp-content/uploads/2025/10/Knit-night.jpeg
END:VEVENT
BEGIN:VEVENT
DTSTART;TZID=America/New_York:20251106T181500
DTEND;TZID=America/New_York:20251106T190000
DTSTAMP:20260421T180142
CREATED:20251002T163554Z
LAST-MODIFIED:20251218T183551Z
UID:10003950-1762452900-1762455600@firstchurchofmilford.org
SUMMARY:Music Ministry Meeting
DESCRIPTION:
URL:https://firstchurchofmilford.org/event/music-ministry-meeting/2025-11-06/
LOCATION:Choir Room
END:VEVENT
BEGIN:VEVENT
DTSTART;TZID=America/New_York:20251109T080000
DTEND;TZID=America/New_York:20251109T090000
DTSTAMP:20260421T180142
CREATED:20251010T195956Z
LAST-MODIFIED:20251010T195956Z
UID:10000272-1762675200-1762678800@firstchurchofmilford.org
SUMMARY:Chapel Worship
DESCRIPTION:
URL:https://firstchurchofmilford.org/event/worship-chapel-2/2025-11-09/
LOCATION:CT
END:VEVENT
BEGIN:VEVENT
DTSTART;TZID=America/New_York:20251109T100000
DTEND;TZID=America/New_York:20251109T100000
DTSTAMP:20260421T180142
CREATED:20251013T163336Z
LAST-MODIFIED:20251013T163337Z
UID:10002888-1762682400-1762682400@firstchurchofmilford.org
SUMMARY:Sanctuary Worship
DESCRIPTION:Sanctuary Worship is the heart of Sunday life at First UCC of Milford. Held in the historic Meetinghouse\, this service brings our congregation together in a joyful blend of scripture\, prayer\, preaching\, and music led by our choirs. \nChildren are welcomed with a special message before heading to Sunday School during the school year\, and nursery care is available for infants and toddlers. The service often includes baptisms\, mission presentations\, and celebrations of the Lord’s Supper on the first Sunday of the month. \nFollowing worship\, everyone is invited to Coffee Hour in Fellowship Hall\, where friendships are formed and the life of the church continues in conversation and community. \nWhether you are a lifelong churchgoer or exploring faith for the first time\, Sanctuary Worship offers a place to experience God’s love and find belonging.
URL:https://firstchurchofmilford.org/event/worship-sanctuary-2/2025-11-09/
LOCATION:Meetinghouse Sanctuary\, 34 West Main Street\, Mildford\, CT\, 06460\, United States
ATTACH;FMTTYPE=image/webp:https://firstchurchofmilford.org/wp-content/uploads/2025/09/450b6d72-3ee6-4886-8346-11b3157ad6e5.webp
END:VEVENT
END:VCALENDAR