BEGIN:VCALENDAR
VERSION:2.0
PRODID:-//First United Church of Christ in Milford - ECPv6.15.17.1//NONSGML v1.0//EN
CALSCALE:GREGORIAN
METHOD:PUBLISH
X-WR-CALNAME:First United Church of Christ in Milford
X-ORIGINAL-URL:https://firstchurchofmilford.org
X-WR-CALDESC:Events for First United Church of Christ in Milford
REFRESH-INTERVAL;VALUE=DURATION:PT1H
X-Robots-Tag:noindex
X-PUBLISHED-TTL:PT1H
BEGIN:VTIMEZONE
TZID:America/New_York
BEGIN:DAYLIGHT
TZOFFSETFROM:-0500
TZOFFSETTO:-0400
TZNAME:EDT
DTSTART:20250309T070000
END:DAYLIGHT
BEGIN:STANDARD
TZOFFSETFROM:-0400
TZOFFSETTO:-0500
TZNAME:EST
DTSTART:20251102T060000
END:STANDARD
BEGIN:DAYLIGHT
TZOFFSETFROM:-0500
TZOFFSETTO:-0400
TZNAME:EDT
DTSTART:20260308T070000
END:DAYLIGHT
BEGIN:STANDARD
TZOFFSETFROM:-0400
TZOFFSETTO:-0500
TZNAME:EST
DTSTART:20261101T060000
END:STANDARD
BEGIN:DAYLIGHT
TZOFFSETFROM:-0500
TZOFFSETTO:-0400
TZNAME:EDT
DTSTART:20270314T070000
END:DAYLIGHT
BEGIN:STANDARD
TZOFFSETFROM:-0400
TZOFFSETTO:-0500
TZNAME:EST
DTSTART:20271107T060000
END:STANDARD
END:VTIMEZONE
BEGIN:VEVENT
DTSTART;TZID=America/New_York:20260526T181500
DTEND;TZID=America/New_York:20260526T191000
DTSTAMP:20260424T121128
CREATED:20251204T190200Z
LAST-MODIFIED:20251204T190729Z
UID:10002129-1779819300-1779822600@firstchurchofmilford.org
SUMMARY:Meetinghouse Ringers
DESCRIPTION:
URL:https://firstchurchofmilford.org/event/meetinghouse-ringers-2/2026-05-26/
END:VEVENT
BEGIN:VEVENT
DTSTART;TZID=America/New_York:20260526T191000
DTEND;TZID=America/New_York:20260526T193000
DTSTAMP:20260424T121128
CREATED:20251204T190310Z
LAST-MODIFIED:20251204T205427Z
UID:10001868-1779822600-1779823800@firstchurchofmilford.org
SUMMARY:Chapel Ringers
DESCRIPTION:
URL:https://firstchurchofmilford.org/event/chapel-ringers-2/2026-05-26/
END:VEVENT
BEGIN:VEVENT
DTSTART;TZID=America/New_York:20260527T100000
DTEND;TZID=America/New_York:20260527T120000
DTSTAMP:20260424T121128
CREATED:20251010T195441Z
LAST-MODIFIED:20251010T195442Z
UID:10002390-1779876000-1779883200@firstchurchofmilford.org
SUMMARY:Women’s Fellowship
DESCRIPTION:
URL:https://firstchurchofmilford.org/event/womens-fellowship-2/2026-05-27/
END:VEVENT
BEGIN:VEVENT
DTSTART;TZID=America/New_York:20260527T183000
DTEND;TZID=America/New_York:20260527T193000
DTSTAMP:20260424T121128
CREATED:20251010T195242Z
LAST-MODIFIED:20260226T164451Z
UID:10005269-1779906600-1779910200@firstchurchofmilford.org
SUMMARY:Adult Choir
DESCRIPTION:
URL:https://firstchurchofmilford.org/event/adult-choir-2/2026-05-27/
LOCATION:Choir Room
END:VEVENT
BEGIN:VEVENT
DTSTART;TZID=America/New_York:20260527T193000
DTEND;TZID=America/New_York:20260527T210000
DTSTAMP:20260424T121128
CREATED:20260226T164951Z
LAST-MODIFIED:20260226T170232Z
UID:10005530-1779910200-1779915600@firstchurchofmilford.org
SUMMARY:Meetinghouse Chorale
DESCRIPTION:
URL:https://firstchurchofmilford.org/event/meetinghouse-chorale/2026-05-27/
END:VEVENT
BEGIN:VEVENT
DTSTART;TZID=America/New_York:20260529T090000
DTEND;TZID=America/New_York:20260529T230000
DTSTAMP:20260424T121128
CREATED:20260319T154721Z
LAST-MODIFIED:20260319T154721Z
UID:10003438-1780045200-1780095600@firstchurchofmilford.org
SUMMARY:Explore and Play! Weekly Playgroup
DESCRIPTION:
URL:https://firstchurchofmilford.org/event/explore-and-play-weekly-playgroup-2-2/2026-05-29/
END:VEVENT
BEGIN:VEVENT
DTSTART;TZID=America/New_York:20260531T080000
DTEND;TZID=America/New_York:20260531T090000
DTSTAMP:20260424T121128
CREATED:20260226T183121Z
LAST-MODIFIED:20260226T190642Z
UID:10000301-1780214400-1780218000@firstchurchofmilford.org
SUMMARY:Chapel Worship
DESCRIPTION:
URL:https://firstchurchofmilford.org/event/worship-chapel-2-3/2026-05-31/
END:VEVENT
BEGIN:VEVENT
DTSTART;TZID=America/New_York:20260531T100000
DTEND;TZID=America/New_York:20260531T110000
DTSTAMP:20260424T121128
CREATED:20260416T153418Z
LAST-MODIFIED:20260416T153419Z
UID:10005882-1780221600-1780225200@firstchurchofmilford.org
SUMMARY:First Church Music Celebration Sunday
DESCRIPTION:
URL:https://firstchurchofmilford.org/event/first-church-music-celebration-sunday/
LOCATION:Meetinghouse Sanctuary\, 34 West Main Street\, Mildford\, CT\, 06460\, United States
ATTACH;FMTTYPE=image/jpeg:https://firstchurchofmilford.org/wp-content/uploads/2026/04/Music-Sunday-scaled.jpg
END:VEVENT
BEGIN:VEVENT
DTSTART;TZID=America/New_York:20260602T100000
DTEND;TZID=America/New_York:20260602T140000
DTSTAMP:20260424T121128
CREATED:20250917T113052Z
LAST-MODIFIED:20250917T115320Z
UID:10001608-1780394400-1780408800@firstchurchofmilford.org
SUMMARY:First Church Food Pantry
DESCRIPTION:
URL:https://firstchurchofmilford.org/event/first-church-food-pantry/2026-06-02/
END:VEVENT
BEGIN:VEVENT
DTSTART;TZID=America/New_York:20260602T181500
DTEND;TZID=America/New_York:20260602T191000
DTSTAMP:20260424T121128
CREATED:20251204T190200Z
LAST-MODIFIED:20251204T190729Z
UID:10002130-1780424100-1780427400@firstchurchofmilford.org
SUMMARY:Meetinghouse Ringers
DESCRIPTION:
URL:https://firstchurchofmilford.org/event/meetinghouse-ringers-2/2026-06-02/
END:VEVENT
BEGIN:VEVENT
DTSTART;TZID=America/New_York:20260602T191000
DTEND;TZID=America/New_York:20260602T193000
DTSTAMP:20260424T121128
CREATED:20251204T190310Z
LAST-MODIFIED:20251204T205427Z
UID:10001869-1780427400-1780428600@firstchurchofmilford.org
SUMMARY:Chapel Ringers
DESCRIPTION:
URL:https://firstchurchofmilford.org/event/chapel-ringers-2/2026-06-02/
END:VEVENT
BEGIN:VEVENT
DTSTART;TZID=America/New_York:20260603T100000
DTEND;TZID=America/New_York:20260603T120000
DTSTAMP:20260424T121128
CREATED:20251010T195441Z
LAST-MODIFIED:20251010T195442Z
UID:10002391-1780480800-1780488000@firstchurchofmilford.org
SUMMARY:Women’s Fellowship
DESCRIPTION:
URL:https://firstchurchofmilford.org/event/womens-fellowship-2/2026-06-03/
END:VEVENT
BEGIN:VEVENT
DTSTART;TZID=America/New_York:20260603T183000
DTEND;TZID=America/New_York:20260603T193000
DTSTAMP:20260424T121128
CREATED:20251010T195242Z
LAST-MODIFIED:20260226T164451Z
UID:10005270-1780511400-1780515000@firstchurchofmilford.org
SUMMARY:Adult Choir
DESCRIPTION:
URL:https://firstchurchofmilford.org/event/adult-choir-2/2026-06-03/
LOCATION:Choir Room
END:VEVENT
BEGIN:VEVENT
DTSTART;TZID=America/New_York:20260603T193000
DTEND;TZID=America/New_York:20260603T210000
DTSTAMP:20260424T121128
CREATED:20260226T164951Z
LAST-MODIFIED:20260226T170232Z
UID:10005531-1780515000-1780520400@firstchurchofmilford.org
SUMMARY:Meetinghouse Chorale
DESCRIPTION:
URL:https://firstchurchofmilford.org/event/meetinghouse-chorale/2026-06-03/
END:VEVENT
BEGIN:VEVENT
DTSTART;TZID=America/New_York:20260604T180000
DTEND;TZID=America/New_York:20260604T193000
DTSTAMP:20260424T121128
CREATED:20251206T191046Z
LAST-MODIFIED:20260226T163425Z
UID:10004009-1780596000-1780601400@firstchurchofmilford.org
SUMMARY:Knit Night at First United Church\, Milford
DESCRIPTION:Knit Night meets the First Thursday of each month.  Bring your knitting\, sewing\, crocheting\, scrapbooking\, journaling\, planner…anything that helps you feel creative!  Contact Kelsey DeCarlo with any questions at kgambleucc@gmail.com.
URL:https://firstchurchofmilford.org/event/knit-night-canceled-for-tonight-2/2026-06-04/
LOCATION:Fellowship Hall\, 34 West Main St\, Milford\, CT\, 06460\, United States
ATTACH;FMTTYPE=image/jpeg:https://firstchurchofmilford.org/wp-content/uploads/2025/10/Knit-night.jpeg
END:VEVENT
BEGIN:VEVENT
DTSTART;TZID=America/New_York:20260605T090000
DTEND;TZID=America/New_York:20260605T230000
DTSTAMP:20260424T121128
CREATED:20260319T154721Z
LAST-MODIFIED:20260319T154721Z
UID:10003439-1780650000-1780700400@firstchurchofmilford.org
SUMMARY:Explore and Play! Weekly Playgroup
DESCRIPTION:
URL:https://firstchurchofmilford.org/event/explore-and-play-weekly-playgroup-2-2/2026-06-05/
END:VEVENT
END:VCALENDAR