BEGIN:VCALENDAR
VERSION:2.0
PRODID:-//First United Church of Christ in Milford - ECPv6.15.17.1//NONSGML v1.0//EN
CALSCALE:GREGORIAN
METHOD:PUBLISH
X-WR-CALNAME:First United Church of Christ in Milford
X-ORIGINAL-URL:https://firstchurchofmilford.org
X-WR-CALDESC:Events for First United Church of Christ in Milford
REFRESH-INTERVAL;VALUE=DURATION:PT1H
X-Robots-Tag:noindex
X-PUBLISHED-TTL:PT1H
BEGIN:VTIMEZONE
TZID:America/New_York
BEGIN:DAYLIGHT
TZOFFSETFROM:-0500
TZOFFSETTO:-0400
TZNAME:EDT
DTSTART:20260308T070000
END:DAYLIGHT
BEGIN:STANDARD
TZOFFSETFROM:-0400
TZOFFSETTO:-0500
TZNAME:EST
DTSTART:20261101T060000
END:STANDARD
BEGIN:DAYLIGHT
TZOFFSETFROM:-0500
TZOFFSETTO:-0400
TZNAME:EDT
DTSTART:20270314T070000
END:DAYLIGHT
BEGIN:STANDARD
TZOFFSETFROM:-0400
TZOFFSETTO:-0500
TZNAME:EST
DTSTART:20271107T060000
END:STANDARD
BEGIN:DAYLIGHT
TZOFFSETFROM:-0500
TZOFFSETTO:-0400
TZNAME:EDT
DTSTART:20280312T070000
END:DAYLIGHT
BEGIN:STANDARD
TZOFFSETFROM:-0400
TZOFFSETTO:-0500
TZNAME:EST
DTSTART:20281105T060000
END:STANDARD
END:VTIMEZONE
BEGIN:VEVENT
DTSTART;TZID=America/New_York:20270112T100000
DTEND;TZID=America/New_York:20270112T140000
DTSTAMP:20260424T091859
CREATED:20250917T113052Z
LAST-MODIFIED:20250917T115320Z
UID:10001640-1799748000-1799762400@firstchurchofmilford.org
SUMMARY:First Church Food Pantry
DESCRIPTION:
URL:https://firstchurchofmilford.org/event/first-church-food-pantry/2027-01-12/
END:VEVENT
BEGIN:VEVENT
DTSTART;TZID=America/New_York:20270112T181500
DTEND;TZID=America/New_York:20270112T191000
DTSTAMP:20260424T091859
CREATED:20251204T190200Z
LAST-MODIFIED:20251204T190729Z
UID:10002162-1799777700-1799781000@firstchurchofmilford.org
SUMMARY:Meetinghouse Ringers
DESCRIPTION:
URL:https://firstchurchofmilford.org/event/meetinghouse-ringers-2/2027-01-12/
END:VEVENT
BEGIN:VEVENT
DTSTART;TZID=America/New_York:20270112T190000
DTEND;TZID=America/New_York:20270112T203000
DTSTAMP:20260424T091859
CREATED:20251002T165546Z
LAST-MODIFIED:20260226T164155Z
UID:10004631-1799780400-1799785800@firstchurchofmilford.org
SUMMARY:Trustees Ministry Meeting
DESCRIPTION:
URL:https://firstchurchofmilford.org/event/trustees-ministry-meeting/2027-01-12/
LOCATION:Church Library\, 34 West Main St\, Milford\, CT\, 06460\, United States
END:VEVENT
BEGIN:VEVENT
DTSTART;TZID=America/New_York:20270112T191000
DTEND;TZID=America/New_York:20270112T193000
DTSTAMP:20260424T091859
CREATED:20251204T190310Z
LAST-MODIFIED:20251204T205427Z
UID:10001901-1799781000-1799782200@firstchurchofmilford.org
SUMMARY:Chapel Ringers
DESCRIPTION:
URL:https://firstchurchofmilford.org/event/chapel-ringers-2/2027-01-12/
END:VEVENT
END:VCALENDAR