BEGIN:VCALENDAR
VERSION:2.0
PRODID:-//First United Church of Christ in Milford - ECPv6.15.17.1//NONSGML v1.0//EN
CALSCALE:GREGORIAN
METHOD:PUBLISH
X-ORIGINAL-URL:https://firstchurchofmilford.org
X-WR-CALDESC:Events for First United Church of Christ in Milford
REFRESH-INTERVAL;VALUE=DURATION:PT1H
X-Robots-Tag:noindex
X-PUBLISHED-TTL:PT1H
BEGIN:VTIMEZONE
TZID:America/New_York
BEGIN:DAYLIGHT
TZOFFSETFROM:-0500
TZOFFSETTO:-0400
TZNAME:EDT
DTSTART:20250309T070000
END:DAYLIGHT
BEGIN:STANDARD
TZOFFSETFROM:-0400
TZOFFSETTO:-0500
TZNAME:EST
DTSTART:20251102T060000
END:STANDARD
BEGIN:DAYLIGHT
TZOFFSETFROM:-0500
TZOFFSETTO:-0400
TZNAME:EDT
DTSTART:20260308T070000
END:DAYLIGHT
BEGIN:STANDARD
TZOFFSETFROM:-0400
TZOFFSETTO:-0500
TZNAME:EST
DTSTART:20261101T060000
END:STANDARD
BEGIN:DAYLIGHT
TZOFFSETFROM:-0500
TZOFFSETTO:-0400
TZNAME:EDT
DTSTART:20270314T070000
END:DAYLIGHT
BEGIN:STANDARD
TZOFFSETFROM:-0400
TZOFFSETTO:-0500
TZNAME:EST
DTSTART:20271107T060000
END:STANDARD
END:VTIMEZONE
BEGIN:VEVENT
DTSTART;TZID=America/New_York:20260908T100000
DTEND;TZID=America/New_York:20260908T140000
DTSTAMP:20260420T091955
CREATED:20250917T113052Z
LAST-MODIFIED:20250917T115320Z
UID:10001622-1788861600-1788876000@firstchurchofmilford.org
SUMMARY:First Church Food Pantry
DESCRIPTION:
URL:https://firstchurchofmilford.org/event/first-church-food-pantry/2026-09-08/
END:VEVENT
BEGIN:VEVENT
DTSTART;TZID=America/New_York:20260908T181500
DTEND;TZID=America/New_York:20260908T191000
DTSTAMP:20260420T091955
CREATED:20251204T190200Z
LAST-MODIFIED:20251204T190729Z
UID:10002144-1788891300-1788894600@firstchurchofmilford.org
SUMMARY:Meetinghouse Ringers
DESCRIPTION:
URL:https://firstchurchofmilford.org/event/meetinghouse-ringers-2/2026-09-08/
END:VEVENT
BEGIN:VEVENT
DTSTART;TZID=America/New_York:20260908T190000
DTEND;TZID=America/New_York:20260908T203000
DTSTAMP:20260420T091955
CREATED:20251002T165546Z
LAST-MODIFIED:20260226T164155Z
UID:10004627-1788894000-1788899400@firstchurchofmilford.org
SUMMARY:Trustees Ministry Meeting
DESCRIPTION:
URL:https://firstchurchofmilford.org/event/trustees-ministry-meeting/2026-09-08/
LOCATION:Church Library\, 34 West Main St\, Milford\, CT\, 06460\, United States
END:VEVENT
BEGIN:VEVENT
DTSTART;TZID=America/New_York:20260908T191000
DTEND;TZID=America/New_York:20260908T193000
DTSTAMP:20260420T091955
CREATED:20251204T190310Z
LAST-MODIFIED:20251204T205427Z
UID:10001883-1788894600-1788895800@firstchurchofmilford.org
SUMMARY:Chapel Ringers
DESCRIPTION:
URL:https://firstchurchofmilford.org/event/chapel-ringers-2/2026-09-08/
END:VEVENT
END:VCALENDAR