BEGIN:VCALENDAR
VERSION:2.0
PRODID:-//First United Church of Christ in Milford - ECPv6.15.17.1//NONSGML v1.0//EN
CALSCALE:GREGORIAN
METHOD:PUBLISH
X-WR-CALNAME:First United Church of Christ in Milford
X-ORIGINAL-URL:https://firstchurchofmilford.org
X-WR-CALDESC:Events for First United Church of Christ in Milford
REFRESH-INTERVAL;VALUE=DURATION:PT1H
X-Robots-Tag:noindex
X-PUBLISHED-TTL:PT1H
BEGIN:VTIMEZONE
TZID:America/New_York
BEGIN:DAYLIGHT
TZOFFSETFROM:-0500
TZOFFSETTO:-0400
TZNAME:EDT
DTSTART:20250309T070000
END:DAYLIGHT
BEGIN:STANDARD
TZOFFSETFROM:-0400
TZOFFSETTO:-0500
TZNAME:EST
DTSTART:20251102T060000
END:STANDARD
BEGIN:DAYLIGHT
TZOFFSETFROM:-0500
TZOFFSETTO:-0400
TZNAME:EDT
DTSTART:20260308T070000
END:DAYLIGHT
BEGIN:STANDARD
TZOFFSETFROM:-0400
TZOFFSETTO:-0500
TZNAME:EST
DTSTART:20261101T060000
END:STANDARD
BEGIN:DAYLIGHT
TZOFFSETFROM:-0500
TZOFFSETTO:-0400
TZNAME:EDT
DTSTART:20270314T070000
END:DAYLIGHT
BEGIN:STANDARD
TZOFFSETFROM:-0400
TZOFFSETTO:-0500
TZNAME:EST
DTSTART:20271107T060000
END:STANDARD
END:VTIMEZONE
BEGIN:VEVENT
DTSTART;TZID=America/New_York:20260421T100000
DTEND;TZID=America/New_York:20260421T140000
DTSTAMP:20260422T055654
CREATED:20250917T113052Z
LAST-MODIFIED:20250917T115320Z
UID:10001602-1776765600-1776780000@firstchurchofmilford.org
SUMMARY:First Church Food Pantry
DESCRIPTION:
URL:https://firstchurchofmilford.org/event/first-church-food-pantry/2026-04-21/
END:VEVENT
BEGIN:VEVENT
DTSTART;TZID=America/New_York:20260421T181500
DTEND;TZID=America/New_York:20260421T191000
DTSTAMP:20260422T055654
CREATED:20251204T190200Z
LAST-MODIFIED:20251204T190729Z
UID:10002124-1776795300-1776798600@firstchurchofmilford.org
SUMMARY:Meetinghouse Ringers
DESCRIPTION:
URL:https://firstchurchofmilford.org/event/meetinghouse-ringers-2/2026-04-21/
END:VEVENT
BEGIN:VEVENT
DTSTART;TZID=America/New_York:20260421T183000
DTEND;TZID=America/New_York:20260421T203000
DTSTAMP:20260422T055654
CREATED:20260416T152036Z
LAST-MODIFIED:20260416T152036Z
UID:10005877-1776796200-1776803400@firstchurchofmilford.org
SUMMARY:Young Adults (20's & 30's) Dinner & Trivia
DESCRIPTION:Arrive at 6:30 PM to get a good seat as we field a team or two for trivia (which starts at 7:00 PM) and enjoy dinner together. \nThe first four people to RSVP at milfordneighbor@gmail.com get $5 to help pay for their dinner! \nAddress: 186 Hillside Avenue\, Milford (there’s public parking on Edgefield Avenue next to the restaurant) \n 
URL:https://firstchurchofmilford.org/event/young-adults-20s-30s-dinner-trivia/
ATTACH;FMTTYPE=image/jpeg:https://firstchurchofmilford.org/wp-content/uploads/2026/04/Young-Adult-Trivia-0421-scaled.jpg
END:VEVENT
BEGIN:VEVENT
DTSTART;TZID=America/New_York:20260421T183000
DTEND;TZID=America/New_York:20260421T203000
DTSTAMP:20260422T055654
CREATED:20260416T154318Z
LAST-MODIFIED:20260416T154318Z
UID:10005890-1776796200-1776803400@firstchurchofmilford.org
SUMMARY:Plymouth Men's Club
DESCRIPTION:The Plymouth Men’s Club is the men’s service association of First Church. Founded in 1944. The PMC is the sponsor of Boy Scout Troop #1 and Cub Scout Pack #7 and meets monthly on the third Tuesday for dinner and fellowship at Athenian Diner in Milford. Men of all ages are invited.
URL:https://firstchurchofmilford.org/event/plymouth-mens-club-2/2026-04-21/
LOCATION:Athenian Diner\, Milford
END:VEVENT
BEGIN:VEVENT
DTSTART;TZID=America/New_York:20260421T191000
DTEND;TZID=America/New_York:20260421T193000
DTSTAMP:20260422T055654
CREATED:20251204T190310Z
LAST-MODIFIED:20251204T205427Z
UID:10001863-1776798600-1776799800@firstchurchofmilford.org
SUMMARY:Chapel Ringers
DESCRIPTION:
URL:https://firstchurchofmilford.org/event/chapel-ringers-2/2026-04-21/
END:VEVENT
END:VCALENDAR