BEGIN:VCALENDAR
VERSION:2.0
PRODID:-//First United Church of Christ in Milford - ECPv6.15.17.1//NONSGML v1.0//EN
CALSCALE:GREGORIAN
METHOD:PUBLISH
X-WR-CALNAME:First United Church of Christ in Milford
X-ORIGINAL-URL:https://firstchurchofmilford.org
X-WR-CALDESC:Events for First United Church of Christ in Milford
REFRESH-INTERVAL;VALUE=DURATION:PT1H
X-Robots-Tag:noindex
X-PUBLISHED-TTL:PT1H
BEGIN:VTIMEZONE
TZID:America/New_York
BEGIN:DAYLIGHT
TZOFFSETFROM:-0500
TZOFFSETTO:-0400
TZNAME:EDT
DTSTART:20240310T070000
END:DAYLIGHT
BEGIN:STANDARD
TZOFFSETFROM:-0400
TZOFFSETTO:-0500
TZNAME:EST
DTSTART:20241103T060000
END:STANDARD
BEGIN:DAYLIGHT
TZOFFSETFROM:-0500
TZOFFSETTO:-0400
TZNAME:EDT
DTSTART:20250309T070000
END:DAYLIGHT
BEGIN:STANDARD
TZOFFSETFROM:-0400
TZOFFSETTO:-0500
TZNAME:EST
DTSTART:20251102T060000
END:STANDARD
BEGIN:DAYLIGHT
TZOFFSETFROM:-0500
TZOFFSETTO:-0400
TZNAME:EDT
DTSTART:20260308T070000
END:DAYLIGHT
BEGIN:STANDARD
TZOFFSETFROM:-0400
TZOFFSETTO:-0500
TZNAME:EST
DTSTART:20261101T060000
END:STANDARD
END:VTIMEZONE
BEGIN:VEVENT
DTSTART;TZID=America/New_York:20251125T100000
DTEND;TZID=America/New_York:20251125T140000
DTSTAMP:20260422T225001
CREATED:20250917T113052Z
LAST-MODIFIED:20250917T115320Z
UID:10001581-1764064800-1764079200@firstchurchofmilford.org
SUMMARY:First Church Food Pantry
DESCRIPTION:
URL:https://firstchurchofmilford.org/event/first-church-food-pantry/2025-11-25/
END:VEVENT
BEGIN:VEVENT
DTSTART;TZID=America/New_York:20251125T181500
DTEND;TZID=America/New_York:20251125T191000
DTSTAMP:20260422T225001
CREATED:20250917T113230Z
LAST-MODIFIED:20250917T115259Z
UID:10002103-1764094500-1764097800@firstchurchofmilford.org
SUMMARY:Meetinghouse Ringers
DESCRIPTION:
URL:https://firstchurchofmilford.org/event/meetinghouse-ringers/2025-11-25/
END:VEVENT
BEGIN:VEVENT
DTSTART;TZID=America/New_York:20251125T190000
DTEND;TZID=America/New_York:20251125T200000
DTSTAMP:20260422T225001
CREATED:20251010T195631Z
LAST-MODIFIED:20251016T155141Z
UID:10003982-1764097200-1764100800@firstchurchofmilford.org
SUMMARY:Milford Community Thanksgiving Worship Service
DESCRIPTION:
URL:https://firstchurchofmilford.org/event/thanksgiving-worship-service/
LOCATION:Meetinghouse Sanctuary\, 34 West Main Street\, Mildford\, CT\, 06460\, United States
ATTACH;FMTTYPE=image/jpeg:https://firstchurchofmilford.org/wp-content/uploads/2025/10/Community-Thanksgiving-Flyer-2025-1-scaled.jpg
END:VEVENT
BEGIN:VEVENT
DTSTART;TZID=America/New_York:20251125T191000
DTEND;TZID=America/New_York:20251125T193000
DTSTAMP:20260422T225001
CREATED:20250917T113323Z
LAST-MODIFIED:20250917T113550Z
UID:10001842-1764097800-1764099000@firstchurchofmilford.org
SUMMARY:Chapel Ringers
DESCRIPTION:
URL:https://firstchurchofmilford.org/event/chapel-ringers/2025-11-25/
END:VEVENT
END:VCALENDAR