BEGIN:VCALENDAR
VERSION:2.0
PRODID:-//First United Church of Christ in Milford - ECPv6.15.17.1//NONSGML v1.0//EN
CALSCALE:GREGORIAN
METHOD:PUBLISH
X-ORIGINAL-URL:https://firstchurchofmilford.org
X-WR-CALDESC:Events for First United Church of Christ in Milford
REFRESH-INTERVAL;VALUE=DURATION:PT1H
X-Robots-Tag:noindex
X-PUBLISHED-TTL:PT1H
BEGIN:VTIMEZONE
TZID:America/New_York
BEGIN:DAYLIGHT
TZOFFSETFROM:-0500
TZOFFSETTO:-0400
TZNAME:EDT
DTSTART:20240310T070000
END:DAYLIGHT
BEGIN:STANDARD
TZOFFSETFROM:-0400
TZOFFSETTO:-0500
TZNAME:EST
DTSTART:20241103T060000
END:STANDARD
BEGIN:DAYLIGHT
TZOFFSETFROM:-0500
TZOFFSETTO:-0400
TZNAME:EDT
DTSTART:20250309T070000
END:DAYLIGHT
BEGIN:STANDARD
TZOFFSETFROM:-0400
TZOFFSETTO:-0500
TZNAME:EST
DTSTART:20251102T060000
END:STANDARD
BEGIN:DAYLIGHT
TZOFFSETFROM:-0500
TZOFFSETTO:-0400
TZNAME:EDT
DTSTART:20260308T070000
END:DAYLIGHT
BEGIN:STANDARD
TZOFFSETFROM:-0400
TZOFFSETTO:-0500
TZNAME:EST
DTSTART:20261101T060000
END:STANDARD
END:VTIMEZONE
BEGIN:VEVENT
DTSTART;TZID=America/New_York:20251022T100000
DTEND;TZID=America/New_York:20251022T120000
DTSTAMP:20260422T161139
CREATED:20251010T195441Z
LAST-MODIFIED:20251010T195442Z
UID:10002359-1761127200-1761134400@firstchurchofmilford.org
SUMMARY:Women’s Fellowship
DESCRIPTION:
URL:https://firstchurchofmilford.org/event/womens-fellowship-2/2025-10-22/
END:VEVENT
BEGIN:VEVENT
DTSTART;TZID=America/New_York:20251022T180000
DTEND;TZID=America/New_York:20251022T193000
DTSTAMP:20260422T161139
CREATED:20251002T165223Z
LAST-MODIFIED:20251010T194539Z
UID:10003959-1761156000-1761161400@firstchurchofmilford.org
SUMMARY:Ladies of a Certain Age
DESCRIPTION:Let’s Get Together Again! \nOctober 22\, 2025 at 6:00 p.m. \nWe’ve outgrown our space at Panera\, so this time let’s gather on the Milford Green by the Gazebo! (weather permitting!) \nBring a chair\, your dinner\, and a beverage. Come hang out with old friends and new. \nWe’ll share stories\, food\, and plenty of laughter. No agenda\, no pressure\, just a chance to relax\, reconnect and enjoy each other’s company. \nPlease contact Michele Steinlauf by text (preferable) or phone if you have any questions. (203) 258-8182 \nHope to see you there!
URL:https://firstchurchofmilford.org/event/ladies-of-a-certain-age/
LOCATION:Milford Green
END:VEVENT
BEGIN:VEVENT
DTSTART;TZID=America/New_York:20251022T183000
DTEND;TZID=America/New_York:20251022T193000
DTSTAMP:20260422T161139
CREATED:20251010T195242Z
LAST-MODIFIED:20260226T164451Z
UID:10005240-1761157800-1761161400@firstchurchofmilford.org
SUMMARY:Adult Choir
DESCRIPTION:
URL:https://firstchurchofmilford.org/event/adult-choir-2/2025-10-22/
LOCATION:Choir Room
END:VEVENT
END:VCALENDAR